BEGIN:VCALENDAR
VERSION:2.0
PRODID:-//Community Connect Transport - ECPv6.14.2//NONSGML v1.0//EN
CALSCALE:GREGORIAN
METHOD:PUBLISH
X-WR-CALNAME:Community Connect Transport
X-ORIGINAL-URL:https://communityconnect.org.au
X-WR-CALDESC:Events for Community Connect Transport
REFRESH-INTERVAL;VALUE=DURATION:PT1H
X-Robots-Tag:noindex
X-PUBLISHED-TTL:PT1H
BEGIN:VTIMEZONE
TZID:Australia/Sydney
BEGIN:STANDARD
TZOFFSETFROM:+1100
TZOFFSETTO:+1000
TZNAME:AEST
DTSTART:20240406T160000
END:STANDARD
BEGIN:DAYLIGHT
TZOFFSETFROM:+1000
TZOFFSETTO:+1100
TZNAME:AEDT
DTSTART:20241005T160000
END:DAYLIGHT
END:VTIMEZONE
BEGIN:VEVENT
DTSTART;TZID=Australia/Sydney:20240417T100000
DTEND;TZID=Australia/Sydney:20240417T130000
DTSTAMP:20260423T152732
CREATED:20240228T000338Z
LAST-MODIFIED:20240228T000404Z
UID:10000156-1713348000-1713358800@communityconnect.org.au
SUMMARY:Coffee Chat Time - The Moody Chef\, St Leonards
DESCRIPTION:Coffee Chat Time at The Moody Chef\, St Leonards \nCatch up with friends or meet new ones \nTransport only: \n$15.00 CHSP Clients \n$25.00 All Other Clients \n  \nMinimum numbers are required for all out of area trips. Destinations can be subject to change  or cancellation depending on weather or availability to stop at location etc. Only Thursday Social Outings  have a Volunteer on board to assist\, please note Volunteers and Drivers offer limited assistance. Other days are for Independent Travellers and we ask that you bring a mobile phone to ensure we don’t leave you behind on the return trip! If you would like a Carer to accompany you\, you must advise us at the time of booking. For Non-Account and Cash clients pre-payment is required for these bookings.
URL:https://communityconnect.org.au/event/coffee-chat-time-the-moody-chef-st-leonards/
ATTACH;FMTTYPE=image/jpeg:https://communityconnect.org.au/wp-content/uploads/2023/12/Coffee-Chat-Time.jpg
END:VEVENT
END:VCALENDAR