BEGIN:VCALENDAR
VERSION:2.0
PRODID:-//Community Connect Transport - ECPv6.14.2//NONSGML v1.0//EN
CALSCALE:GREGORIAN
METHOD:PUBLISH
X-ORIGINAL-URL:https://communityconnect.org.au
X-WR-CALDESC:Events for Community Connect Transport
REFRESH-INTERVAL;VALUE=DURATION:PT1H
X-Robots-Tag:noindex
X-PUBLISHED-TTL:PT1H
BEGIN:VTIMEZONE
TZID:Australia/Sydney
BEGIN:STANDARD
TZOFFSETFROM:+1100
TZOFFSETTO:+1000
TZNAME:AEST
DTSTART:20240406T160000
END:STANDARD
BEGIN:DAYLIGHT
TZOFFSETFROM:+1000
TZOFFSETTO:+1100
TZNAME:AEDT
DTSTART:20241005T160000
END:DAYLIGHT
END:VTIMEZONE
BEGIN:VEVENT
DTSTART;TZID=Australia/Sydney:20241003T120000
DTEND;TZID=Australia/Sydney:20241003T140000
DTSTAMP:20260423T040016
CREATED:20240828T033215Z
LAST-MODIFIED:20240828T033215Z
UID:10000256-1727956800-1727964000@communityconnect.org.au
SUMMARY:Frankie's Food Factory - Flower Power Glenhaven
DESCRIPTION:Lunch at your own cost at Frankie’s Food Factory inside Flower Power Glenhaven\, and stopping at Swane’s Nursery at Dural \n  \n  \nLunch on site at your own cost – Relax and unwind Frankie’s Food Factory\, enjoy a gourmet twist on lunch favourites with flavours  from across the world to feed your mind\, body and soul; using only the freshest ingredients from local farmers. \nExplore the nurseries & gift shops at your own leisure \nTransport only: \n$30.00 CHSP Clients \n$40.00 All Other Clients \n  \nMinimum numbers are required for all out of area trips. Destinations can be subject to change  or cancellation depending on weather or availability to stop at location etc. Only Thursday Social Outings  have a Volunteer on board to assist\, please note Volunteers and Drivers offer limited assistance. Other days are for Independent Travellers and we ask that you bring a mobile phone to ensure we don’t leave you behind on the return trip! If you would like a Carer to accompany you\, you must advise us at the time of booking. For Non-Account and Cash clients pre-payment is required for these bookings.
URL:https://communityconnect.org.au/event/frankies-food-factory-flower-power-glenhaven/
ATTACH;FMTTYPE=image/jpeg:https://communityconnect.org.au/wp-content/uploads/2024/08/Frankies-Food-Factory-e1724815908561.jpg
END:VEVENT
END:VCALENDAR