BEGIN:VCALENDAR
VERSION:2.0
PRODID:-//Community Connect Transport - ECPv6.14.2//NONSGML v1.0//EN
CALSCALE:GREGORIAN
METHOD:PUBLISH
X-ORIGINAL-URL:https://communityconnect.org.au
X-WR-CALDESC:Events for Community Connect Transport
REFRESH-INTERVAL;VALUE=DURATION:PT1H
X-Robots-Tag:noindex
X-PUBLISHED-TTL:PT1H
BEGIN:VTIMEZONE
TZID:Australia/Sydney
BEGIN:STANDARD
TZOFFSETFROM:+1100
TZOFFSETTO:+1000
TZNAME:AEST
DTSTART:20250405T160000
END:STANDARD
BEGIN:DAYLIGHT
TZOFFSETFROM:+1000
TZOFFSETTO:+1100
TZNAME:AEDT
DTSTART:20251004T160000
END:DAYLIGHT
END:VTIMEZONE
BEGIN:VEVENT
DTSTART;TZID=Australia/Sydney:20250219T110000
DTEND;TZID=Australia/Sydney:20250219T140000
DTSTAMP:20260422T211916
CREATED:20250116T015143Z
LAST-MODIFIED:20250116T015143Z
UID:10000310-1739962800-1739973600@communityconnect.org.au
SUMMARY:Coffee Chat Time - Eighty-Ate Cafe
DESCRIPTION:Coffee Chat Time – Eighty-Ate Cafe  North Sydney \nThis local cafe is a great place to enjoy family shared recipes \, having commenced as a grocery store in 1975 and now prides itself on great food and friendly service. As a family-based business\, they strive to provide the freshest and tastiest experience with the least amount of fuss. True to family tradition\, they prepare everything in-house\, from scratch. \nCome along and meet new people\, enjoy conversations and laughs. \nIndependent Travellers only \nRequires a mobile phone \nTransport only: \n$15.00 CHSP Clients \n$25.00 All Other Clients \nMinimum numbers are required for all out of area trips. Destinations can be subject to change  or cancellation depending on weather or availability to stop at location etc. Only Thursday Social Outings  have a Volunteer on board to assist\, please note Volunteers and Drivers offer limited assistance. Other days are for Independent Travellers and we ask that you bring a mobile phone to ensure we don’t leave you behind on the return trip! If you would like a Carer to accompany you\, you must advise us at the time of booking.
URL:https://communityconnect.org.au/event/coffee-chat-time-eighty-ate-cafe/
ATTACH;FMTTYPE=image/png:https://communityconnect.org.au/wp-content/uploads/2025/01/Eighty-Ate-Cafe-.png
END:VEVENT
END:VCALENDAR