BEGIN:VCALENDAR
VERSION:2.0
PRODID:-//Community Connect Transport - ECPv6.14.2//NONSGML v1.0//EN
CALSCALE:GREGORIAN
METHOD:PUBLISH
X-WR-CALNAME:Community Connect Transport
X-ORIGINAL-URL:https://communityconnect.org.au
X-WR-CALDESC:Events for Community Connect Transport
REFRESH-INTERVAL;VALUE=DURATION:PT1H
X-Robots-Tag:noindex
X-PUBLISHED-TTL:PT1H
BEGIN:VTIMEZONE
TZID:Australia/Sydney
BEGIN:STANDARD
TZOFFSETFROM:+1100
TZOFFSETTO:+1000
TZNAME:AEST
DTSTART:20250405T160000
END:STANDARD
BEGIN:DAYLIGHT
TZOFFSETFROM:+1000
TZOFFSETTO:+1100
TZNAME:AEDT
DTSTART:20251004T160000
END:DAYLIGHT
END:VTIMEZONE
BEGIN:VEVENT
DTSTART;TZID=Australia/Sydney:20250312T110000
DTEND;TZID=Australia/Sydney:20250312T130000
DTSTAMP:20260422T193940
CREATED:20250225T030608Z
LAST-MODIFIED:20250225T030608Z
UID:10000317-1741777200-1741784400@communityconnect.org.au
SUMMARY:Garden Party - Blackman Park
DESCRIPTION:FREE SENIORS FESTIVAL EVENT – Blackman Park Lane Cove  \nBook your place as this will be popular ! \nEnjoy a delicious morning tea\, try activities such as tai chi and walking soccer combined with lots of entertainment . Don on your sun hat\, hop on the bus and join others at this community event in Lane Cove. \nIndependent Travellers only \nRequires mobile phone \nTransport only: \n$15.00 CHSP Clients \n$25.00 All Other Clients \n  \nMinimum numbers are required for all out of area trips. Destinations can be subject to change  or cancellation depending on weather or availability to stop at location etc. Only Thursday Social Outings  have a Volunteer on board to assist\, please note Volunteers and Drivers offer limited assistance. Other days are for Independent Travellers and we ask that you bring a mobile phone to ensure we don’t leave you behind on the return trip! If you would like a Carer to accompany you\, you must advise us at the time of booking. For Non-Account and Cash clients pre-payment is required for these bookings.
URL:https://communityconnect.org.au/event/garden-party-blackman-park/
ATTACH;FMTTYPE=image/jpeg:https://communityconnect.org.au/wp-content/uploads/2025/02/Seniors-Week-Garden-Party.jpg
END:VEVENT
END:VCALENDAR