BEGIN:VCALENDAR
VERSION:2.0
PRODID:-//Community Connect Transport - ECPv6.14.2//NONSGML v1.0//EN
CALSCALE:GREGORIAN
METHOD:PUBLISH
X-ORIGINAL-URL:https://communityconnect.org.au
X-WR-CALDESC:Events for Community Connect Transport
REFRESH-INTERVAL;VALUE=DURATION:PT1H
X-Robots-Tag:noindex
X-PUBLISHED-TTL:PT1H
BEGIN:VTIMEZONE
TZID:Australia/Sydney
BEGIN:STANDARD
TZOFFSETFROM:+1100
TZOFFSETTO:+1000
TZNAME:AEST
DTSTART:20250405T160000
END:STANDARD
BEGIN:DAYLIGHT
TZOFFSETFROM:+1000
TZOFFSETTO:+1100
TZNAME:AEDT
DTSTART:20251004T160000
END:DAYLIGHT
END:VTIMEZONE
BEGIN:VEVENT
DTSTART;TZID=Australia/Sydney:20250501T100000
DTEND;TZID=Australia/Sydney:20250501T150000
DTSTAMP:20260422T181317
CREATED:20250430T001242Z
LAST-MODIFIED:20250430T001242Z
UID:10000334-1746093600-1746111600@communityconnect.org.au
SUMMARY:Wildpear Cafe - Dural
DESCRIPTION:Wildpear Cafe – Dural \nThis breezy \, relaxed venue has a verandah overlooking the nursery with a fabulous cafe on -site. \nTransport Only : $35 CHSP clients \,  $45 all other clients \nBooking and Pre-payment is ESSENTIAL so please call out office on 9490 9500.
URL:https://communityconnect.org.au/event/wildpear_cafe/
ATTACH;FMTTYPE=image/jpeg:https://communityconnect.org.au/wp-content/uploads/2025/04/Wildpear-cafe.jpg
END:VEVENT
END:VCALENDAR