BEGIN:VCALENDAR
VERSION:2.0
PRODID:-//Community Connect Transport - ECPv6.14.2//NONSGML v1.0//EN
CALSCALE:GREGORIAN
METHOD:PUBLISH
X-WR-CALNAME:Community Connect Transport
X-ORIGINAL-URL:https://communityconnect.org.au
X-WR-CALDESC:Events for Community Connect Transport
REFRESH-INTERVAL;VALUE=DURATION:PT1H
X-Robots-Tag:noindex
X-PUBLISHED-TTL:PT1H
BEGIN:VTIMEZONE
TZID:Australia/Sydney
BEGIN:STANDARD
TZOFFSETFROM:+1100
TZOFFSETTO:+1000
TZNAME:AEST
DTSTART:20250405T160000
END:STANDARD
BEGIN:DAYLIGHT
TZOFFSETFROM:+1000
TZOFFSETTO:+1100
TZNAME:AEDT
DTSTART:20251004T160000
END:DAYLIGHT
END:VTIMEZONE
BEGIN:VEVENT
DTSTART;TZID=Australia/Sydney:20250728T110000
DTEND;TZID=Australia/Sydney:20250728T140000
DTSTAMP:20260422T121430
CREATED:20250626T005402Z
LAST-MODIFIED:20250626T005402Z
UID:10000364-1753700400-1753711200@communityconnect.org.au
SUMMARY:Cumberland State Forest
DESCRIPTION:Cumberland State Forest  \nStop at the Visitors Centre \, or the nursery and grab some seedlings or walk a trail in the Cumberland State Forest \nLunch at your own cost- cafe on site \nIndependent travellers – requires good mobility if enjoying walking track. \nTransport only: \n$20.00 CHSP Clients \n$30.00 All Other Clients \nMinimum numbers are required for all out of area trips. Destinations can be subject to change  or cancellation depending on weather or availability to stop at location etc. Only Thursday Social Outings  have a Volunteer on board to assist\, please note Volunteers and Drivers offer limited assistance. Other days are for Independent Travellers and we ask that you bring a mobile phone to ensure we don’t leave you behind on the return trip! If you would like a Carer to accompany you\, you must advise us at the time of booking. For Non-Account and Cash clients pre-payment is required for these bookings.
URL:https://communityconnect.org.au/event/cumberland-state-forest/
ATTACH;FMTTYPE=image/jpeg:https://communityconnect.org.au/wp-content/uploads/2025/06/Cumberland-State-Forest.jpg
END:VEVENT
END:VCALENDAR