BEGIN:VCALENDAR
VERSION:2.0
PRODID:-//Community Connect Transport - ECPv6.14.2//NONSGML v1.0//EN
CALSCALE:GREGORIAN
METHOD:PUBLISH
X-ORIGINAL-URL:https://communityconnect.org.au
X-WR-CALDESC:Events for Community Connect Transport
REFRESH-INTERVAL;VALUE=DURATION:PT1H
X-Robots-Tag:noindex
X-PUBLISHED-TTL:PT1H
BEGIN:VTIMEZONE
TZID:Australia/Sydney
BEGIN:STANDARD
TZOFFSETFROM:+1100
TZOFFSETTO:+1000
TZNAME:AEST
DTSTART:20250405T160000
END:STANDARD
BEGIN:DAYLIGHT
TZOFFSETFROM:+1000
TZOFFSETTO:+1100
TZNAME:AEDT
DTSTART:20251004T160000
END:DAYLIGHT
END:VTIMEZONE
BEGIN:VEVENT
DTSTART;TZID=Australia/Sydney:20250805T103000
DTEND;TZID=Australia/Sydney:20250805T143000
DTSTAMP:20260422T121448
CREATED:20250626T013414Z
LAST-MODIFIED:20250626T013414Z
UID:10000367-1754389800-1754404200@communityconnect.org.au
SUMMARY:Lollies-n-Stuff - Windsor
DESCRIPTION:Lollies-n-Stuff \, Windsor \n Find your childhood favourites\, the most popular confectionary from around the world including lollies\, drinks and treats. Enjoy lunch at a local cafe and the historical aspects of this town. \nIndependent Travellers only \nRequires a mobile phone \nMinimum 8 people registered for this outing to proceed as out of area. \nTransport only: \n$30.00 CHSP Clients \n$40.00 All Other Clients \nMinimum numbers are required for all out of area trips. Destinations can be subject to change  or cancellation depending on weather or availability to stop at location etc. Only Thursday Social Outings  have a Volunteer on board to assist\, please note Volunteers and Drivers offer limited assistance. Other days are for Independent Travellers and we ask that you bring a mobile phone to ensure we don’t leave you behind on the return trip! If you would like a Carer to accompany you\, you must advise us at the time of booking. For Non-Account and Cash clients pre-payment is required for these bookings.
URL:https://communityconnect.org.au/event/lollies-n-stuff-windsor/
ATTACH;FMTTYPE=image/jpeg:https://communityconnect.org.au/wp-content/uploads/2025/06/Lollies-n-stuff.jpg
END:VEVENT
END:VCALENDAR