BEGIN:VCALENDAR
VERSION:2.0
PRODID:-//Community Connect Transport - ECPv6.14.2//NONSGML v1.0//EN
CALSCALE:GREGORIAN
METHOD:PUBLISH
X-WR-CALNAME:Community Connect Transport
X-ORIGINAL-URL:https://communityconnect.org.au
X-WR-CALDESC:Events for Community Connect Transport
REFRESH-INTERVAL;VALUE=DURATION:PT1H
X-Robots-Tag:noindex
X-PUBLISHED-TTL:PT1H
BEGIN:VTIMEZONE
TZID:Australia/Sydney
BEGIN:STANDARD
TZOFFSETFROM:+1100
TZOFFSETTO:+1000
TZNAME:AEST
DTSTART:20250405T160000
END:STANDARD
BEGIN:DAYLIGHT
TZOFFSETFROM:+1000
TZOFFSETTO:+1100
TZNAME:AEDT
DTSTART:20251004T160000
END:DAYLIGHT
END:VTIMEZONE
BEGIN:VEVENT
DTSTART;TZID=Australia/Sydney:20250814T100000
DTEND;TZID=Australia/Sydney:20250814T140000
DTSTAMP:20260422T121432
CREATED:20250626T020657Z
LAST-MODIFIED:20250626T020657Z
UID:10000370-1755165600-1755180000@communityconnect.org.au
SUMMARY:Paddo (Paddington) RSL
DESCRIPTION:Transport Only: $30 CHSP Clients or $40 All other Clients \nLunch at your own cost \nDrive through Centennial Park \nBring photo ID to sign into venue   –  Spaces limited – maximum 25 people
URL:https://communityconnect.org.au/event/paddo-paddington-rsl-2/
ATTACH;FMTTYPE=image/jpeg:https://communityconnect.org.au/wp-content/uploads/2023/04/Paddington-Woollahra-RSL-Sub-Branch-PADDO_RSL.jpg
END:VEVENT
END:VCALENDAR