BEGIN:VCALENDAR
VERSION:2.0
PRODID:-//Community Connect Transport - ECPv6.14.2//NONSGML v1.0//EN
CALSCALE:GREGORIAN
METHOD:PUBLISH
X-ORIGINAL-URL:https://communityconnect.org.au
X-WR-CALDESC:Events for Community Connect Transport
REFRESH-INTERVAL;VALUE=DURATION:PT1H
X-Robots-Tag:noindex
X-PUBLISHED-TTL:PT1H
BEGIN:VTIMEZONE
TZID:Australia/Sydney
BEGIN:STANDARD
TZOFFSETFROM:+1100
TZOFFSETTO:+1000
TZNAME:AEST
DTSTART:20250405T160000
END:STANDARD
BEGIN:DAYLIGHT
TZOFFSETFROM:+1000
TZOFFSETTO:+1100
TZNAME:AEDT
DTSTART:20251004T160000
END:DAYLIGHT
END:VTIMEZONE
BEGIN:VEVENT
DTSTART;TZID=Australia/Sydney:20250815T110000
DTEND;TZID=Australia/Sydney:20250815T140000
DTSTAMP:20260422T121446
CREATED:20250626T021716Z
LAST-MODIFIED:20250626T021716Z
UID:10000371-1755255600-1755266400@communityconnect.org.au
SUMMARY:Mosman Art Gallery
DESCRIPTION:Mosman Art Gallery –  \nExhibitions include: \nMiddle Harbour : A fresh display of works from the Mosman Art Collection\, presenting\, for the first time\, recent acquisitions of 19th and 20th-century paintings and drawings\, complementing the well-loved works from The Balnaves Gift. From April 2025 the Collection Gallery will feature a selection of picturesque landscape views of Middle Harbour\, painted by explorers\, pleasure-seeking daytrippers and settler residents. These artists documented the progress of maritime industry\, celebrating the might of the British Empire and following the urbanisation of Sydney Harbour\, on these contested lands of the First Nations owners\, who remained absent from their views. \nA painters Painter : Curated by Mosman-based artist Ann Cape\, A Painter’s Painter examines the intimate relationship between portrait artist and sitter. Featuring depictions of some of Sydney’s most beloved artists\, alongside … \nArtist in profile :  Leanne Tobin is a multidisciplinary artist of Irish\, English and Aboriginal heritage descending from the Buruburong and Wumali clans of the Dharug\, the traditional Aboriginal people of the Greater Sydney region. Leanne works both independently and collaboratively to tell stories of ‘place’. Her art practice seeks to inform and to also inspire open and honest dialogue while evoking an environmental conscience and respect towards Ngurra (Country) and its original people.   \nRequires a mobile phone \nIndependent Travellers only \n  \nTransport only: \n$15.00 CHSP Clients \n$25.00 All Other Clients \nMinimum numbers are required for all out of area trips. Destinations can be subject to change  or cancellation depending on weather or availability to stop at location etc. Only Thursday Social Outings  have a Volunteer on board to assist\, please note Volunteers and Drivers offer limited assistance. Other days are for Independent Travellers and we ask that you bring a mobile phone to ensure we don’t leave you behind on the return trip! If you would like a Carer to accompany you\, you must advise us at the time of booking. For Non-Account and Cash clients pre-payment is required for these bookings.
URL:https://communityconnect.org.au/event/mosman-art-gallery-2/
ATTACH;FMTTYPE=image/jpeg:https://communityconnect.org.au/wp-content/uploads/2025/06/Mosman-Art-Gallery.jpg
END:VEVENT
END:VCALENDAR