BEGIN:VCALENDAR
VERSION:2.0
PRODID:-//Community Connect Transport - ECPv6.14.2//NONSGML v1.0//EN
CALSCALE:GREGORIAN
METHOD:PUBLISH
X-WR-CALNAME:Community Connect Transport
X-ORIGINAL-URL:https://communityconnect.org.au
X-WR-CALDESC:Events for Community Connect Transport
REFRESH-INTERVAL;VALUE=DURATION:PT1H
X-Robots-Tag:noindex
X-PUBLISHED-TTL:PT1H
BEGIN:VTIMEZONE
TZID:Australia/Sydney
BEGIN:STANDARD
TZOFFSETFROM:+1100
TZOFFSETTO:+1000
TZNAME:AEST
DTSTART:20250405T160000
END:STANDARD
BEGIN:DAYLIGHT
TZOFFSETFROM:+1000
TZOFFSETTO:+1100
TZNAME:AEDT
DTSTART:20251004T160000
END:DAYLIGHT
END:VTIMEZONE
BEGIN:VEVENT
DTSTART;TZID=Australia/Sydney:20250825T110000
DTEND;TZID=Australia/Sydney:20250825T133000
DTSTAMP:20260422T121432
CREATED:20250626T024844Z
LAST-MODIFIED:20250626T024844Z
UID:10000374-1756119600-1756128600@communityconnect.org.au
SUMMARY:Sports Bar -Mosman Club
DESCRIPTION:Sports Bar – Mosman Club  \nTransport Only: \n$15 CHSP Clients or \n$25 All other Clients \nLunch at your own cost \nBring photo ID to sign into venue
URL:https://communityconnect.org.au/event/sports-bar-mosman-club/
ATTACH;FMTTYPE=image/jpeg:https://communityconnect.org.au/wp-content/uploads/2025/06/Mosman-Club.jpg
END:VEVENT
END:VCALENDAR