BEGIN:VCALENDAR
VERSION:2.0
PRODID:-//Community Connect Transport - ECPv6.14.2//NONSGML v1.0//EN
CALSCALE:GREGORIAN
METHOD:PUBLISH
X-WR-CALNAME:Community Connect Transport
X-ORIGINAL-URL:https://communityconnect.org.au
X-WR-CALDESC:Events for Community Connect Transport
REFRESH-INTERVAL;VALUE=DURATION:PT1H
X-Robots-Tag:noindex
X-PUBLISHED-TTL:PT1H
BEGIN:VTIMEZONE
TZID:Australia/Sydney
BEGIN:STANDARD
TZOFFSETFROM:+1100
TZOFFSETTO:+1000
TZNAME:AEST
DTSTART:20250405T160000
END:STANDARD
BEGIN:DAYLIGHT
TZOFFSETFROM:+1000
TZOFFSETTO:+1100
TZNAME:AEDT
DTSTART:20251004T160000
END:DAYLIGHT
END:VTIMEZONE
BEGIN:VEVENT
DTSTART;TZID=Australia/Sydney:20250828T100000
DTEND;TZID=Australia/Sydney:20250828T140000
DTSTAMP:20260422T121432
CREATED:20250626T033944Z
LAST-MODIFIED:20250724T052448Z
UID:10000376-1756375200-1756389600@communityconnect.org.au
SUMMARY:Pancakes on The Rocks -Beverley Hills
DESCRIPTION:Enjoy reminiscing on the past with the favourite dish of pancakes\, syrup and cream. Full menu of other options available – leave room for dessert !   \nLunch at your own cost \n  \nTransport only: \n$30.00 CHSP Clients \n$40.00 All Other Clients \nDestinations are subject to change depending on weather or availability to stop at location etc. Please be advised that our Thursday Social Outings are a full day event and pick ups may begin from 8.00am. Our outings are designed for independent travellers and the drivers/volunteers offer limited assistance. If you require a Carer to come along an extra $10.00 charge is addition to the bus fare will apply.
URL:https://communityconnect.org.au/event/pancakes-on-the-rocks/
ATTACH;FMTTYPE=image/jpeg:https://communityconnect.org.au/wp-content/uploads/2025/06/Pancakes.jpg
END:VEVENT
END:VCALENDAR