BEGIN:VCALENDAR
VERSION:2.0
PRODID:-//Community Connect Transport - ECPv6.14.2//NONSGML v1.0//EN
CALSCALE:GREGORIAN
METHOD:PUBLISH
X-ORIGINAL-URL:https://communityconnect.org.au
X-WR-CALDESC:Events for Community Connect Transport
REFRESH-INTERVAL;VALUE=DURATION:PT1H
X-Robots-Tag:noindex
X-PUBLISHED-TTL:PT1H
BEGIN:VTIMEZONE
TZID:Australia/Sydney
BEGIN:STANDARD
TZOFFSETFROM:+1100
TZOFFSETTO:+1000
TZNAME:AEST
DTSTART:20250405T160000
END:STANDARD
BEGIN:DAYLIGHT
TZOFFSETFROM:+1000
TZOFFSETTO:+1100
TZNAME:AEDT
DTSTART:20251004T160000
END:DAYLIGHT
END:VTIMEZONE
BEGIN:VEVENT
DTSTART;TZID=Australia/Sydney:20250830T100000
DTEND;TZID=Australia/Sydney:20250830T140000
DTSTAMP:20260422T121449
CREATED:20250626T040243Z
LAST-MODIFIED:20250626T040611Z
UID:10000377-1756548000-1756562400@communityconnect.org.au
SUMMARY:Andre Rieu Concert - Waltz The Night Away
DESCRIPTION:Note: this outing is on a SATURDAY. \nStep into an afternoon of music\, romance and celebration as Andre Reui International concert is live streamed in the Roseville Theatre. \nAn all-new summer concert captured live from the stunning Vrijthof Square in his beloved hometown of Maastricht is coming to cinemas!  Each night\, the Vrijthof transforms into a grand ballroom as André and his Johann Strauss Orchestra invite audiences of all ages to waltz under the stars. With timeless melodies and beautiful waltzes\, this concert will take you on a journey filled with joy\, love\, and heartfelt emotion. \nSession runs for 180 mins : 2.15pm – 5.15pm \nPre-payment required $42 per person by Fri 8th August to enable tickets to be secured in advance. \nCancellation -non-refundable 14 days prior to the event. \n  \nTransport Only: $15 CHSP clients \n$25 All other clients \n  \nTransport only: \n$15.00 CHSP Clients \n$25.00 All Other Clients \nDestinations are subject to change depending on weather or availability to stop at location etc. Please be advised that our Thursday Social Outings are a full day event and pick ups may begin from 8.00am. Our outings are designed for independent travellers and the drivers/volunteers offer limited assistance. If you require a Carer to come along an extra $10.00 charge is addition to the bus fare will apply.
URL:https://communityconnect.org.au/event/andre-rieu-concert-waltz-the-night-away/
ATTACH;FMTTYPE=image/jpeg:https://communityconnect.org.au/wp-content/uploads/2025/06/Andre-Reui.jpg
END:VEVENT
END:VCALENDAR