BEGIN:VCALENDAR
VERSION:2.0
PRODID:-//Community Connect Transport - ECPv6.14.2//NONSGML v1.0//EN
CALSCALE:GREGORIAN
METHOD:PUBLISH
X-WR-CALNAME:Community Connect Transport
X-ORIGINAL-URL:https://communityconnect.org.au
X-WR-CALDESC:Events for Community Connect Transport
REFRESH-INTERVAL;VALUE=DURATION:PT1H
X-Robots-Tag:noindex
X-PUBLISHED-TTL:PT1H
BEGIN:VTIMEZONE
TZID:Australia/Sydney
BEGIN:STANDARD
TZOFFSETFROM:+1100
TZOFFSETTO:+1000
TZNAME:AEST
DTSTART:20250405T160000
END:STANDARD
BEGIN:DAYLIGHT
TZOFFSETFROM:+1000
TZOFFSETTO:+1100
TZNAME:AEDT
DTSTART:20251004T160000
END:DAYLIGHT
END:VTIMEZONE
BEGIN:VEVENT
DTSTART;TZID=Australia/Sydney:20251008T120000
DTEND;TZID=Australia/Sydney:20251008T140000
DTSTAMP:20260422T091155
CREATED:20250919T043055Z
LAST-MODIFIED:20250919T043055Z
UID:10000385-1759924800-1759932000@communityconnect.org.au
SUMMARY:Lunchtime Big Band Concert - Sydney Conservatorium
DESCRIPTION:Come and listen to student at the Con performing in a beautiful setting.   For Independent travellers only and must bring a mobile phone. \nGOLD COIN Donation at the door.    Must have had lunch prior to pick up as transport is to/from concert. \nTransport cost only: $15 CHSP clients\,  $25 All other clients .
URL:https://communityconnect.org.au/event/sydney_conservatorium/
ATTACH;FMTTYPE=image/jpeg:https://communityconnect.org.au/wp-content/uploads/2025/09/Sydney-Con-Music.jpg
END:VEVENT
END:VCALENDAR