BEGIN:VCALENDAR
VERSION:2.0
PRODID:-//Community Connect Transport - ECPv6.14.2//NONSGML v1.0//EN
CALSCALE:GREGORIAN
METHOD:PUBLISH
X-ORIGINAL-URL:https://communityconnect.org.au
X-WR-CALDESC:Events for Community Connect Transport
REFRESH-INTERVAL;VALUE=DURATION:PT1H
X-Robots-Tag:noindex
X-PUBLISHED-TTL:PT1H
BEGIN:VTIMEZONE
TZID:Australia/Sydney
BEGIN:STANDARD
TZOFFSETFROM:+1100
TZOFFSETTO:+1000
TZNAME:AEST
DTSTART:20250405T160000
END:STANDARD
BEGIN:DAYLIGHT
TZOFFSETFROM:+1000
TZOFFSETTO:+1100
TZNAME:AEDT
DTSTART:20251004T160000
END:DAYLIGHT
END:VTIMEZONE
BEGIN:VEVENT
DTSTART;TZID=Australia/Sydney:20251016T100000
DTEND;TZID=Australia/Sydney:20251016T160000
DTSTAMP:20260422T091219
CREATED:20250929T011833Z
LAST-MODIFIED:20250929T011833Z
UID:10000390-1760608800-1760630400@communityconnect.org.au
SUMMARY:Archibald Hotel\, Kurrajong Heights
DESCRIPTION:Archibald Hotel\, Kurrajong Heights \nOne of the Hawkesbury’s great hotels\, enjoy lunch and unique views across the Hawkesbury from the beer garden \nScenic Drive Along The Way – Stop at Bellbird Lookout \nLunch  at your own cost \nIndependent Travellers only \nRequires a mobile phone \nTransport only: \n$40.00 CHSP Clients \n$50.00 All Other Clients \nMinimum numbers are required for all out of area trips. Destinations can be subject to change  or cancellation depending on weather or availability to stop at location etc. Only Thursday Social Outings  have a Volunteer on board to assist\, please note Volunteers and Drivers offer limited assistance. Other days are for Independent Travellers and we ask that you bring a mobile phone to ensure we don’t leave you behind on the return trip! If you would like a Carer to accompany you\, you must advise us at the time of booking. For Non-Account and Cash clients pre-payment is required for these bookings.
URL:https://communityconnect.org.au/event/archibald-hotel-kurrajong-heights-4/
ATTACH;FMTTYPE=image/jpeg:https://communityconnect.org.au/wp-content/uploads/2024/02/2020-12-05.jpg
END:VEVENT
END:VCALENDAR