BEGIN:VCALENDAR
VERSION:2.0
PRODID:-//Community Connect Transport - ECPv6.14.2//NONSGML v1.0//EN
CALSCALE:GREGORIAN
METHOD:PUBLISH
X-WR-CALNAME:Community Connect Transport
X-ORIGINAL-URL:https://communityconnect.org.au
X-WR-CALDESC:Events for Community Connect Transport
REFRESH-INTERVAL;VALUE=DURATION:PT1H
X-Robots-Tag:noindex
X-PUBLISHED-TTL:PT1H
BEGIN:VTIMEZONE
TZID:Australia/Sydney
BEGIN:STANDARD
TZOFFSETFROM:+1100
TZOFFSETTO:+1000
TZNAME:AEST
DTSTART:20250405T160000
END:STANDARD
BEGIN:DAYLIGHT
TZOFFSETFROM:+1000
TZOFFSETTO:+1100
TZNAME:AEDT
DTSTART:20251004T160000
END:DAYLIGHT
END:VTIMEZONE
BEGIN:VEVENT
DTSTART;TZID=Australia/Sydney:20251020T120000
DTEND;TZID=Australia/Sydney:20251020T140000
DTSTAMP:20260422T091155
CREATED:20250929T012013Z
LAST-MODIFIED:20250929T012013Z
UID:10000391-1760961600-1760968800@communityconnect.org.au
SUMMARY:Birkenhead Point DFO
DESCRIPTION:Birkenhead Point DFO \nAll your favourite discount shopping outlets\, a choice of coffee shops and eateries available in the Centre – browse & shop at leisure \nIndependent Travellers only \nRequires mobile phone \nTransport only: \n$25.00 CHSP Clients \n$35.00 All Other Clients \n  \nMinimum numbers are required for all out of area trips. Destinations can be subject to change  or cancellation depending on weather or availability to stop at location etc. Only Thursday Social Outings  have a Volunteer on board to assist\, please note Volunteers and Drivers offer limited assistance. Other days are for Independent Travellers and we ask that you bring a mobile phone to ensure we don’t leave you behind on the return trip! If you would like a Carer to accompany you\, you must advise us at the time of booking. For Non-Account and Cash clients pre-payment is required for these bookings.
URL:https://communityconnect.org.au/event/birkenhead-point-dfo-5/
ATTACH;FMTTYPE=image/jpeg:https://communityconnect.org.au/wp-content/uploads/2023/02/2022-08-18.jpg
END:VEVENT
END:VCALENDAR