BEGIN:VCALENDAR
VERSION:2.0
PRODID:-//Community Connect Transport - ECPv6.14.2//NONSGML v1.0//EN
CALSCALE:GREGORIAN
METHOD:PUBLISH
X-WR-CALNAME:Community Connect Transport
X-ORIGINAL-URL:https://communityconnect.org.au
X-WR-CALDESC:Events for Community Connect Transport
REFRESH-INTERVAL;VALUE=DURATION:PT1H
X-Robots-Tag:noindex
X-PUBLISHED-TTL:PT1H
BEGIN:VTIMEZONE
TZID:Australia/Sydney
BEGIN:STANDARD
TZOFFSETFROM:+1100
TZOFFSETTO:+1000
TZNAME:AEST
DTSTART:20250405T160000
END:STANDARD
BEGIN:DAYLIGHT
TZOFFSETFROM:+1000
TZOFFSETTO:+1100
TZNAME:AEDT
DTSTART:20251004T160000
END:DAYLIGHT
END:VTIMEZONE
BEGIN:VEVENT
DTSTART;TZID=Australia/Sydney:20251027T113000
DTEND;TZID=Australia/Sydney:20251027T140000
DTSTAMP:20260422T072539
CREATED:20250929T015951Z
LAST-MODIFIED:20250929T030156Z
UID:10000395-1761564600-1761573600@communityconnect.org.au
SUMMARY:Coffee Chat Time -  Social Hideout Parramatta
DESCRIPTION:Coffee Chat Time – Social Hideout  Parramatta  \nSydney’s prettiest Cafe \, a place you won’t ever forget !  Enjoy the beautiful outdoor setting with florals abound \, meet new people and enjoy the array of meal options available made with fresh produce and vibrant servings. \nIndependent Travellers only \nRequires a mobile phone \nTransport only: \n$30.00 CHSP Clients \n$40.00 All Other Clients \nMinimum numbers are required for all out of area trips. Destinations can be subject to change  or cancellation depending on weather or availability to stop at location etc. Only Thursday Social Outings  have a Volunteer on board to assist\, please note Volunteers and Drivers offer limited assistance. Other days are for Independent Travellers and we ask that you bring a mobile phone to ensure we don’t leave you behind on the return trip! If you would like a Carer to accompany you\, you must advise us at the time of booking.
URL:https://communityconnect.org.au/event/coffee-chat-time-social-hideout-parramatta-2/
ATTACH;FMTTYPE=image/jpeg:https://communityconnect.org.au/wp-content/uploads/2025/01/Social-Hideout-.jpg
END:VEVENT
END:VCALENDAR