BEGIN:VCALENDAR
VERSION:2.0
PRODID:-//Community Connect Transport - ECPv6.14.2//NONSGML v1.0//EN
CALSCALE:GREGORIAN
METHOD:PUBLISH
X-ORIGINAL-URL:https://communityconnect.org.au
X-WR-CALDESC:Events for Community Connect Transport
REFRESH-INTERVAL;VALUE=DURATION:PT1H
X-Robots-Tag:noindex
X-PUBLISHED-TTL:PT1H
BEGIN:VTIMEZONE
TZID:Australia/Sydney
BEGIN:STANDARD
TZOFFSETFROM:+1100
TZOFFSETTO:+1000
TZNAME:AEST
DTSTART:20250405T160000
END:STANDARD
BEGIN:DAYLIGHT
TZOFFSETFROM:+1000
TZOFFSETTO:+1100
TZNAME:AEDT
DTSTART:20251004T160000
END:DAYLIGHT
END:VTIMEZONE
BEGIN:VEVENT
DTSTART;TZID=Australia/Sydney:20251029T100000
DTEND;TZID=Australia/Sydney:20251029T140000
DTSTAMP:20260422T072546
CREATED:20251019T232110Z
LAST-MODIFIED:20251019T232110Z
UID:10000403-1761732000-1761746400@communityconnect.org.au
SUMMARY:Gabriella's Cafe at the Grove
DESCRIPTION:Gabriella’s Cafe at the Grove \nDue to popular demand we are re-visiting this delightful little venue with friendly customer service and great food ! \nTransport only: \n$35.00 CHSP Clients \n$50.00 All Other Clients \nMinimum numbers are required for all out of area trips. Destinations can be subject to change  or cancellation depending on weather or availability to stop at location etc. Only Thursday Social Outings  have a Volunteer on board to assist\, please note Volunteers and Drivers offer limited assistance. Other days are for Independent Travellers and we ask that you bring a mobile phone to ensure we don’t leave you behind on the return trip! If you would like a Carer to accompany you\, you must advise us at the time of booking.
URL:https://communityconnect.org.au/event/gabriellas-cafe-at-the-grove/
ATTACH;FMTTYPE=image/jpeg:https://communityconnect.org.au/wp-content/uploads/2025/10/Gabriellas-cafe-.jpg
END:VEVENT
BEGIN:VEVENT
DTSTART;TZID=Australia/Sydney:20251029T110000
DTEND;TZID=Australia/Sydney:20251029T130000
DTSTAMP:20260422T072546
CREATED:20250929T061138Z
LAST-MODIFIED:20250929T061138Z
UID:10000396-1761735600-1761742800@communityconnect.org.au
SUMMARY:Lake Parramatta Cafe
DESCRIPTION:Lake Parramatta Cafe – North Parramatta  \nStunning location with great views of the Lake and a walking track now surrounds which you can stroll around to burn off lunch ! \nIndependent Travellers only \nRequires a mobile phone \nTransport only: \n$30.00 CHSP Clients \n$40.00 All Other Clients \nMinimum numbers are required for all out of area trips. Destinations can be subject to change  or cancellation depending on weather or availability to stop at location etc. Only Thursday Social Outings  have a Volunteer on board to assist\, please note Volunteers and Drivers offer limited assistance. Other days are for Independent Travellers and we ask that you bring a mobile phone to ensure we don’t leave you behind on the return trip! If you would like a Carer to accompany you\, you must advise us at the time of booking.
URL:https://communityconnect.org.au/event/lake-parramatta-cafe/
ATTACH;FMTTYPE=image/jpeg:https://communityconnect.org.au/wp-content/uploads/2025/09/Lake-Parramatta-Cafe.jpg
END:VEVENT
BEGIN:VEVENT
DTSTART;TZID=Australia/Sydney:20251029T110000
DTEND;TZID=Australia/Sydney:20251029T130000
DTSTAMP:20260422T072546
CREATED:20251019T231059Z
LAST-MODIFIED:20251019T231059Z
UID:10000401-1761735600-1761742800@communityconnect.org.au
SUMMARY:4 Knots Cafe- Narrabeen
DESCRIPTION:4 Knots Cafe – Narrabeen  \nStunning location with great views of the beach ! Scenic drive to the Northern Beaches along the way. \nTransport only: \n$30.00 CHSP Clients \n$45.00 All Other Clients \nMinimum numbers are required for all out of area trips. Destinations can be subject to change  or cancellation depending on weather or availability to stop at location etc. Only Thursday Social Outings  have a Volunteer on board to assist\, please note Volunteers and Drivers offer limited assistance. Other days are for Independent Travellers and we ask that you bring a mobile phone to ensure we don’t leave you behind on the return trip! If you would like a Carer to accompany you\, you must advise us at the time of booking.
URL:https://communityconnect.org.au/event/4-knots-cafe-narrabeen/
ATTACH;FMTTYPE=image/jpeg:https://communityconnect.org.au/wp-content/uploads/2025/10/4-KNots-Cafe.jpg
END:VEVENT
END:VCALENDAR