BEGIN:VCALENDAR
VERSION:2.0
PRODID:-//Community Connect Transport - ECPv6.14.2//NONSGML v1.0//EN
CALSCALE:GREGORIAN
METHOD:PUBLISH
X-ORIGINAL-URL:https://communityconnect.org.au
X-WR-CALDESC:Events for Community Connect Transport
REFRESH-INTERVAL;VALUE=DURATION:PT1H
X-Robots-Tag:noindex
X-PUBLISHED-TTL:PT1H
BEGIN:VTIMEZONE
TZID:Australia/Sydney
BEGIN:STANDARD
TZOFFSETFROM:+1100
TZOFFSETTO:+1000
TZNAME:AEST
DTSTART:20250405T160000
END:STANDARD
BEGIN:DAYLIGHT
TZOFFSETFROM:+1000
TZOFFSETTO:+1100
TZNAME:AEDT
DTSTART:20251004T160000
END:DAYLIGHT
END:VTIMEZONE
BEGIN:VEVENT
DTSTART;TZID=Australia/Sydney:20251103T100000
DTEND;TZID=Australia/Sydney:20251103T140000
DTSTAMP:20260422T072552
CREATED:20251019T225947Z
LAST-MODIFIED:20251019T225947Z
UID:10000399-1762164000-1762178400@communityconnect.org.au
SUMMARY:Sculptures by The Sea - Bondi
DESCRIPTION:Come and explore the LAST DAY of Sculptures by the Sea at Bondi. \nStunning artworks and coastal views. Grab a coffee before lunch at Watsons Bay. \nSome walking involved\, no steps. \n  \nFor Independent travellers only and must bring a mobile phone. \nTransport cost only: $30 CHSP clients\,  $45 All other clients .
URL:https://communityconnect.org.au/event/sculptures-by-the-sea/
ATTACH;FMTTYPE=image/jpeg:https://communityconnect.org.au/wp-content/uploads/2025/10/Sculpture-by-the-Sea-.jpg
END:VEVENT
END:VCALENDAR