BEGIN:VCALENDAR
VERSION:2.0
PRODID:-//Community Connect Transport - ECPv6.14.2//NONSGML v1.0//EN
CALSCALE:GREGORIAN
METHOD:PUBLISH
X-WR-CALNAME:Community Connect Transport
X-ORIGINAL-URL:https://communityconnect.org.au
X-WR-CALDESC:Events for Community Connect Transport
REFRESH-INTERVAL;VALUE=DURATION:PT1H
X-Robots-Tag:noindex
X-PUBLISHED-TTL:PT1H
BEGIN:VTIMEZONE
TZID:Australia/Sydney
BEGIN:STANDARD
TZOFFSETFROM:+1100
TZOFFSETTO:+1000
TZNAME:AEST
DTSTART:20250405T160000
END:STANDARD
BEGIN:DAYLIGHT
TZOFFSETFROM:+1000
TZOFFSETTO:+1100
TZNAME:AEDT
DTSTART:20251004T160000
END:DAYLIGHT
END:VTIMEZONE
BEGIN:VEVENT
DTSTART;TZID=Australia/Sydney:20251120T100000
DTEND;TZID=Australia/Sydney:20251120T150000
DTSTAMP:20260422T072540
CREATED:20251020T001356Z
LAST-MODIFIED:20251020T001439Z
UID:10000406-1763632800-1763650800@communityconnect.org.au
SUMMARY:Music Show: Frankie Valli & BeachBoys
DESCRIPTION:The acclaimed Frankie Valli & Beach Boys spectacular music show at the Liverpool Powerhouse Theatre. \nPost-show lunch at The Bellbird Dining & Bar – Pan Fried Barramundi Fillet\, Asparagus\, Tomato & Olives \nTickets must be pre-paid by 10/11  – ONLY 15 Spots available.  $60 per person \nTransport cost only: $35 CHSP clients\,  $50 All other clients .
URL:https://communityconnect.org.au/event/music-show-frankie-valli-beachboys/
ATTACH;FMTTYPE=image/jpeg:https://communityconnect.org.au/wp-content/uploads/2025/10/Franke-Valli-Beachboys.jpg
END:VEVENT
END:VCALENDAR