BEGIN:VCALENDAR
VERSION:2.0
PRODID:-//Community Connect Transport - ECPv6.14.2//NONSGML v1.0//EN
CALSCALE:GREGORIAN
METHOD:PUBLISH
X-WR-CALNAME:Community Connect Transport
X-ORIGINAL-URL:https://communityconnect.org.au
X-WR-CALDESC:Events for Community Connect Transport
REFRESH-INTERVAL;VALUE=DURATION:PT1H
X-Robots-Tag:noindex
X-PUBLISHED-TTL:PT1H
BEGIN:VTIMEZONE
TZID:Australia/Sydney
BEGIN:STANDARD
TZOFFSETFROM:+1100
TZOFFSETTO:+1000
TZNAME:AEST
DTSTART:20250405T160000
END:STANDARD
BEGIN:DAYLIGHT
TZOFFSETFROM:+1000
TZOFFSETTO:+1100
TZNAME:AEDT
DTSTART:20251004T160000
END:DAYLIGHT
END:VTIMEZONE
BEGIN:VEVENT
DTSTART;TZID=Australia/Sydney:20251203T103000
DTEND;TZID=Australia/Sydney:20251203T130000
DTSTAMP:20260422T053227
CREATED:20251020T003342Z
LAST-MODIFIED:20251020T003418Z
UID:10000410-1764757800-1764766800@communityconnect.org.au
SUMMARY:Back to the Tivoli Show - Bankstown Sports Theatre
DESCRIPTION:The multi-award winning variety show ‘Back To The Tivoli’ concert returns with a spectacular show. Hosted by Jenifer Green and joined by Tivoli Dancers and Steve Isoardi\, this show is not to be missed! Come and join us for 90 minutes of fabulous variety.\nTickets must be pre-paid  $15 per person\, minimum 10 people for the outing to proceed. \nTransport cost only: $40 CHSP clients\,  $55 All other clients .
URL:https://communityconnect.org.au/event/music-show-back-to-the-tivoli/
ATTACH;FMTTYPE=image/jpeg:https://communityconnect.org.au/wp-content/uploads/2025/10/Back-to-the-Tivoli.jpg
END:VEVENT
END:VCALENDAR