BEGIN:VCALENDAR
VERSION:2.0
PRODID:-//Community Connect Transport - ECPv6.14.2//NONSGML v1.0//EN
CALSCALE:GREGORIAN
METHOD:PUBLISH
X-WR-CALNAME:Community Connect Transport
X-ORIGINAL-URL:https://communityconnect.org.au
X-WR-CALDESC:Events for Community Connect Transport
REFRESH-INTERVAL;VALUE=DURATION:PT1H
X-Robots-Tag:noindex
X-PUBLISHED-TTL:PT1H
BEGIN:VTIMEZONE
TZID:Australia/Sydney
BEGIN:STANDARD
TZOFFSETFROM:+1100
TZOFFSETTO:+1000
TZNAME:AEST
DTSTART:20250405T160000
END:STANDARD
BEGIN:DAYLIGHT
TZOFFSETFROM:+1000
TZOFFSETTO:+1100
TZNAME:AEDT
DTSTART:20251004T160000
END:DAYLIGHT
END:VTIMEZONE
BEGIN:VEVENT
DTSTART;TZID=Australia/Sydney:20251204T090000
DTEND;TZID=Australia/Sydney:20251204T160000
DTSTAMP:20260422T053217
CREATED:20251020T005408Z
LAST-MODIFIED:20251020T005408Z
UID:10000411-1764838800-1764864000@communityconnect.org.au
SUMMARY:Heritage Valley Cafe - Wisemans Ferry
DESCRIPTION:Heritage Valley Cafe- Wisemans Ferry \nSpectacular views of the water with favourite meals such as fish-n-chips\, slow roasted lamb on flat bread or asian crispy noodles salad. \nThis long day trip is a scenic journey with comfort stops on the way to & from. \nTransport only: \n$55.00 CHSP Clients \n$70.00 All Other Clients \nMinimum numbers are required for all out of area trips. Destinations can be subject to change  or cancellation depending on weather or availability to stop at location etc. Only Thursday Social Outings  have a Volunteer on board to assist\, please note Volunteers and Drivers offer limited assistance. Other days are for Independent Travellers and we ask that you bring a mobile phone to ensure we don’t leave you behind on the return trip! If you would like a Carer to accompany you\, you must advise us at the time of booking. For Non-Account and Cash clients pre-payment is required for these bookings.
URL:https://communityconnect.org.au/event/heritage-valley-cafe-wisemans-ferry/
ATTACH;FMTTYPE=image/jpeg:https://communityconnect.org.au/wp-content/uploads/2025/10/Heritage-Valley-Cafe.jpg
END:VEVENT
END:VCALENDAR