BEGIN:VCALENDAR
VERSION:2.0
PRODID:-//Community Connect Transport - ECPv6.14.2//NONSGML v1.0//EN
CALSCALE:GREGORIAN
METHOD:PUBLISH
X-WR-CALNAME:Community Connect Transport
X-ORIGINAL-URL:https://communityconnect.org.au
X-WR-CALDESC:Events for Community Connect Transport
REFRESH-INTERVAL;VALUE=DURATION:PT1H
X-Robots-Tag:noindex
X-PUBLISHED-TTL:PT1H
BEGIN:VTIMEZONE
TZID:Australia/Sydney
BEGIN:STANDARD
TZOFFSETFROM:+1100
TZOFFSETTO:+1000
TZNAME:AEST
DTSTART:20250405T160000
END:STANDARD
BEGIN:DAYLIGHT
TZOFFSETFROM:+1000
TZOFFSETTO:+1100
TZNAME:AEDT
DTSTART:20251004T160000
END:DAYLIGHT
END:VTIMEZONE
BEGIN:VEVENT
DTSTART;TZID=Australia/Sydney:20251210T140000
DTEND;TZID=Australia/Sydney:20251210T173000
DTSTAMP:20260422T053214
CREATED:20251020T011011Z
LAST-MODIFIED:20251020T011011Z
UID:10000413-1765375200-1765387800@communityconnect.org.au
SUMMARY:Andre Rieu Concert - Merry Christmas
DESCRIPTION:Step into an afternoon of music\, romance and celebration as Andre Reui International concert is live streamed in the Roseville Theatre. \nAndre’s favourite time of the year \, his concert captured live from the stunning Vrijthof Square in his beloved hometown of Maastricht is coming to cinemas!  André and his Johann Strauss Orchestra invite audiences of all ages to experience joyful carols\, beautiful waltzes under the stars\, this concert will take you on a journey filled with joy\, love\, and heartfelt emotion. \nSession runs for 180 mins : 2.15pm – 5.15pm \nPre-payment required $40 per person by Fri 14th Nov to enable tickets to be secured in advance. \nCancellation -non-refundable 14 days prior to the event. \n  \nTransport only: \n$25.00 CHSP Clients \n$40.00 All Other Clients \nDestinations are subject to change depending on weather or availability to stop at location etc. Please be advised that our Thursday Social Outings are a full day event and pick ups may begin from 8.00am. Our outings are designed for independent travellers and the drivers/volunteers offer limited assistance. If you require a Carer to come along an extra $10.00 charge is addition to the bus fare will apply.
URL:https://communityconnect.org.au/event/andre-rieu-concert-merry-christmas/
ATTACH;FMTTYPE=image/jpeg:https://communityconnect.org.au/wp-content/uploads/2025/10/Andre-Reui-Xmas.jpg
END:VEVENT
END:VCALENDAR