BEGIN:VCALENDAR
VERSION:2.0
PRODID:-//Community Connect Transport - ECPv6.14.2//NONSGML v1.0//EN
CALSCALE:GREGORIAN
METHOD:PUBLISH
X-WR-CALNAME:Community Connect Transport
X-ORIGINAL-URL:https://communityconnect.org.au
X-WR-CALDESC:Events for Community Connect Transport
REFRESH-INTERVAL;VALUE=DURATION:PT1H
X-Robots-Tag:noindex
X-PUBLISHED-TTL:PT1H
BEGIN:VTIMEZONE
TZID:Australia/Sydney
BEGIN:STANDARD
TZOFFSETFROM:+1100
TZOFFSETTO:+1000
TZNAME:AEST
DTSTART:20250405T160000
END:STANDARD
BEGIN:DAYLIGHT
TZOFFSETFROM:+1000
TZOFFSETTO:+1100
TZNAME:AEDT
DTSTART:20251004T160000
END:DAYLIGHT
END:VTIMEZONE
BEGIN:VEVENT
DTSTART;TZID=Australia/Sydney:20251222T100000
DTEND;TZID=Australia/Sydney:20251222T130000
DTSTAMP:20260422T053227
CREATED:20250625T022344Z
LAST-MODIFIED:20251020T020611Z
UID:10000353-1766397600-1766408400@communityconnect.org.au
SUMMARY:Macquarie Centre - Shopping
DESCRIPTION:Macquarie Centre \nShopping at your own leisure at the large variety of stores. \nMobile phone is required for contact on the day to ensure you arrive back at the bus in time for the return journey. \nThis service is for independent travellers only. \nTransport cost: \n$30.00 CHSP Clients \n$45.00 All other Clients
URL:https://communityconnect.org.au/event/macquarie-centre-shopping/
ATTACH;FMTTYPE=image/jpeg:https://communityconnect.org.au/wp-content/uploads/2025/10/Macquarie-xmas.jpg
END:VEVENT
END:VCALENDAR