BEGIN:VCALENDAR
VERSION:2.0
PRODID:-//Community Connect Transport - ECPv6.14.2//NONSGML v1.0//EN
CALSCALE:GREGORIAN
METHOD:PUBLISH
X-WR-CALNAME:Community Connect Transport
X-ORIGINAL-URL:https://communityconnect.org.au
X-WR-CALDESC:Events for Community Connect Transport
REFRESH-INTERVAL;VALUE=DURATION:PT1H
X-Robots-Tag:noindex
X-PUBLISHED-TTL:PT1H
BEGIN:VTIMEZONE
TZID:Australia/Sydney
BEGIN:STANDARD
TZOFFSETFROM:+1100
TZOFFSETTO:+1000
TZNAME:AEST
DTSTART:20260404T160000
END:STANDARD
BEGIN:DAYLIGHT
TZOFFSETFROM:+1000
TZOFFSETTO:+1100
TZNAME:AEDT
DTSTART:20261003T160000
END:DAYLIGHT
END:VTIMEZONE
BEGIN:VEVENT
DTSTART;TZID=Australia/Sydney:20260205T090000
DTEND;TZID=Australia/Sydney:20260205T150000
DTSTAMP:20260422T022935
CREATED:20251215T043506Z
LAST-MODIFIED:20251215T043553Z
UID:10000431-1770282000-1770303600@communityconnect.org.au
SUMMARY:Mountain High Pies- Wentworth Falls
DESCRIPTION:Mountain High Pies- Wentworth Falls  \nThe healthiest pastries in Sydney !  One of the best kept secrets. \nA scenic drive up towards the Blue Mountains\, with a stop for lunch having a large choice of flavours of the yummiest pies. \nBRING A COOLER Bag if your taking home sweet pies and tarts or you can just eat them for dessert ….. \n  \nTransport only: \n$55.00 CHSP Clients \n$70.00 All Other Clients
URL:https://communityconnect.org.au/event/mountain-high-pies/
ATTACH;FMTTYPE=image/jpeg:https://communityconnect.org.au/wp-content/uploads/2025/12/Mountain-High-Pies.jpg
END:VEVENT
END:VCALENDAR