BEGIN:VCALENDAR
VERSION:2.0
PRODID:-//Community Connect Transport - ECPv6.14.2//NONSGML v1.0//EN
CALSCALE:GREGORIAN
METHOD:PUBLISH
X-ORIGINAL-URL:https://communityconnect.org.au
X-WR-CALDESC:Events for Community Connect Transport
REFRESH-INTERVAL;VALUE=DURATION:PT1H
X-Robots-Tag:noindex
X-PUBLISHED-TTL:PT1H
BEGIN:VTIMEZONE
TZID:Australia/Sydney
BEGIN:STANDARD
TZOFFSETFROM:+1100
TZOFFSETTO:+1000
TZNAME:AEST
DTSTART:20260404T160000
END:STANDARD
BEGIN:DAYLIGHT
TZOFFSETFROM:+1000
TZOFFSETTO:+1100
TZNAME:AEDT
DTSTART:20261003T160000
END:DAYLIGHT
END:VTIMEZONE
BEGIN:VEVENT
DTSTART;TZID=Australia/Sydney:20260206T100000
DTEND;TZID=Australia/Sydney:20260206T110000
DTSTAMP:20260422T023036
CREATED:20251215T043752Z
LAST-MODIFIED:20251215T043752Z
UID:10000432-1770372000-1770375600@communityconnect.org.au
SUMMARY:Honeysuckle Garden -Mosman
DESCRIPTION:Honeysuckle Garden Mosman  \nExplore the Nursery and gift shop.  \nBring home some plants or seedlings. \nIndependent Travellers only \nRequires mobile phone \nTransport only: \n$15.00 CHSP Clients \n$30.00 All Other Clients \n 
URL:https://communityconnect.org.au/event/honeysuckle-garden-mosman-3/
ATTACH;FMTTYPE=image/jpeg:https://communityconnect.org.au/wp-content/uploads/2025/02/Honeysuckle-Garden-Mosman.jpg
END:VEVENT
END:VCALENDAR