BEGIN:VCALENDAR
VERSION:2.0
PRODID:-//Community Connect Transport - ECPv6.14.2//NONSGML v1.0//EN
CALSCALE:GREGORIAN
METHOD:PUBLISH
X-WR-CALNAME:Community Connect Transport
X-ORIGINAL-URL:https://communityconnect.org.au
X-WR-CALDESC:Events for Community Connect Transport
REFRESH-INTERVAL;VALUE=DURATION:PT1H
X-Robots-Tag:noindex
X-PUBLISHED-TTL:PT1H
BEGIN:VTIMEZONE
TZID:Australia/Sydney
BEGIN:STANDARD
TZOFFSETFROM:+1100
TZOFFSETTO:+1000
TZNAME:AEST
DTSTART:20260404T160000
END:STANDARD
BEGIN:DAYLIGHT
TZOFFSETFROM:+1000
TZOFFSETTO:+1100
TZNAME:AEDT
DTSTART:20261003T160000
END:DAYLIGHT
END:VTIMEZONE
BEGIN:VEVENT
DTSTART;TZID=Australia/Sydney:20260209T110000
DTEND;TZID=Australia/Sydney:20260209T140000
DTSTAMP:20260422T022931
CREATED:20251215T044454Z
LAST-MODIFIED:20251215T044454Z
UID:10000433-1770634800-1770645600@communityconnect.org.au
SUMMARY:Australian Museum
DESCRIPTION:Australian Museum  \nLast chance to view this FREE exhibition -2025 Australian Geographic Nature Photographer of the Year. Bonus all 21 years past winners also on display. \nBe amazed by this unique collection of 12o photographs. Also visit the regular exhibits at the museum.  Grab a bite to eat at the Billabong Waterhole Cafe onsite. \nExplore the gallery and browse at leisure \nCafe on site \nIndependent Travellers only \nRequires mobile phone \n  \nTransport only: \n$25.00 CHSP Clients \n$40.00 All Other Clients
URL:https://communityconnect.org.au/event/australian-museum-2/
ATTACH;FMTTYPE=image/jpeg:https://communityconnect.org.au/wp-content/uploads/2025/12/National-museum-Nat-Geographic.jpg
END:VEVENT
END:VCALENDAR