BEGIN:VCALENDAR
VERSION:2.0
PRODID:-//Community Connect Transport - ECPv6.14.2//NONSGML v1.0//EN
CALSCALE:GREGORIAN
METHOD:PUBLISH
X-WR-CALNAME:Community Connect Transport
X-ORIGINAL-URL:https://communityconnect.org.au
X-WR-CALDESC:Events for Community Connect Transport
REFRESH-INTERVAL;VALUE=DURATION:PT1H
X-Robots-Tag:noindex
X-PUBLISHED-TTL:PT1H
BEGIN:VTIMEZONE
TZID:Australia/Sydney
BEGIN:STANDARD
TZOFFSETFROM:+1100
TZOFFSETTO:+1000
TZNAME:AEST
DTSTART:20260404T160000
END:STANDARD
BEGIN:DAYLIGHT
TZOFFSETFROM:+1000
TZOFFSETTO:+1100
TZNAME:AEDT
DTSTART:20261003T160000
END:DAYLIGHT
END:VTIMEZONE
BEGIN:VEVENT
DTSTART;TZID=Australia/Sydney:20260217T110000
DTEND;TZID=Australia/Sydney:20260217T133000
DTSTAMP:20260422T023046
CREATED:20251215T215700Z
LAST-MODIFIED:20251215T215700Z
UID:10000437-1771326000-1771335000@communityconnect.org.au
SUMMARY:Chinese NY Lunch - Greenwood Restaurant
DESCRIPTION:Chinese New Year -Greenwood Chinese Restaurant \nMinimum of 6 pp for this outing to go ahead- BOOKING must be made by 12 JANUARY 2026 ! \nCome along and enjoy Yum-Cha or choose from their al-a- carte menu. \nCelebrate Lunar New Year – the Fire Horse \nIndependent Travellers only \nRequires a mobile phone \nTransport only: \n$20.00 CHSP Clients \n$35.00 All Other Clients
URL:https://communityconnect.org.au/event/chinese-ny-greenwood-restaurant/
ATTACH;FMTTYPE=image/jpeg:https://communityconnect.org.au/wp-content/uploads/2025/12/Greenwood-Chinese-Restauarant.jpg
END:VEVENT
END:VCALENDAR