BEGIN:VCALENDAR
VERSION:2.0
PRODID:-//Community Connect Transport - ECPv6.14.2//NONSGML v1.0//EN
CALSCALE:GREGORIAN
METHOD:PUBLISH
X-ORIGINAL-URL:https://communityconnect.org.au
X-WR-CALDESC:Events for Community Connect Transport
REFRESH-INTERVAL;VALUE=DURATION:PT1H
X-Robots-Tag:noindex
X-PUBLISHED-TTL:PT1H
BEGIN:VTIMEZONE
TZID:Australia/Sydney
BEGIN:STANDARD
TZOFFSETFROM:+1100
TZOFFSETTO:+1000
TZNAME:AEST
DTSTART:20260404T160000
END:STANDARD
BEGIN:DAYLIGHT
TZOFFSETFROM:+1000
TZOFFSETTO:+1100
TZNAME:AEDT
DTSTART:20261003T160000
END:DAYLIGHT
END:VTIMEZONE
BEGIN:VEVENT
DTSTART;TZID=Australia/Sydney:20260219T110000
DTEND;TZID=Australia/Sydney:20260219T150000
DTSTAMP:20260422T053225
CREATED:20251215T220828Z
LAST-MODIFIED:20251215T220828Z
UID:10000438-1771498800-1771513200@communityconnect.org.au
SUMMARY:Castle Hill RSL
DESCRIPTION:Castle Hill RSL  \nThe Courtyard Kitchen prides itself on serving only the most flavoursome cuts of steak that are carefully selected from the field to the grill. If you’re in the mood for something lighter\, the light meals section offers healthy and delicious options . \nAlternatively share the yum at Jin Chan restaurant with traditional Chinese favourites to creative fusion dishes. \nDon’t forget to bring your ID. \nTransport only: \n$35.00 CHSP Clients \n$50.00 All Other Clients
URL:https://communityconnect.org.au/event/castle-hill-rsl/
ATTACH;FMTTYPE=image/jpeg:https://communityconnect.org.au/wp-content/uploads/2025/12/Courtyard-Kitchen.jpg
END:VEVENT
END:VCALENDAR