BEGIN:VCALENDAR
VERSION:2.0
PRODID:-//Community Connect Transport - ECPv6.14.2//NONSGML v1.0//EN
CALSCALE:GREGORIAN
METHOD:PUBLISH
X-WR-CALNAME:Community Connect Transport
X-ORIGINAL-URL:https://communityconnect.org.au
X-WR-CALDESC:Events for Community Connect Transport
REFRESH-INTERVAL;VALUE=DURATION:PT1H
X-Robots-Tag:noindex
X-PUBLISHED-TTL:PT1H
BEGIN:VTIMEZONE
TZID:Australia/Sydney
BEGIN:STANDARD
TZOFFSETFROM:+1100
TZOFFSETTO:+1000
TZNAME:AEST
DTSTART:20260404T160000
END:STANDARD
BEGIN:DAYLIGHT
TZOFFSETFROM:+1000
TZOFFSETTO:+1100
TZNAME:AEDT
DTSTART:20261003T160000
END:DAYLIGHT
END:VTIMEZONE
BEGIN:VEVENT
DTSTART;TZID=Australia/Sydney:20260223T100000
DTEND;TZID=Australia/Sydney:20260223T130000
DTSTAMP:20260422T104749
CREATED:20251215T221348Z
LAST-MODIFIED:20251215T221348Z
UID:10000439-1771840800-1771851600@communityconnect.org.au
SUMMARY:Art Gallery of NSW
DESCRIPTION:Art Gallery of NSW \nExplore the gallery and browse at leisure.  \nThere is a FREE exhibition – Asian Lantern \, collection of Asian art\, which stretches from Indonesia to Mongolia\, from Japan to Iran. \nIn this gallery\, which includes a working Japanese tearoom\, the exhibition Elemental investigates the natural elements of earth\, water and fire\, to which some traditions add wood\, metal\, void\, and wind or air. The works on display illuminate our understanding of each of these elemental groupings\, and the vital connections between them. \nIndependent Travellers only \nRequires mobile phone \nCafe on site \nTransport only: \n$30.00 CHSP Clients \n$45.00 All Other Clients
URL:https://communityconnect.org.au/event/art-gallery-of-nsw-12/
ATTACH;FMTTYPE=image/jpeg:https://communityconnect.org.au/wp-content/uploads/2025/12/Asian-Lantern-.jpg
END:VEVENT
END:VCALENDAR