BEGIN:VCALENDAR
VERSION:2.0
PRODID:-//Community Connect Transport - ECPv6.14.2//NONSGML v1.0//EN
CALSCALE:GREGORIAN
METHOD:PUBLISH
X-ORIGINAL-URL:https://communityconnect.org.au
X-WR-CALDESC:Events for Community Connect Transport
REFRESH-INTERVAL;VALUE=DURATION:PT1H
X-Robots-Tag:noindex
X-PUBLISHED-TTL:PT1H
BEGIN:VTIMEZONE
TZID:Australia/Sydney
BEGIN:STANDARD
TZOFFSETFROM:+1100
TZOFFSETTO:+1000
TZNAME:AEST
DTSTART:20260404T160000
END:STANDARD
BEGIN:DAYLIGHT
TZOFFSETFROM:+1000
TZOFFSETTO:+1100
TZNAME:AEDT
DTSTART:20261003T160000
END:DAYLIGHT
END:VTIMEZONE
BEGIN:VEVENT
DTSTART;TZID=Australia/Sydney:20260402T100000
DTEND;TZID=Australia/Sydney:20260402T160000
DTSTAMP:20260421T225001
CREATED:20260326T220900Z
LAST-MODIFIED:20260326T220900Z
UID:10000443-1775124000-1775145600@communityconnect.org.au
SUMMARY:Boathouse Patonga
DESCRIPTION:Boathouse Patonga  \nAn iconic waterside venue \, recently renovated and with stunning beachside views.  Scenic drive to get there and enjoy a hotel style lunch. \nThis is a full day trip \, lunch at own cost. \n  \nTransport only: \n$35.00 CHSP Clients \n$45.00 All Other Clients
URL:https://communityconnect.org.au/event/boathouse-patonga/
ATTACH;FMTTYPE=image/jpeg:https://communityconnect.org.au/wp-content/uploads/2026/03/Boathouse-Patonga.jpg
END:VEVENT
END:VCALENDAR