BEGIN:VCALENDAR
VERSION:2.0
PRODID:-//Community Connect Transport - ECPv6.14.2//NONSGML v1.0//EN
CALSCALE:GREGORIAN
METHOD:PUBLISH
X-ORIGINAL-URL:https://communityconnect.org.au
X-WR-CALDESC:Events for Community Connect Transport
REFRESH-INTERVAL;VALUE=DURATION:PT1H
X-Robots-Tag:noindex
X-PUBLISHED-TTL:PT1H
BEGIN:VTIMEZONE
TZID:Australia/Sydney
BEGIN:STANDARD
TZOFFSETFROM:+1100
TZOFFSETTO:+1000
TZNAME:AEST
DTSTART:20260404T160000
END:STANDARD
BEGIN:DAYLIGHT
TZOFFSETFROM:+1000
TZOFFSETTO:+1100
TZNAME:AEDT
DTSTART:20261003T160000
END:DAYLIGHT
END:VTIMEZONE
BEGIN:VEVENT
DTSTART;TZID=Australia/Sydney:20260413T093000
DTEND;TZID=Australia/Sydney:20260413T103000
DTSTAMP:20260421T225817
CREATED:20260326T230214Z
LAST-MODIFIED:20260326T230214Z
UID:10000447-1776072600-1776076200@communityconnect.org.au
SUMMARY:Book chat @ Greenwich Library
DESCRIPTION:BOOK CHAT @ Greenwich Library \nBrowse at your own leisure or discuss award winning fiction with this months THEME: Political Thrills Novels & Memoirs \nCafes nearby \nTransport only: \n$15.00 CHSP Clients \n$25.00 All Other Clients \n  \nMinimum numbers are required for all out of area trips. Destinations can be subject to change  or cancellation depending on weather or availability to stop at location etc. Only Thursday Social Outings  have a Volunteer on board to assist\, please note Volunteers and Drivers offer limited assistance. Other days are for Independent Travellers and we ask that you bring a mobile phone to ensure we don’t leave you behind on the return trip! If you would like a Carer to accompany you\, you must advise us at the time of booking. For Non-Account and Cash clients pre-payment is required for these bookings.
URL:https://communityconnect.org.au/event/book-chat-greenwich-library-3/
ATTACH;FMTTYPE=image/jpeg:https://communityconnect.org.au/wp-content/uploads/2025/09/Bookchat.jpg
END:VEVENT
END:VCALENDAR