BEGIN:VCALENDAR
VERSION:2.0
PRODID:-//Community Connect Transport - ECPv6.14.2//NONSGML v1.0//EN
CALSCALE:GREGORIAN
METHOD:PUBLISH
X-WR-CALNAME:Community Connect Transport
X-ORIGINAL-URL:https://communityconnect.org.au
X-WR-CALDESC:Events for Community Connect Transport
REFRESH-INTERVAL;VALUE=DURATION:PT1H
X-Robots-Tag:noindex
X-PUBLISHED-TTL:PT1H
BEGIN:VTIMEZONE
TZID:Australia/Sydney
BEGIN:STANDARD
TZOFFSETFROM:+1100
TZOFFSETTO:+1000
TZNAME:AEST
DTSTART:20260404T160000
END:STANDARD
BEGIN:DAYLIGHT
TZOFFSETFROM:+1000
TZOFFSETTO:+1100
TZNAME:AEDT
DTSTART:20261003T160000
END:DAYLIGHT
END:VTIMEZONE
BEGIN:VEVENT
DTSTART;TZID=Australia/Sydney:20260420T110000
DTEND;TZID=Australia/Sydney:20260420T120000
DTSTAMP:20260421T225659
CREATED:20251215T042744Z
LAST-MODIFIED:20260327T000828Z
UID:10000430-1776682800-1776686400@communityconnect.org.au
SUMMARY:Bunnings Chatswood - Shopping
DESCRIPTION:Bunnings Chatswood \nBrowse and Shop at your leisure\, pick up new supplies \nCafe on Site \nIndependent Travellers only \nRequires mobile phone \nTransport only: \n$20.00 CHSP Clients \n$35.00 All Other Clients \n 
URL:https://communityconnect.org.au/event/bunnings-chatswood-shopping-10/
ATTACH;FMTTYPE=image/jpeg:https://communityconnect.org.au/wp-content/uploads/2023/02/2022-05-05.jpg
END:VEVENT
END:VCALENDAR