BEGIN:VCALENDAR
VERSION:2.0
PRODID:-//Community Connect Transport - ECPv6.14.2//NONSGML v1.0//EN
CALSCALE:GREGORIAN
METHOD:PUBLISH
X-WR-CALNAME:Community Connect Transport
X-ORIGINAL-URL:https://communityconnect.org.au
X-WR-CALDESC:Events for Community Connect Transport
REFRESH-INTERVAL;VALUE=DURATION:PT1H
X-Robots-Tag:noindex
X-PUBLISHED-TTL:PT1H
BEGIN:VTIMEZONE
TZID:Australia/Sydney
BEGIN:STANDARD
TZOFFSETFROM:+1100
TZOFFSETTO:+1000
TZNAME:AEST
DTSTART:20260404T160000
END:STANDARD
BEGIN:DAYLIGHT
TZOFFSETFROM:+1000
TZOFFSETTO:+1100
TZNAME:AEDT
DTSTART:20261003T160000
END:DAYLIGHT
END:VTIMEZONE
BEGIN:VEVENT
DTSTART;TZID=Australia/Sydney:20260423T090000
DTEND;TZID=Australia/Sydney:20260423T150000
DTSTAMP:20260421T225657
CREATED:20260327T002719Z
LAST-MODIFIED:20260327T002719Z
UID:10000450-1776934800-1776956400@communityconnect.org.au
SUMMARY:Sydney Fish Markets
DESCRIPTION:Sydney Fish Markets \nThe long awaited trip to this iconic new venue includes a behind- the-scenes tour of the auction process\, freezer storage area\, demonstration of oyster shucking and learning tips about how to choose fresh fish as part of the Discovery Tour – costing $40 per person. Needs to be paid in advance\, limited spots. Please call out office ASAP. \nWaterfront dining with a table booked at The Boatshed restaurant ( same operators as at La perouse)   as it continues to be very busy in the centre around lunchtime\, as The Fish Markets is still popular for local workers to drop into and try out all that is on offer\,  so a guaranteed seat with a great choice of seafood will make for a great outing. \nLunch Transport only: \n$20.00 CHSP Clients \n$30.00 All Other Clients
URL:https://communityconnect.org.au/event/sydney-fish-markets/
ATTACH;FMTTYPE=image/jpeg:https://communityconnect.org.au/wp-content/uploads/2026/03/Sydney-Fish-Markets.jpg
END:VEVENT
END:VCALENDAR