BEGIN:VCALENDAR
VERSION:2.0
PRODID:-//Community Connect Transport - ECPv6.14.2//NONSGML v1.0//EN
CALSCALE:GREGORIAN
METHOD:PUBLISH
X-ORIGINAL-URL:https://communityconnect.org.au
X-WR-CALDESC:Events for Community Connect Transport
REFRESH-INTERVAL;VALUE=DURATION:PT1H
X-Robots-Tag:noindex
X-PUBLISHED-TTL:PT1H
BEGIN:VTIMEZONE
TZID:Australia/Sydney
BEGIN:STANDARD
TZOFFSETFROM:+1100
TZOFFSETTO:+1000
TZNAME:AEST
DTSTART:20260404T160000
END:STANDARD
BEGIN:DAYLIGHT
TZOFFSETFROM:+1000
TZOFFSETTO:+1100
TZNAME:AEDT
DTSTART:20261003T160000
END:DAYLIGHT
END:VTIMEZONE
BEGIN:VEVENT
DTSTART;TZID=Australia/Sydney:20260427T100000
DTEND;TZID=Australia/Sydney:20260427T130000
DTSTAMP:20260421T225816
CREATED:20260327T002845Z
LAST-MODIFIED:20260327T002845Z
UID:10000451-1777284000-1777294800@communityconnect.org.au
SUMMARY:Chatswood Chase - Shopping
DESCRIPTION:Chatswood Chase – Shopping \nShopping at your leisure\, visit all your favourite stores or enjoy lunch \nIndependent Travellers Only \nRequires a mobile phone \n  \nTransport only: \n$20.00 CHSP Clients \n$35.00 All Other Clients \n\n  \n 
URL:https://communityconnect.org.au/event/chatswood-chase-shopping-3/
ATTACH;FMTTYPE=image/jpeg:https://communityconnect.org.au/wp-content/uploads/2024/05/2016-12-17.jpg
END:VEVENT
END:VCALENDAR