BEGIN:VCALENDAR
VERSION:2.0
PRODID:-//Community Connect Transport - ECPv6.14.2//NONSGML v1.0//EN
CALSCALE:GREGORIAN
METHOD:PUBLISH
X-WR-CALNAME:Community Connect Transport
X-ORIGINAL-URL:https://communityconnect.org.au
X-WR-CALDESC:Events for Community Connect Transport
REFRESH-INTERVAL;VALUE=DURATION:PT1H
X-Robots-Tag:noindex
X-PUBLISHED-TTL:PT1H
BEGIN:VTIMEZONE
TZID:Australia/Sydney
BEGIN:STANDARD
TZOFFSETFROM:+1100
TZOFFSETTO:+1000
TZNAME:AEST
DTSTART:20260404T160000
END:STANDARD
BEGIN:DAYLIGHT
TZOFFSETFROM:+1000
TZOFFSETTO:+1100
TZNAME:AEDT
DTSTART:20261003T160000
END:DAYLIGHT
END:VTIMEZONE
BEGIN:VEVENT
DTSTART;TZID=Australia/Sydney:20260429T093000
DTEND;TZID=Australia/Sydney:20260429T143000
DTSTAMP:20260421T225138
CREATED:20260327T004029Z
LAST-MODIFIED:20260327T004029Z
UID:10000452-1777455000-1777473000@communityconnect.org.au
SUMMARY:Champagne Wednesday
DESCRIPTION:Champagne Wednesday \nBlacktown Workers Club celebrates in style with a free glass of champagne on arrival\, when booked in for show and lunch. \nGuest artists Leigh Archer & Stephan Fisher King. \nCost $35 per person must be paid in advance so please call the office to grab a ticket. Minimum of 10 pp booked for outing to go ahead. \nTransport only: \n$40.00 CHSP Clients \n$55.00 All Other Clients
URL:https://communityconnect.org.au/event/champagne-wednesday/
ATTACH;FMTTYPE=image/jpeg:https://communityconnect.org.au/wp-content/uploads/2026/03/Champagne-Wednesday.jpg
END:VEVENT
END:VCALENDAR