BEGIN:VCALENDAR
VERSION:2.0
PRODID:-//Community Connect Transport - ECPv6.14.2//NONSGML v1.0//EN
CALSCALE:GREGORIAN
METHOD:PUBLISH
X-ORIGINAL-URL:https://communityconnect.org.au
X-WR-CALDESC:Events for Community Connect Transport
REFRESH-INTERVAL;VALUE=DURATION:PT1H
X-Robots-Tag:noindex
X-PUBLISHED-TTL:PT1H
BEGIN:VTIMEZONE
TZID:Australia/Sydney
BEGIN:STANDARD
TZOFFSETFROM:+1100
TZOFFSETTO:+1000
TZNAME:AEST
DTSTART:20260404T160000
END:STANDARD
BEGIN:DAYLIGHT
TZOFFSETFROM:+1000
TZOFFSETTO:+1100
TZNAME:AEDT
DTSTART:20261003T160000
END:DAYLIGHT
END:VTIMEZONE
BEGIN:VEVENT
DTSTART;TZID=Australia/Sydney:20260430T100000
DTEND;TZID=Australia/Sydney:20260430T150000
DTSTAMP:20260421T225755
CREATED:20260327T004939Z
LAST-MODIFIED:20260327T004939Z
UID:10000453-1777543200-1777561200@communityconnect.org.au
SUMMARY:Merrylands RSL
DESCRIPTION:Merrylands RSL \nVisit to Holroyd Gardens – bring your own morning tea and go for a walk around or sit and enjoy the views on the way to Merrylands RSL Club for lunch at Signatures for some of the best Italian and Asian food including a selection of freshly prepared sushi\, salad bar\, carvery station\, popular Asian dishes\, pizza\, soup\, pasta and more. The popular seafood will have fresh prawns available daily\, along with mussels. \n  \nLunch Transport only: \n$40.00 CHSP Clients \n$55.00 All Other Clients
URL:https://communityconnect.org.au/event/merrylands-rsl/
ATTACH;FMTTYPE=image/jpeg:https://communityconnect.org.au/wp-content/uploads/2026/03/Merrylands-RSL.jpg
END:VEVENT
END:VCALENDAR