BEGIN:VCALENDAR
VERSION:2.0
PRODID:-//Community Connect Transport - ECPv6.14.2//NONSGML v1.0//EN
CALSCALE:GREGORIAN
METHOD:PUBLISH
X-WR-CALNAME:Community Connect Transport
X-ORIGINAL-URL:https://communityconnect.org.au
X-WR-CALDESC:Events for Community Connect Transport
REFRESH-INTERVAL;VALUE=DURATION:PT1H
X-Robots-Tag:noindex
X-PUBLISHED-TTL:PT1H
BEGIN:VTIMEZONE
TZID:Australia/Sydney
BEGIN:STANDARD
TZOFFSETFROM:+1100
TZOFFSETTO:+1000
TZNAME:AEST
DTSTART:20230401T160000
END:STANDARD
BEGIN:DAYLIGHT
TZOFFSETFROM:+1000
TZOFFSETTO:+1100
TZNAME:AEDT
DTSTART:20230930T160000
END:DAYLIGHT
END:VTIMEZONE
BEGIN:VEVENT
DTSTART;TZID=Australia/Sydney:20230420T120000
DTEND;TZID=Australia/Sydney:20230420T140000
DTSTAMP:20260426T015008
CREATED:20230405T025139Z
LAST-MODIFIED:20230405T025356Z
UID:10000046-1681992000-1681999200@communityconnect.org.au
SUMMARY:Parramatta Leagues Club
DESCRIPTION:Transport Only: $20 CHSP Clients or $30 All other Clients \nLunch at your own cost \nDrive through Parramatta Park \nBring photo ID to sign into venue \nSpaces limited – maximum 25 people
URL:https://communityconnect.org.au/event/parramatta-leagues-club/
ATTACH;FMTTYPE=image/jpeg:https://communityconnect.org.au/wp-content/uploads/2023/04/parraleagues_day2.jpg
END:VEVENT
BEGIN:VEVENT
DTSTART;TZID=Australia/Sydney:20230413T120000
DTEND;TZID=Australia/Sydney:20230413T140000
DTSTAMP:20260426T015008
CREATED:20230405T024126Z
LAST-MODIFIED:20230405T025749Z
UID:10000045-1681387200-1681394400@communityconnect.org.au
SUMMARY:Top Point Cafe - Japanese Gardens\, East Gosford
DESCRIPTION:Transport only: $25 CHSP Clients or $35 All other Clients \nLunch in the Top Point Cafe at your own cost \nStop at the the Japanese Gardens \nPlease note this is an extended day outing with early pick up and late drop off times \nSpaces are limited to a maximum of 25 people
URL:https://communityconnect.org.au/event/top-point-cafe-japanese-gardens-east-gosford/
ATTACH;FMTTYPE=image/jpeg:https://communityconnect.org.au/wp-content/uploads/2023/04/Top-Point-Japanese-Gardens-2.jpg
END:VEVENT
BEGIN:VEVENT
DTSTART;TZID=Australia/Sydney:20230406T120000
DTEND;TZID=Australia/Sydney:20230406T140000
DTSTAMP:20260426T015008
CREATED:20230405T023146Z
LAST-MODIFIED:20230405T023639Z
UID:10000044-1680782400-1680789600@communityconnect.org.au
SUMMARY:Yarra Bay Sailing Club
DESCRIPTION:Scenic drive via La Perouse \nTransport only: $20 CHSP Clients  or $30 All other Clients \nEnjoy the $20 Lunch Special\, please bring photo ID to sign into the venue \nSpaces are limited to a maximum of 25 \n  \n 
URL:https://communityconnect.org.au/event/yarra-bay-sailing-club/
ATTACH;FMTTYPE=image/jpeg:https://communityconnect.org.au/wp-content/uploads/2023/04/Yarra-Bay-Sailing-Club.jpg
END:VEVENT
BEGIN:VEVENT
DTSTART;TZID=Australia/Sydney:20230330T120000
DTEND;TZID=Australia/Sydney:20230330T140000
DTSTAMP:20260426T015008
CREATED:20230217T000234Z
LAST-MODIFIED:20230219T204716Z
UID:10000043-1680177600-1680184800@communityconnect.org.au
SUMMARY:Dural Country Club
DESCRIPTION:Transport Only: $20 CHSP Clients or $30 All other Clients \nLunch at your own cost \nStop at Swane’s Nursery Dural \nBring photo ID to sign into venue \nSpaces limited – maximum 25 \n  \n 
URL:https://communityconnect.org.au/event/dural-country-club/
ATTACH;FMTTYPE=image/jpeg:https://communityconnect.org.au/wp-content/uploads/2023/02/1496325_940116586017028_2575746976530544334_o.jpg
END:VEVENT
BEGIN:VEVENT
DTSTART;TZID=Australia/Sydney:20230329T110000
DTEND;TZID=Australia/Sydney:20230329T130000
DTSTAMP:20260426T015008
CREATED:20230216T235248Z
LAST-MODIFIED:20230219T205347Z
UID:10000038-1680087600-1680094800@communityconnect.org.au
SUMMARY:Kirribilli Club
DESCRIPTION:Transport Only: $15 CHSP Clients or $25 All other Clients \n‘Hop On – Hop Off’ service \nRequires mobile phone \nFor Independent travellers only \n  \n 
URL:https://communityconnect.org.au/event/kirribilli-club/
ATTACH;FMTTYPE=image/jpeg:https://communityconnect.org.au/wp-content/uploads/2023/02/12345616_1035578966494544_8283472649786087163_n.jpg
END:VEVENT
BEGIN:VEVENT
DTSTART;TZID=Australia/Sydney:20230327T110000
DTEND;TZID=Australia/Sydney:20230327T130000
DTSTAMP:20260426T015008
CREATED:20230216T234500Z
LAST-MODIFIED:20230217T023854Z
UID:10000033-1679914800-1679922000@communityconnect.org.au
SUMMARY:Northbridge Plaza
DESCRIPTION:Transport Only: $15 CHSP Clients or $25 All other Clients \n‘Hop On – Hop Off’ service \nRequires mobile phone \nFor Independent travellers only \n  \n 
URL:https://communityconnect.org.au/event/northbridge-plaza/
ATTACH;FMTTYPE=image/jpeg:https://communityconnect.org.au/wp-content/uploads/2023/02/2017-03-06.jpg
END:VEVENT
BEGIN:VEVENT
DTSTART;TZID=Australia/Sydney:20230323T120000
DTEND;TZID=Australia/Sydney:20230323T140000
DTSTAMP:20260426T015008
CREATED:20230217T000125Z
LAST-MODIFIED:20230217T023727Z
UID:10000042-1679572800-1679580000@communityconnect.org.au
SUMMARY:Glenorie RSL Club
DESCRIPTION:Transport Only: $20 CHSP Clients or $30 All other Clients \nLunch at your own cost \nStop at Glenorie Bakery \nBring photo ID to sign into venue \nSpaces limited – maximum 25 \n  \n 
URL:https://communityconnect.org.au/event/glenorie-rsl-club/
ATTACH;FMTTYPE=image/jpeg:https://communityconnect.org.au/wp-content/uploads/2023/02/GlenorieRSL0008.jpg
END:VEVENT
BEGIN:VEVENT
DTSTART;TZID=Australia/Sydney:20230320T110000
DTEND;TZID=Australia/Sydney:20230320T140000
DTSTAMP:20260426T015008
CREATED:20230216T234249Z
LAST-MODIFIED:20230217T023342Z
UID:10000032-1679310000-1679320800@communityconnect.org.au
SUMMARY:Lane Cove Shops
DESCRIPTION:Transport Only: $15 CHSP Clients or $25 All other Clients \n‘Hop On – Hop Off’ service \nRequires mobile phone \nFor Independent travellers only \n  \n 
URL:https://communityconnect.org.au/event/lane-cove-shops/
ATTACH;FMTTYPE=image/jpeg:https://communityconnect.org.au/wp-content/uploads/2023/02/IMG20210522162627.jpg
END:VEVENT
BEGIN:VEVENT
DTSTART;TZID=Australia/Sydney:20230316T120000
DTEND;TZID=Australia/Sydney:20230316T140000
DTSTAMP:20260426T015008
CREATED:20230216T235952Z
LAST-MODIFIED:20230219T202858Z
UID:10000041-1678968000-1678975200@communityconnect.org.au
SUMMARY:Greengate Hotel
DESCRIPTION:Transport Only: $20 CHSP Clients or $30 All other Clients \nLunch at your own cost \nStop Lane Cove National Park \nSpaces limited – maximum 25 \n  \n 
URL:https://communityconnect.org.au/event/greengate-hotel/
ATTACH;FMTTYPE=image/jpeg:https://communityconnect.org.au/wp-content/uploads/2023/02/Greengate-1.jpeg
END:VEVENT
BEGIN:VEVENT
DTSTART;TZID=Australia/Sydney:20230315T110000
DTEND;TZID=Australia/Sydney:20230315T130000
DTSTAMP:20260426T015008
CREATED:20230216T235033Z
LAST-MODIFIED:20230217T023150Z
UID:10000036-1678878000-1678885200@communityconnect.org.au
SUMMARY:Birkenhead Point
DESCRIPTION:Transport Only: $20 CHSP Clients or $30 All other Clients \n‘Hop On – Hop Off’ service \nRequires mobile phone \nFor Independent travellers only \n  \n 
URL:https://communityconnect.org.au/event/birkenhead-point/
ATTACH;FMTTYPE=image/jpeg:https://communityconnect.org.au/wp-content/uploads/2023/02/2022-08-18.jpg
END:VEVENT
BEGIN:VEVENT
DTSTART;TZID=Australia/Sydney:20230313T110000
DTEND;TZID=Australia/Sydney:20230313T130000
DTSTAMP:20260426T015008
CREATED:20230216T234044Z
LAST-MODIFIED:20230217T022905Z
UID:10000031-1678705200-1678712400@communityconnect.org.au
SUMMARY:Westfield Chatswood
DESCRIPTION:Transport Only: $15 CHSP Clients or $25 All other Clients \n‘Hop On – Hop Off’ service \nRequires mobile phone \nFor Independent travellers only \n  \n 
URL:https://communityconnect.org.au/event/westfield-chatswood/
ATTACH;FMTTYPE=image/jpeg:https://communityconnect.org.au/wp-content/uploads/2023/02/2020-06-08.jpg
END:VEVENT
BEGIN:VEVENT
DTSTART;TZID=Australia/Sydney:20230309T120000
DTEND;TZID=Australia/Sydney:20230309T140000
DTSTAMP:20260426T015008
CREATED:20230216T235751Z
LAST-MODIFIED:20230217T022642Z
UID:10000040-1678363200-1678370400@communityconnect.org.au
SUMMARY:Avalon Beach RSL Club
DESCRIPTION:Transport Only: $25 CHSP Clients or $35 All other Clients \nLunch at your own cost \nScenic drive Northern Beaches \nBring photo ID to sign into venue \nSpaces limited – maximum 25 \n  \n 
URL:https://communityconnect.org.au/event/avalon-beach-rsl-club/
ATTACH;FMTTYPE=image/jpeg:https://communityconnect.org.au/wp-content/uploads/2023/02/Stella1.jpg
END:VEVENT
BEGIN:VEVENT
DTSTART;TZID=Australia/Sydney:20230308T110000
DTEND;TZID=Australia/Sydney:20230308T130000
DTSTAMP:20260426T015008
CREATED:20230216T234914Z
LAST-MODIFIED:20230217T022252Z
UID:10000035-1678273200-1678280400@communityconnect.org.au
SUMMARY:Chatswood Chase
DESCRIPTION:Transport Only: $15 CHSP Clients or $25 All other Clients \n‘Hop On – Hop Off’ service \nRequires mobile phone \nFor Independent travellers only \n  \n 
URL:https://communityconnect.org.au/event/chatswood-chase/
ATTACH;FMTTYPE=image/jpeg:https://communityconnect.org.au/wp-content/uploads/2023/02/2016-12-17.jpg
END:VEVENT
BEGIN:VEVENT
DTSTART;TZID=Australia/Sydney:20230306T110000
DTEND;TZID=Australia/Sydney:20230306T130000
DTSTAMP:20260426T015008
CREATED:20230213T020843Z
LAST-MODIFIED:20230217T021630Z
UID:10000030-1678100400-1678107600@communityconnect.org.au
SUMMARY:Eden Gardens Macquarie Park
DESCRIPTION:Transport Only: $20 CHSP Clients or $30 All other Clients \n‘Hop On – Hop Off’ service \nRequires mobile phone \nFor Independent travellers only
URL:https://communityconnect.org.au/event/eden-gardens-macquarie-park/
ATTACH;FMTTYPE=image/webp:https://communityconnect.org.au/wp-content/uploads/2023/02/domcherry-3966_540x.webp
END:VEVENT
BEGIN:VEVENT
DTSTART;TZID=Australia/Sydney:20230302T120000
DTEND;TZID=Australia/Sydney:20230302T140000
DTSTAMP:20260426T015008
CREATED:20230216T235443Z
LAST-MODIFIED:20230217T021839Z
UID:10000039-1677758400-1677765600@communityconnect.org.au
SUMMARY:Canada Bay Club
DESCRIPTION:Transport Only: $20 CHSP Clients or $30 All other Clients \n$20 Lunch Special \nDrive to Cabarita Park \nBring photo ID to sign into venue \nSpaces limited – maximum 25 \n  \n 
URL:https://communityconnect.org.au/event/canada-bay-club/
ATTACH;FMTTYPE=image/jpeg:https://communityconnect.org.au/wp-content/uploads/2023/02/20220209_141428.jpg
END:VEVENT
BEGIN:VEVENT
DTSTART;TZID=Australia/Sydney:20230301T103000
DTEND;TZID=Australia/Sydney:20230301T120000
DTSTAMP:20260426T015008
CREATED:20230216T234737Z
LAST-MODIFIED:20230219T211342Z
UID:10000034-1677666600-1677672000@communityconnect.org.au
SUMMARY:Innovations Frenchs Forest
DESCRIPTION:Transport Only: : $20 CHSP Clients or $30 All other Clients \n‘Hop On – Hop Off’ service \nRequires mobile phone \nFor Independent travellers only \n  \n 
URL:https://communityconnect.org.au/event/innovations-frenchs-forest/
ATTACH;FMTTYPE=image/jpeg:https://communityconnect.org.au/wp-content/uploads/2023/02/innovations-scaled-e1716429001167.jpg
END:VEVENT
END:VCALENDAR