BEGIN:VCALENDAR
VERSION:2.0
PRODID:-//Community Connect Transport - ECPv6.14.2//NONSGML v1.0//EN
CALSCALE:GREGORIAN
METHOD:PUBLISH
X-WR-CALNAME:Community Connect Transport
X-ORIGINAL-URL:https://communityconnect.org.au
X-WR-CALDESC:Events for Community Connect Transport
REFRESH-INTERVAL;VALUE=DURATION:PT1H
X-Robots-Tag:noindex
X-PUBLISHED-TTL:PT1H
BEGIN:VTIMEZONE
TZID:Australia/Sydney
BEGIN:STANDARD
TZOFFSETFROM:+1100
TZOFFSETTO:+1000
TZNAME:AEST
DTSTART:20230401T160000
END:STANDARD
BEGIN:DAYLIGHT
TZOFFSETFROM:+1000
TZOFFSETTO:+1100
TZNAME:AEDT
DTSTART:20230930T160000
END:DAYLIGHT
END:VTIMEZONE
BEGIN:VEVENT
DTSTART;TZID=Australia/Sydney:20231221T120000
DTEND;TZID=Australia/Sydney:20231221T140000
DTSTAMP:20260425T211507
CREATED:20231101T033931Z
LAST-MODIFIED:20231216T213736Z
UID:10000095-1703160000-1703167200@communityconnect.org.au
SUMMARY:Balgowlah RSL
DESCRIPTION:Lunch at your own cost \nNorth Head Scenic Drive \nBring Photo ID to sign into venue \nTransport only: \n$25.00 CHSP Clients \n$35.00 All Other Clients \nDestinations are subject to change depending on weather or availability to stop at location etc. Please be advised that our Thursday Social Outings are a full day event and pick ups may begin from 8.00am. Our outings are designed for independent travellersand the drivers/volunteers offer limited assistance. If you require a Carer to come along an extra $10.00 charge is addition to the bus fare will apply.
URL:https://communityconnect.org.au/event/balgowlah-rsl/
ATTACH;FMTTYPE=image/jpeg:https://communityconnect.org.au/wp-content/uploads/2023/11/bayshores-bistro-500x380-1.jpg
END:VEVENT
BEGIN:VEVENT
DTSTART;TZID=Australia/Sydney:20231218T110000
DTEND;TZID=Australia/Sydney:20231218T130000
DTSTAMP:20260425T211507
CREATED:20231101T030429Z
LAST-MODIFIED:20231101T030429Z
UID:10000087-1702897200-1702904400@communityconnect.org.au
SUMMARY:Home HQ Artarmon - Shopping
DESCRIPTION:Home HQ Artarmon \nHop On Hop Off Shopping Is Back! \nShopping at your own leisure. \nMobile phone is required for contact on the day to ensure you arrive back at the bus in time for the return journey. \nThis service is for independent travellers only. \nTransport cost: \n$15.00 CHSP Clients \n$25.00 All other Clients
URL:https://communityconnect.org.au/event/home-hq-artarmon-shopping/
ATTACH;FMTTYPE=image/jpeg:https://communityconnect.org.au/wp-content/uploads/2023/11/HQ-Artarmon.jpg
END:VEVENT
BEGIN:VEVENT
DTSTART;TZID=Australia/Sydney:20231214T110000
DTEND;TZID=Australia/Sydney:20231214T140000
DTSTAMP:20260425T211507
CREATED:20231101T032823Z
LAST-MODIFIED:20231101T032823Z
UID:10000094-1702551600-1702562400@communityconnect.org.au
SUMMARY:The Como Hotel
DESCRIPTION:Lunch at your own cost \nScenic drive to this historic landmark \nBring Photo ID to sign into venue \nTransport only: \n$25.00 CHSP Clients \n$35.00 All Other Clients \nDestinations are subject to change depending on weatheror availability to stop at location etc. Please be advised that our Thursday Social Outings are a full day event and pick ups may begin from 8.00am. Our outings are designed for independent travellersand the drivers/volunteers offer limited assistance. If you require a Carer to come along an extra $10.00 charge is addition to the bus fare will apply.
URL:https://communityconnect.org.au/event/the-como-hotel-2/
ATTACH;FMTTYPE=image/jpeg:https://communityconnect.org.au/wp-content/uploads/2023/06/The-Como-Hotel.jpg
END:VEVENT
BEGIN:VEVENT
DTSTART;TZID=Australia/Sydney:20231211T110000
DTEND;TZID=Australia/Sydney:20231211T140000
DTSTAMP:20260425T211507
CREATED:20231101T025837Z
LAST-MODIFIED:20231101T025837Z
UID:10000086-1702292400-1702303200@communityconnect.org.au
SUMMARY:Westfield Chatswood - Shopping
DESCRIPTION:Westfield Chatswood \nHop On Hop Off Shopping Is Back! \nShopping at your own leisure. \nMobile phone is required for contact on the day to ensure you arrive back at the bus in time for the return journey. \nThis service is for independent travellers only. \nTransport cost: \n$15.00 CHSP Clients \n$25.00 All other Clients
URL:https://communityconnect.org.au/event/westfield-chatswood-shopping-2/
ATTACH;FMTTYPE=image/jpeg:https://communityconnect.org.au/wp-content/uploads/2023/02/2020-06-08.jpg
END:VEVENT
BEGIN:VEVENT
DTSTART;TZID=Australia/Sydney:20231207T120000
DTEND;TZID=Australia/Sydney:20231207T140000
DTSTAMP:20260425T211507
CREATED:20231101T032623Z
LAST-MODIFIED:20231101T032623Z
UID:10000093-1701950400-1701957600@communityconnect.org.au
SUMMARY:Dee Why RSL
DESCRIPTION:Lunch at your own cost \nStop at Long Reef Headland \nBring Photo ID to sign into venue \nTransport only: \n$25.00 CHSP Clients \n$35.00 All Other Clients \nDestinations are subject to change depending on weatheror availability to stop at location etc. Please be advised that our Thursday Social Outings are a full day event and pick ups may begin from 8.00am. Our outings are designed for independent travellersand the drivers/volunteers offer limited assistance. If you require a Carer to come along an extra $10.00 charge is addition to the bus fare will apply.
URL:https://communityconnect.org.au/event/dee-why-rsl-2/
ATTACH;FMTTYPE=image/jpeg:https://communityconnect.org.au/wp-content/uploads/2023/11/Dee-Why-RSL-2.jpg
END:VEVENT
BEGIN:VEVENT
DTSTART;TZID=Australia/Sydney:20231204T110000
DTEND;TZID=Australia/Sydney:20231204T140000
DTSTAMP:20260425T211507
CREATED:20231101T025604Z
LAST-MODIFIED:20231101T025604Z
UID:10000084-1701687600-1701698400@communityconnect.org.au
SUMMARY:Lane Cove Shops - Shopping
DESCRIPTION:Lane Cove Shops \nHop On Hop Off Shopping Is Back! \nShopping at your own leisure. \nMobile phone is required for contact on the day to ensure you arrive back at the bus in time for the return journey. \nThis service is for independent travellers only. \nTransport cost: \n$15.00 CHSP Clients \n$25.00 All other Clients
URL:https://communityconnect.org.au/event/lane-cove-shops-shopping/
ATTACH;FMTTYPE=image/jpeg:https://communityconnect.org.au/wp-content/uploads/2023/02/IMG20210522162627.jpg
END:VEVENT
BEGIN:VEVENT
DTSTART;TZID=Australia/Sydney:20231130T120000
DTEND;TZID=Australia/Sydney:20231130T140000
DTSTAMP:20260425T211507
CREATED:20231101T032408Z
LAST-MODIFIED:20231101T032408Z
UID:10000092-1701345600-1701352800@communityconnect.org.au
SUMMARY:Club Rose Bay
DESCRIPTION:Lunch at your own cost \nDrive to Watsons Bay \nBring Photo ID to sign into venue \nTransport only: \n$25.00 CHSP Clients \n$35.00 All Other Clients \nDestinations are subject to change depending on weatheror availability to stop at location etc. Please be advised that our Thursday Social Outings are a full day event and pick ups may begin from 8.00am. Our outings are designed for independent travellersand the drivers/volunteers offer limited assistance. If you require a Carer to come along an extra $10.00 charge is addition to the bus fare will apply.
URL:https://communityconnect.org.au/event/club-rose-bay-2/
ATTACH;FMTTYPE=image/jpeg:https://communityconnect.org.au/wp-content/uploads/2023/04/Club_Rose_Bay-1.jpg
END:VEVENT
BEGIN:VEVENT
DTSTART;TZID=Australia/Sydney:20231127T110000
DTEND;TZID=Australia/Sydney:20231127T130000
DTSTAMP:20260425T211507
CREATED:20231101T025349Z
LAST-MODIFIED:20231101T025349Z
UID:10000083-1701082800-1701090000@communityconnect.org.au
SUMMARY:Bunnings Chatswood - Shopping
DESCRIPTION:Bunnings Chatswood \nHop On Hop Off Shopping Is Back! \nShopping at your own leisure. \nMobile phone is required for contact on the day to ensure you arrive back at the bus in time for the return journey. \nThis service is for independent travellers only. \nTransport cost: \n$15.00 CHSP Clients \n$25.00 All other Clients
URL:https://communityconnect.org.au/event/bunnings-chatswood-shopping/
ATTACH;FMTTYPE=image/jpeg:https://communityconnect.org.au/wp-content/uploads/2023/02/2022-05-05.jpg
END:VEVENT
BEGIN:VEVENT
DTSTART;TZID=Australia/Sydney:20231123T120000
DTEND;TZID=Australia/Sydney:20231123T140000
DTSTAMP:20260425T211507
CREATED:20231101T032156Z
LAST-MODIFIED:20231101T032156Z
UID:10000091-1700740800-1700748000@communityconnect.org.au
SUMMARY:Ironwood Coffee Company - Woolwich
DESCRIPTION:Lunch at your own cost \nStop at Lane Cove National Park \nTransport only: \n$20.00 CHSP Clients \n$30.00 All Other Clients \nDestinations are subject to change depending on weatheror availability to stop at location etc. Please be advised that our Thursday Social Outings are a full day event and pick ups may begin from 8.00am. Our outings are designed for independent travellersand the drivers/volunteers offer limited assistance. If you require a Carer to come along an extra $10.00 charge is addition to the bus fare will apply.
URL:https://communityconnect.org.au/event/ironwood-coffee-company-woolwich/
ATTACH;FMTTYPE=image/jpeg:https://communityconnect.org.au/wp-content/uploads/2023/11/Ironwood-Cafe.jpg
END:VEVENT
BEGIN:VEVENT
DTSTART;TZID=Australia/Sydney:20231120T110000
DTEND;TZID=Australia/Sydney:20231120T140000
DTSTAMP:20260425T211507
CREATED:20231101T024915Z
LAST-MODIFIED:20231101T024915Z
UID:10000082-1700478000-1700488800@communityconnect.org.au
SUMMARY:Chatswood Chase - Shopping
DESCRIPTION:Chatswood Chase \nHop On Hop Off Shopping Is Back! \nShopping at your own leisure. \nMobile phone is required for contact on the day to ensure you arrive back at the bus in time for the return journey. \nThis service is for independent travellers only. \nTransport cost: \n$15.00 CHSP Clients \n$25.00 All other Clients
URL:https://communityconnect.org.au/event/chatswood-chase-shopping/
ATTACH;FMTTYPE=image/jpeg:https://communityconnect.org.au/wp-content/uploads/2023/02/2016-12-17.jpg
END:VEVENT
BEGIN:VEVENT
DTSTART;TZID=Australia/Sydney:20231116T120000
DTEND;TZID=Australia/Sydney:20231116T140000
DTSTAMP:20260425T211507
CREATED:20231101T031433Z
LAST-MODIFIED:20231101T031433Z
UID:10000090-1700136000-1700143200@communityconnect.org.au
SUMMARY:Edogawa Commemorative Garden - East Gosford
DESCRIPTION:Lunch at your own cost \nTop Point Cafe East Gosford \nTransport only: \n$25.00 CHSP Clients \n$35.00 All Other Clients \nDestinations are subject to change depending on weatheror availability to stop at location etc. Please be advised that our Thursday Social Outings are a full day event and pick ups may begin from 8.00am. Our outings are designed for independent travellersand the drivers/volunteers offer limited assistance. If you require a Carer to come along an extra $10.00 charge is addition to the bus fare will apply.
URL:https://communityconnect.org.au/event/edogawa-commemorative-garden-east-gosford/
ATTACH;FMTTYPE=image/jpeg:https://communityconnect.org.au/wp-content/uploads/2023/11/Top-Point-Japanese-Gardens-2.jpg
END:VEVENT
BEGIN:VEVENT
DTSTART;TZID=Australia/Sydney:20231113T110000
DTEND;TZID=Australia/Sydney:20231113T140000
DTSTAMP:20260425T211507
CREATED:20231101T024511Z
LAST-MODIFIED:20231101T034404Z
UID:10000081-1699873200-1699884000@communityconnect.org.au
SUMMARY:Macquarie Centre - Shopping
DESCRIPTION:Macquarie Centre \nHop On Hop Off Shopping Is Back! \nShopping at your own leisure. \nMobile phone is required for contact on the day to ensure you arrive back at the bus in time for the return journey. \nThis service is for independent travellers only. \nTransport cost: \n$20.00 CHSP Clients \n$30.00 All other Clients
URL:https://communityconnect.org.au/event/1528/
ATTACH;FMTTYPE=image/jpeg:https://communityconnect.org.au/wp-content/uploads/2023/11/Macquarie-Centre-2-2.jpg
END:VEVENT
BEGIN:VEVENT
DTSTART;TZID=Australia/Sydney:20231109T120000
DTEND;TZID=Australia/Sydney:20231109T140000
DTSTAMP:20260425T211507
CREATED:20231101T031034Z
LAST-MODIFIED:20231101T223123Z
UID:10000089-1699531200-1699538400@communityconnect.org.au
SUMMARY:Dural Country Club
DESCRIPTION:Lunch at your own cost \nStop at Swane’s Nursery Dural \nBring Photo ID to sign into the venue \nTransport only: \n$25.00 CHSP Clients \n$35.00 All Other Clients \nDestinations are subject to change depending on weatheror availability to stop at location etc. Please be advised that our Thursday Social Outings are a full day event and pick ups may begin from 8.00am. Our outings are designed for independent travellersand the drivers/volunteers offer limited assistance. If you require a Carer to come along an extra $10.00 charge is addition to the bus fare will apply.
URL:https://communityconnect.org.au/event/dural-country-club-2/
ATTACH;FMTTYPE=image/jpeg:https://communityconnect.org.au/wp-content/uploads/2023/11/Dural-Country-Club.jpg
END:VEVENT
BEGIN:VEVENT
DTSTART;TZID=Australia/Sydney:20231106T110000
DTEND;TZID=Australia/Sydney:20231106T140000
DTSTAMP:20260425T211507
CREATED:20231101T013001Z
LAST-MODIFIED:20231101T024652Z
UID:10000079-1699268400-1699279200@communityconnect.org.au
SUMMARY:Westfield Chatswood - Shopping
DESCRIPTION:Westfield Chatswood \nHop On Hop Off Shopping Is Back! \nShopping at your own leisure. \nMobile phone is required for contact on the day to ensure you arrive back at the bus in time for the return journey. \nThis service is for independent travellers only. \nTransport cost: \n$15.00 CHSP Clients \n$25.00 All other Clients
URL:https://communityconnect.org.au/event/westfield-chatswood-shopping/
ATTACH;FMTTYPE=image/jpeg:https://communityconnect.org.au/wp-content/uploads/2023/02/2020-06-08.jpg
END:VEVENT
BEGIN:VEVENT
DTSTART;TZID=Australia/Sydney:20231102T120000
DTEND;TZID=Australia/Sydney:20231102T140000
DTSTAMP:20260425T211507
CREATED:20231101T013940Z
LAST-MODIFIED:20231101T013940Z
UID:10000080-1698926400-1698933600@communityconnect.org.au
SUMMARY:The Boatshed La Perouse
DESCRIPTION:Lunch at your own cost \nDrive through and stop in Centennial Park \nTransport only: \n$25.00 CHSP Clients \n$35.00 All Other Clients \nDestinations are subject to change depending on weatheror availability to stop at location etc. Please be advised that our Thursday Social Outings are a full day event and pick ups may begin from 8.00am. Our outings are designed for independent travellersand the drivers/volunteers offer limited assistance. If you require a Carer to come along an extra $10.00 charge is addition to the bus fare will apply.
URL:https://communityconnect.org.au/event/the-boatshed-la-perouse/
ATTACH;FMTTYPE=image/jpeg:https://communityconnect.org.au/wp-content/uploads/2023/11/Boatshed.jpg
END:VEVENT
BEGIN:VEVENT
DTSTART;TZID=Australia/Sydney:20231026T120000
DTEND;TZID=Australia/Sydney:20231026T140000
DTSTAMP:20260425T211507
CREATED:20230907T003354Z
LAST-MODIFIED:20230907T003518Z
UID:10000076-1698321600-1698328800@communityconnect.org.au
SUMMARY:Glenorie RSL Club
DESCRIPTION:Transport Only: $25 CHSP Clients or $35 All other Clients \nLunch at your own cost \nStop at Glenorie Bakery \nBring Photo ID to sign into the venue \nSpaces limited. Some outings are in high demand.  A waitlist is in place for all booking requests. \n  \n 
URL:https://communityconnect.org.au/event/glenorie-rsl-club-2/
ATTACH;FMTTYPE=image/jpeg:https://communityconnect.org.au/wp-content/uploads/2023/02/GlenorieRSL0008.jpg
END:VEVENT
BEGIN:VEVENT
DTSTART;TZID=Australia/Sydney:20231019T120000
DTEND;TZID=Australia/Sydney:20231019T140000
DTSTAMP:20260425T211507
CREATED:20230907T003043Z
LAST-MODIFIED:20230907T003043Z
UID:10000075-1697716800-1697724000@communityconnect.org.au
SUMMARY:Nepean Rowing Club
DESCRIPTION:Transport Only: $25 CHSP Clients or $35 All other Clients \nLunch at your own cost \nScenic Drive along the way \nBring Photo ID to sign into the venue \nSpaces limited. Some outings are in high demand.  A waitlist is in place for all booking requests. \n  \n 
URL:https://communityconnect.org.au/event/nepean-rowing-club/
ATTACH;FMTTYPE=image/jpeg:https://communityconnect.org.au/wp-content/uploads/2023/09/20220617_122059-e1694046608363.jpg
END:VEVENT
BEGIN:VEVENT
DTSTART;TZID=Australia/Sydney:20231012T120000
DTEND;TZID=Australia/Sydney:20231012T140000
DTSTAMP:20260425T211507
CREATED:20230906T233259Z
LAST-MODIFIED:20230906T233259Z
UID:10000074-1697112000-1697119200@communityconnect.org.au
SUMMARY:Strathfield Golf Club
DESCRIPTION:Transport Only: $25 CHSP Clients or $35 All other Clients \nLunch at your own cost \nDrive to Cabarita Park \nBring Photo ID to sign into the venue \nSpaces limited. Some outings are in high demand.  A waitlist is in place for all booking requests. \n  \n 
URL:https://communityconnect.org.au/event/strathfield-golf-club-2/
ATTACH;FMTTYPE=image/jpeg:https://communityconnect.org.au/wp-content/uploads/2023/09/club-images42.jpg
END:VEVENT
BEGIN:VEVENT
DTSTART;TZID=Australia/Sydney:20231005T120000
DTEND;TZID=Australia/Sydney:20231005T140000
DTSTAMP:20260425T211507
CREATED:20230906T232002Z
LAST-MODIFIED:20230906T232625Z
UID:10000073-1696507200-1696514400@communityconnect.org.au
SUMMARY:Bayview Golf Club
DESCRIPTION:Transport Only: $25 CHSP Clients or $35 All other Clients \nLunch at your own cost \nScenic Drive along the Northern Beaches \nBring Photo ID to sign into the venue \nSpaces limited. Some outings are in high demand.  A waitlist is in place for all booking requests. \n  \n 
URL:https://communityconnect.org.au/event/bayview-golf-club/
ATTACH;FMTTYPE=image/jpeg:https://communityconnect.org.au/wp-content/uploads/2023/09/1.jpg
END:VEVENT
BEGIN:VEVENT
DTSTART;TZID=Australia/Sydney:20230928T120000
DTEND;TZID=Australia/Sydney:20230928T140000
DTSTAMP:20260425T211507
CREATED:20230906T055604Z
LAST-MODIFIED:20230906T055706Z
UID:10000072-1695902400-1695909600@communityconnect.org.au
SUMMARY:Terrey Hills Tavern
DESCRIPTION:Transport Only: $25 CHSP Clients or $35 All other Clients \nLunch at your own cost \nStop at Flower Power Nursery Terrey Hills \nBring Photo ID to sign into the venue \nSpaces limited. Some outings are in high demand.  A waitlist is in place for all booking requests. \n  \n 
URL:https://communityconnect.org.au/event/terrey-hills-tavern/
ATTACH;FMTTYPE=image/jpeg:https://communityconnect.org.au/wp-content/uploads/2023/09/ST1_0776.jpg
END:VEVENT
BEGIN:VEVENT
DTSTART;TZID=Australia/Sydney:20230921T120000
DTEND;TZID=Australia/Sydney:20230921T140000
DTSTAMP:20260425T211507
CREATED:20230906T055158Z
LAST-MODIFIED:20230906T055158Z
UID:10000071-1695297600-1695304800@communityconnect.org.au
SUMMARY:Club Merrylands Bowling
DESCRIPTION:Transport Only: $25 CHSP Clients or $35 All other Clients \nLunch at your own cost \nScenic Drive Parramatta Park \nBring Photo ID to sign into the venue \nSpaces limited. Some outings are in high demand.  A waitlist is in place for all booking requests. \n  \n 
URL:https://communityconnect.org.au/event/club-merrylands-bowling/
ATTACH;FMTTYPE=image/jpeg:https://communityconnect.org.au/wp-content/uploads/2023/09/1249-028_low-res.jpg
END:VEVENT
BEGIN:VEVENT
DTSTART;TZID=Australia/Sydney:20230914T120000
DTEND;TZID=Australia/Sydney:20230914T140000
DTSTAMP:20260425T211507
CREATED:20230906T054334Z
LAST-MODIFIED:20230906T054334Z
UID:10000070-1694692800-1694700000@communityconnect.org.au
SUMMARY:The Ettamogah
DESCRIPTION:Transport Only: $25 CHSP Clients or $35 All other Clients \nLunch at your own cost \nScenic Drive long the way \nBring Photo ID to sign into the venue \nSpaces limited. Some outings are in high demand.  A waitlist is in place for all booking requests. \n  \n 
URL:https://communityconnect.org.au/event/the-ettamogah/
ATTACH;FMTTYPE=image/jpeg:https://communityconnect.org.au/wp-content/uploads/2023/09/2023-08-27-1.jpg
END:VEVENT
BEGIN:VEVENT
DTSTART;TZID=Australia/Sydney:20230907T120000
DTEND;TZID=Australia/Sydney:20230907T140000
DTSTAMP:20260425T211507
CREATED:20230906T054117Z
LAST-MODIFIED:20230906T054117Z
UID:10000069-1694088000-1694095200@communityconnect.org.au
SUMMARY:Wakehurst Golf Club
DESCRIPTION:Transport Only: $25 CHSP Clients or $35 All other Clients \nLunch at your own cost \nStop at Clontarf Reserve \nBring Photo ID to sign into the venue \nSpaces limited. Some outings are in high demand.  A waitlist is in place for all booking requests. \n  \n 
URL:https://communityconnect.org.au/event/wakehurst-golf-club/
ATTACH;FMTTYPE=image/jpeg:https://communityconnect.org.au/wp-content/uploads/2023/09/Wakehurst-Golf-Club1.jpg
END:VEVENT
BEGIN:VEVENT
DTSTART;TZID=Australia/Sydney:20230831T120000
DTEND;TZID=Australia/Sydney:20230831T140000
DTSTAMP:20260425T211507
CREATED:20230621T024537Z
LAST-MODIFIED:20230621T030459Z
UID:10000068-1693483200-1693490400@communityconnect.org.au
SUMMARY:Richmond Club
DESCRIPTION:Transport Only: $25 CHSP Clients or $35 All other Clients \nLunch at your own cost \nDrive through Historic Windsor \nBring Photo ID to sign into the venue \nSpaces limited. Some outings are in high demand.  A waitlist is in place for all booking requests. \n  \n 
URL:https://communityconnect.org.au/event/richmond-club-2/
ATTACH;FMTTYPE=image/jpeg:https://communityconnect.org.au/wp-content/uploads/2023/04/Historic-Windsor-e1687316603813.jpg
END:VEVENT
BEGIN:VEVENT
DTSTART;TZID=Australia/Sydney:20230824T120000
DTEND;TZID=Australia/Sydney:20230824T140000
DTSTAMP:20260425T211507
CREATED:20230621T023854Z
LAST-MODIFIED:20230628T004731Z
UID:10000067-1692878400-1692885600@communityconnect.org.au
SUMMARY:Belrose Hotel
DESCRIPTION:Transport Only: $25 CHSP Clients or $35 All other Clients \nLunch at your own cost \nTour of the Sydney Bahai’a Temple at 10.30am \nBring Photo ID to sign into the venue \nSpaces limited. Some outings are in high demand.  A waitlist is in place for all booking requests. \n  \n 
URL:https://communityconnect.org.au/event/belrose-hotel/
ATTACH;FMTTYPE=image/jpeg:https://communityconnect.org.au/wp-content/uploads/2023/06/New-Belrose-2.jpg
END:VEVENT
BEGIN:VEVENT
DTSTART;TZID=Australia/Sydney:20230817T120000
DTEND;TZID=Australia/Sydney:20230817T140000
DTSTAMP:20260425T211507
CREATED:20230621T022335Z
LAST-MODIFIED:20230621T022343Z
UID:10000066-1692273600-1692280800@communityconnect.org.au
SUMMARY:Drummoyne Sailing Club
DESCRIPTION:Transport Only: $20 CHSP Clients or $30 All other Clients \nLunch at your own cost \nScenic Drive along the Bay Run \nBring Photo ID to sign into the venue \nSpaces limited. Some outings are in high demand.  A waitlist is in place for all booking requests. \n  \n 
URL:https://communityconnect.org.au/event/drummoyne-sailing-club/
ATTACH;FMTTYPE=image/jpeg:https://communityconnect.org.au/wp-content/uploads/2023/06/Drummoyne-Sailing-Club2.jpg
END:VEVENT
BEGIN:VEVENT
DTSTART;TZID=Australia/Sydney:20230810T120000
DTEND;TZID=Australia/Sydney:20230810T140000
DTSTAMP:20260425T211507
CREATED:20230621T022028Z
LAST-MODIFIED:20230621T022127Z
UID:10000065-1691668800-1691676000@communityconnect.org.au
SUMMARY:Blues Point Hotel
DESCRIPTION:Transport Only: $20 CHSP Clients or $30 All other Clients \nLunch at your own cost \nScenic Drive through Centennial Park \nBring Photo ID to sign into the venue \nSpaces limited. Some outings are in high demand.  A waitlist is in place for all booking requests. \n  \n 
URL:https://communityconnect.org.au/event/blues-point-hotel/
ATTACH;FMTTYPE=image/jpeg:https://communityconnect.org.au/wp-content/uploads/2023/06/180131_BLUES_POINT_HOTEL-46.jpg
END:VEVENT
BEGIN:VEVENT
DTSTART;TZID=Australia/Sydney:20230803T120000
DTEND;TZID=Australia/Sydney:20230803T133000
DTSTAMP:20260425T211507
CREATED:20230621T021145Z
LAST-MODIFIED:20230621T235538Z
UID:10000064-1691064000-1691069400@communityconnect.org.au
SUMMARY:Bankstown Sports Club
DESCRIPTION:Transport Only: $25 CHSP Clients or $35 All other Clients \nLunch at your own cost in the Greenfield Station Bistro \nBring Photo ID to sign into the venue \nSpaces limited. Some outings are in high demand.  A waitlist is in place for all booking requests. \n  \n 
URL:https://communityconnect.org.au/event/bankstown-sports-club/
ATTACH;FMTTYPE=image/jpeg:https://communityconnect.org.au/wp-content/uploads/2023/06/Bankstown-Sports-New.jpg
END:VEVENT
BEGIN:VEVENT
DTSTART;TZID=Australia/Sydney:20230727T120000
DTEND;TZID=Australia/Sydney:20230727T140000
DTSTAMP:20260425T211507
CREATED:20230621T012843Z
LAST-MODIFIED:20230621T012843Z
UID:10000062-1690459200-1690466400@communityconnect.org.au
SUMMARY:Kirribilli Club
DESCRIPTION:Transport Only: $20 CHSP Clients or $30 All other Clients \nLunch at your own cost \nScenic Drive to Lady Macquarie’s Chair \nBring Photo ID to sign into the venue \nSpaces limited. Some outings are in high demand.  A waitlist is in place for all booking requests. \n  \n 
URL:https://communityconnect.org.au/event/kirribilli-club-2/
ATTACH;FMTTYPE=image/jpeg:https://communityconnect.org.au/wp-content/uploads/2023/02/12345616_1035578966494544_8283472649786087163_n.jpg
END:VEVENT
BEGIN:VEVENT
DTSTART;TZID=Australia/Sydney:20230720T120000
DTEND;TZID=Australia/Sydney:20230720T140000
DTSTAMP:20260425T211507
CREATED:20230621T011821Z
LAST-MODIFIED:20230621T011949Z
UID:10000060-1689854400-1689861600@communityconnect.org.au
SUMMARY:The Como Hotel
DESCRIPTION:Transport Only: $25 CHSP Clients or $35 All other Clients \nLunch at your own cost \nIncludes Scenic Drive \nBring photo ID to sign into venue \nSpaces limited. Some outings are in high demand.  A waitlist is in place for all booking requests.
URL:https://communityconnect.org.au/event/the-como-hotel/
ATTACH;FMTTYPE=image/jpeg:https://communityconnect.org.au/wp-content/uploads/2023/06/The-Como-Hotel.jpg
END:VEVENT
END:VCALENDAR