BEGIN:VCALENDAR
VERSION:2.0
PRODID:-//Community Connect Transport - ECPv6.14.2//NONSGML v1.0//EN
CALSCALE:GREGORIAN
METHOD:PUBLISH
X-WR-CALNAME:Community Connect Transport
X-ORIGINAL-URL:https://communityconnect.org.au
X-WR-CALDESC:Events for Community Connect Transport
REFRESH-INTERVAL;VALUE=DURATION:PT1H
X-Robots-Tag:noindex
X-PUBLISHED-TTL:PT1H
BEGIN:VTIMEZONE
TZID:Australia/Sydney
BEGIN:STANDARD
TZOFFSETFROM:+1100
TZOFFSETTO:+1000
TZNAME:AEST
DTSTART:20240406T160000
END:STANDARD
BEGIN:DAYLIGHT
TZOFFSETFROM:+1000
TZOFFSETTO:+1100
TZNAME:AEDT
DTSTART:20241005T160000
END:DAYLIGHT
END:VTIMEZONE
BEGIN:VEVENT
DTSTART;TZID=Australia/Sydney:20240603T110000
DTEND;TZID=Australia/Sydney:20240603T140000
DTSTAMP:20260423T103551
CREATED:20240523T013619Z
LAST-MODIFIED:20240523T013619Z
UID:10000182-1717412400-1717423200@communityconnect.org.au
SUMMARY:State Library of NSW
DESCRIPTION:State Library of NSW \nBrowse at leisure \nIndependent Travellers only \nRequires mobile phone \nCafe on site \nTransport only: \n$20.00 CHSP Clients \n$30.00 All Other Clients \n  \nMinimum numbers are required for all out of area trips. Destinations can be subject to change  or cancellation depending on weather or availability to stop at location etc. Only Thursday Social Outings  have a Volunteer on board to assist\, please note Volunteers and Drivers offer limited assistance. Other days are for Independent Travellers and we ask that you bring a mobile phone to ensure we don’t leave you behind on the return trip! If you would like a Carer to accompany you\, you must advise us at the time of booking. For Non-Account and Cash clients pre-payment is required for these bookings.
URL:https://communityconnect.org.au/event/state-library-of-nsw-3/
ATTACH;FMTTYPE=image/jpeg:https://communityconnect.org.au/wp-content/uploads/2023/12/State-Library-1.jpg
END:VEVENT
BEGIN:VEVENT
DTSTART;TZID=Australia/Sydney:20240604T103000
DTEND;TZID=Australia/Sydney:20240604T143000
DTSTAMP:20260423T103551
CREATED:20240523T014359Z
LAST-MODIFIED:20240523T014851Z
UID:10000183-1717497000-1717511400@communityconnect.org.au
SUMMARY:Scenic Drive to Northern Beaches
DESCRIPTION:Scenic Drive to Northern Beaches – Stops at Clontarf\, North Head & Dobroyd Head \nLunch at your own cost at Manly Leagues Club \nIndependent Travellers only \nRequires a mobile phone \nBring Photo ID to sign into the venue \n  \nTransport only: \n$25.00 CHSP Clients \n$35.00 All Other Clients \nMinimum numbers are required for all out of area trips. Destinations can be subject to change  or cancellation depending on weather or availability to stop at location etc. Only Thursday Social Outings  have a Volunteer on board to assist\, please note Volunteers and Drivers offer limited assistance. Other days are for Independent Travellers and we ask that you bring a mobile phone to ensure we don’t leave you behind on the return trip! If you would like a Carer to accompany you\, you must advise us at the time of booking. For Non-Account and Cash clients pre-payment is required for these bookings.
URL:https://communityconnect.org.au/event/scenic-drive-to-windsor-2/
ATTACH;FMTTYPE=image/jpeg:https://communityconnect.org.au/wp-content/uploads/2024/05/North-Head-2.jpg
END:VEVENT
BEGIN:VEVENT
DTSTART;TZID=Australia/Sydney:20240605T103000
DTEND;TZID=Australia/Sydney:20240605T140000
DTSTAMP:20260423T103551
CREATED:20240523T014741Z
LAST-MODIFIED:20240526T012019Z
UID:10000184-1717583400-1717596000@communityconnect.org.au
SUMMARY:Innovations Frenchs Forest
DESCRIPTION:Clearance Outlet: Homewares\, clothing\, pet supplies\, craft\, DVDs – something for everyone! \nCafe on site \nIndependent Travellers only \nRequires a mobile phone \n  \n  \nTransport only: \n$25.00 CHSP Clients \n$35.00 All Other Clients \nMinimum numbers are required for all out of area trips. Destinations can be subject to change  or cancellation depending on weather or availability to stop at location etc. Only Thursday Social Outings  have a Volunteer on board to assist\, please note Volunteers and Drivers offer limited assistance. Other days are for Independent Travellers and we ask that you bring a mobile phone to ensure we don’t leave you behind on the return trip! If you would like a Carer to accompany you\, you must advise us at the time of booking. For Non-Account and Cash clients pre-payment is required for these bookings.
URL:https://communityconnect.org.au/event/innovations-frenchs-forest-3/
ATTACH;FMTTYPE=image/jpeg:https://communityconnect.org.au/wp-content/uploads/2023/02/innovations-scaled-e1716429001167.jpg
END:VEVENT
BEGIN:VEVENT
DTSTART;TZID=Australia/Sydney:20240606T120000
DTEND;TZID=Australia/Sydney:20240606T140000
DTSTAMP:20260423T103551
CREATED:20240523T015508Z
LAST-MODIFIED:20240523T015508Z
UID:10000185-1717675200-1717682400@communityconnect.org.au
SUMMARY:Parramatta Leagues Club
DESCRIPTION:Parramatta Leagues Club \nStop at Cumberland State Forest \nSeniors Lunch Special from $22 \nBring Photo ID to sign into the venue \n  \nTransport only: \n$25.00 CHSP Clients \n$35.00 All Other Clients \nMinimum numbers are required for all out of area trips. Destinations can be subject to change  or cancellation depending on weather or availability to stop at location etc. Only Thursday Social Outings  have a Volunteer on board to assist\, please note Volunteers and Drivers offer limited assistance. Other days are for Independent Travellers and we ask that you bring a mobile phone to ensure we don’t leave you behind on the return trip! If you would like a Carer to accompany you\, you must advise us at the time of booking. For Non-Account and Cash clients pre-payment is required for these bookings.
URL:https://communityconnect.org.au/event/parramatta-leagues-club-3/
ATTACH;FMTTYPE=image/jpeg:https://communityconnect.org.au/wp-content/uploads/2023/04/parraleagues_day2.jpg
END:VEVENT
BEGIN:VEVENT
DTSTART;TZID=Australia/Sydney:20240611T110000
DTEND;TZID=Australia/Sydney:20240611T120000
DTSTAMP:20260423T103551
CREATED:20240523T021524Z
LAST-MODIFIED:20240523T021955Z
UID:10000193-1718103600-1718107200@communityconnect.org.au
SUMMARY:Bunnings Chatswood - Shopping
DESCRIPTION:Bunnings Chatswood \nBrowse and Shop at your leisure \nIndependent Travellers only \nRequires mobile phone \nTransport only: \n$15.00 CHSP Clients \n$25.00 All Other Clients \n  \nMinimum numbers are required for all out of area trips. Destinations can be subject to change  or cancellation depending on weather or availability to stop at location etc. Only Thursday Social Outings  have a Volunteer on board to assist\, please note Volunteers and Drivers offer limited assistance. Other days are for Independent Travellers and we ask that you bring a mobile phone to ensure we don’t leave you behind on the return trip! If you would like a Carer to accompany you\, you must advise us at the time of booking. For Non-Account and Cash clients pre-payment is required for these bookings.
URL:https://communityconnect.org.au/event/bunnings-chatswood-shopping-3/
ATTACH;FMTTYPE=image/jpeg:https://communityconnect.org.au/wp-content/uploads/2023/02/2022-05-05.jpg
END:VEVENT
BEGIN:VEVENT
DTSTART;TZID=Australia/Sydney:20240612T100000
DTEND;TZID=Australia/Sydney:20240612T130000
DTSTAMP:20260423T103551
CREATED:20240523T022233Z
LAST-MODIFIED:20240523T022244Z
UID:10000192-1718186400-1718197200@communityconnect.org.au
SUMMARY:Coffee Chat Time - The Flying Bear
DESCRIPTION:The Flying Bear – Kirribilli \nCatch up with friends or meet new ones \n  \nTransport only: \n$15.00 CHSP Clients \n$25.00 All Other Clients \nMinimum numbers are required for all out of area trips. Destinations can be subject to change  or cancellation depending on weather or availability to stop at location etc. Only Thursday Social Outings  have a Volunteer on board to assist\, please note Volunteers and Drivers offer limited assistance. Other days are for Independent Travellers and we ask that you bring a mobile phone to ensure we don’t leave you behind on the return trip! If you would like a Carer to accompany you\, you must advise us at the time of booking. For Non-Account and Cash clients pre-payment is required for these bookings.
URL:https://communityconnect.org.au/event/coffe-chat-time-the-flying-bear/
ATTACH;FMTTYPE=image/jpeg:https://communityconnect.org.au/wp-content/uploads/2023/12/Coffee-Chat-Time.jpg
END:VEVENT
BEGIN:VEVENT
DTSTART;TZID=Australia/Sydney:20240613T120000
DTEND;TZID=Australia/Sydney:20240613T140000
DTSTAMP:20260423T103551
CREATED:20240523T022536Z
LAST-MODIFIED:20240523T022536Z
UID:10000191-1718280000-1718287200@communityconnect.org.au
SUMMARY:Drummoyne Sailing Club
DESCRIPTION:Drummoyne Sailing Club \nLunch at your own cost – Sailors Grill \nSeniors Special mains from $23 \nBring Photo ID to sign into the venue \n  \nTransport only: \n$25.00 CHSP Clients \n$35.00 All Other Clients \nMinimum numbers are required for all out of area trips. Destinations can be subject to change  or cancellation depending on weather or availability to stop at location etc. Only Thursday Social Outings  have a Volunteer on board to assist\, please note Volunteers and Drivers offer limited assistance. Other days are for Independent Travellers and we ask that you bring a mobile phone to ensure we don’t leave you behind on the return trip! If you would like a Carer to accompany you\, you must advise us at the time of booking. For Non-Account and Cash clients pre-payment is required for these bookings.
URL:https://communityconnect.org.au/event/drummoyne-sailing-club-2/
ATTACH;FMTTYPE=image/jpeg:https://communityconnect.org.au/wp-content/uploads/2023/06/Drummoyne-Sailing-Club2.jpg
END:VEVENT
BEGIN:VEVENT
DTSTART;TZID=Australia/Sydney:20240617T110000
DTEND;TZID=Australia/Sydney:20240617T130000
DTSTAMP:20260423T103551
CREATED:20240523T022846Z
LAST-MODIFIED:20240523T022846Z
UID:10000190-1718622000-1718629200@communityconnect.org.au
SUMMARY:DFO Homebush
DESCRIPTION:DFO Homebush – Shop your favourite outlets \nCafes/food court on site \nRequires a mobile phone \nIndependent Travellers only \n  \nTransport only: \n$25.00 CHSP Clients \n$35.00 All Other Clients \nMinimum numbers are required for all out of area trips. Destinations can be subject to change  or cancellation depending on weather or availability to stop at location etc. Only Thursday Social Outings  have a Volunteer on board to assist\, please note Volunteers and Drivers offer limited assistance. Other days are for Independent Travellers and we ask that you bring a mobile phone to ensure we don’t leave you behind on the return trip! If you would like a Carer to accompany you\, you must advise us at the time of booking. For Non-Account and Cash clients pre-payment is required for these bookings.
URL:https://communityconnect.org.au/event/dfo-homebush-2/
ATTACH;FMTTYPE=image/jpeg:https://communityconnect.org.au/wp-content/uploads/2024/02/DFO-Homebush-2.jpg
END:VEVENT
BEGIN:VEVENT
DTSTART;TZID=Australia/Sydney:20240618T103000
DTEND;TZID=Australia/Sydney:20240618T143000
DTSTAMP:20260423T103551
CREATED:20240523T023018Z
LAST-MODIFIED:20240523T023018Z
UID:10000194-1718706600-1718721000@communityconnect.org.au
SUMMARY:Art Gallery of NSW
DESCRIPTION:Art Gallery of NSW \nArchibald Prize: Pre-Book directly with the AGNSW \nExplore the gallery and browse at leisure \nCafe on site \nIndependent Travellers only \nRequires mobile phone \n  \nTransport only: \n$20.00 CHSP Clients \n$30.00 All Other Clients \n  \nMinimum numbers are required for all out of area trips. Destinations can be subject to change  or cancellation depending on weather or availability to stop at location etc. Only Thursday Social Outings  have a Volunteer on board to assist\, please note Volunteers and Drivers offer limited assistance. Other days are for Independent Travellers and we ask that you bring a mobile phone to ensure we don’t leave you behind on the return trip! If you would like a Carer to accompany you\, you must advise us at the time of booking. For Non-Account and Cash clients pre-payment is required for these bookings.
URL:https://communityconnect.org.au/event/art-gallery-of-nsw-6/
ATTACH;FMTTYPE=image/jpeg:https://communityconnect.org.au/wp-content/uploads/2023/12/Art-Gallery-1.jpg
END:VEVENT
BEGIN:VEVENT
DTSTART;TZID=Australia/Sydney:20240619T100000
DTEND;TZID=Australia/Sydney:20240619T140000
DTSTAMP:20260423T103551
CREATED:20240523T024641Z
LAST-MODIFIED:20240523T025526Z
UID:10000189-1718791200-1718805600@communityconnect.org.au
SUMMARY:Hayden Orpheum Picture Palace - MYSTERY MOVIE **NEW**
DESCRIPTION:MYSTERY MOVIE – Latest Releases \nHayden Orpheum Picture Palace – Times TBA \nBring Seniors Card – Movie Tickets only – $16.50 (Snacks additional) \nYour movie ticket price includes 3 free tickets in our $50 Gift Raffle \n  \nTransport only: \n$15.00 CHSP Clients \n$25.00 All Other Clients \nMinimum numbers are required for all out of area trips. Destinations can be subject to change  or cancellation depending on weather or availability to stop at location etc. Only Thursday Social Outings  have a Volunteer on board to assist\, please note Volunteers and Drivers offer limited assistance. Other days are for Independent Travellers and we ask that you bring a mobile phone to ensure we don’t leave you behind on the return trip! If you would like a Carer to accompany you\, you must advise us at the time of booking. For Non-Account and Cash clients pre-payment is required for these bookings.
URL:https://communityconnect.org.au/event/hayden-orpheum-picture-palace-new/
ATTACH;FMTTYPE=image/jpeg:https://communityconnect.org.au/wp-content/uploads/2024/05/Hayden-Orpheum-Picture-Palace.jpg
END:VEVENT
BEGIN:VEVENT
DTSTART;TZID=Australia/Sydney:20240620T120000
DTEND;TZID=Australia/Sydney:20240620T140000
DTSTAMP:20260423T103551
CREATED:20240523T025809Z
LAST-MODIFIED:20240523T025809Z
UID:10000188-1718884800-1718892000@communityconnect.org.au
SUMMARY:West Pennant Hills Sports Club
DESCRIPTION:West Pennant Hills Sports Club \nStop at Cumberland State Forest \n$20 Seniors Special – light lunch \nBring Photo ID to sign into the venue \n  \nTransport only: \n$25.00 CHSP Clients \n$35.00 All Other Clients \nMinimum numbers are required for all out of area trips. Destinations can be subject to change  or cancellation depending on weather or availability to stop at location etc. Only Thursday Social Outings  have a Volunteer on board to assist\, please note Volunteers and Drivers offer limited assistance. Other days are for Independent Travellers and we ask that you bring a mobile phone to ensure we don’t leave you behind on the return trip! If you would like a Carer to accompany you\, you must advise us at the time of booking. For Non-Account and Cash clients pre-payment is required for these bookings.
URL:https://communityconnect.org.au/event/west-pennant-hills-sports-club-2/
ATTACH;FMTTYPE=image/jpeg:https://communityconnect.org.au/wp-content/uploads/2024/05/West-Pennant-Hills-Sports-Club-edited.jpg
END:VEVENT
BEGIN:VEVENT
DTSTART;TZID=Australia/Sydney:20240624T110000
DTEND;TZID=Australia/Sydney:20240624T140000
DTSTAMP:20260423T103551
CREATED:20240523T030448Z
LAST-MODIFIED:20240523T030448Z
UID:10000195-1719226800-1719237600@communityconnect.org.au
SUMMARY:Westfield Chatswood - Shopping
DESCRIPTION:Westfield Chatswood – Shopping \nBrowse and Shop at your leisure \nIndependent Travellers only \nRequires mobile phone \nTransport only: \n$15.00 CHSP Clients \n$25.00 All Other Clients \n  \nMinimum numbers are required for all out of area trips. Destinations can be subject to change  or cancellation depending on weather or availability to stop at location etc. Only Thursday Social Outings  have a Volunteer on board to assist\, please note Volunteers and Drivers offer limited assistance. Other days are for Independent Travellers and we ask that you bring a mobile phone to ensure we don’t leave you behind on the return trip! If you would like a Carer to accompany you\, you must advise us at the time of booking. For Non-Account and Cash clients pre-payment is required for these bookings.
URL:https://communityconnect.org.au/event/westfield-chatswood-shopping-3/
ATTACH;FMTTYPE=image/jpeg:https://communityconnect.org.au/wp-content/uploads/2023/02/2020-06-08.jpg
END:VEVENT
BEGIN:VEVENT
DTSTART;TZID=Australia/Sydney:20240625T110000
DTEND;TZID=Australia/Sydney:20240625T130000
DTSTAMP:20260423T103551
CREATED:20240523T030610Z
LAST-MODIFIED:20240523T030610Z
UID:10000196-1719313200-1719320400@communityconnect.org.au
SUMMARY:Coffee Chat Time - Thelma & Louise
DESCRIPTION:Thelma & Louise – Neutral Bay \nCatch up with friends or meet new ones \n  \nTransport only: \n$15.00 CHSP Clients \n$25.00 All Other Clients \nMinimum numbers are required for all out of area trips. Destinations can be subject to change  or cancellation depending on weather or availability to stop at location etc. Only Thursday Social Outings  have a Volunteer on board to assist\, please note Volunteers and Drivers offer limited assistance. Other days are for Independent Travellers and we ask that you bring a mobile phone to ensure we don’t leave you behind on the return trip! If you would like a Carer to accompany you\, you must advise us at the time of booking. For Non-Account and Cash clients pre-payment is required for these bookings.
URL:https://communityconnect.org.au/event/coffee-chat-time-thelma-louise/
ATTACH;FMTTYPE=image/jpeg:https://communityconnect.org.au/wp-content/uploads/2023/12/Coffee-Chat-Time.jpg
END:VEVENT
BEGIN:VEVENT
DTSTART;TZID=Australia/Sydney:20240626T110000
DTEND;TZID=Australia/Sydney:20240626T130000
DTSTAMP:20260423T103551
CREATED:20240523T031016Z
LAST-MODIFIED:20240523T031016Z
UID:10000197-1719399600-1719406800@communityconnect.org.au
SUMMARY:Swane's Nursery Dural
DESCRIPTION:Swane’s Nursery Dural \nExplore the Nursery \nCafe on site – Lunch at your own cost \nIndependent Travellers only \nRequires mobile phone \nTransport only: \n$30.00 CHSP Clients \n$40.00 All Other Clients \n  \nMinimum numbers are required for all out of area trips. Destinations can be subject to change  or cancellation depending on weather or availability to stop at location etc. Only Thursday Social Outings  have a Volunteer on board to assist\, please note Volunteers and Drivers offer limited assistance. Other days are for Independent Travellers and we ask that you bring a mobile phone to ensure we don’t leave you behind on the return trip! If you would like a Carer to accompany you\, you must advise us at the time of booking. For Non-Account and Cash clients pre-payment is required for these bookings.
URL:https://communityconnect.org.au/event/swanes-nursery-dural/
ATTACH;FMTTYPE=image/jpeg:https://communityconnect.org.au/wp-content/uploads/2024/05/Roses.jpg
END:VEVENT
BEGIN:VEVENT
DTSTART;TZID=Australia/Sydney:20240627T120000
DTEND;TZID=Australia/Sydney:20240627T140000
DTSTAMP:20260423T103551
CREATED:20240523T031302Z
LAST-MODIFIED:20240526T012840Z
UID:10000198-1719489600-1719496800@communityconnect.org.au
SUMMARY:Terrey Hills Tavern
DESCRIPTION:Terrey Hills Tavern\, Cafe- $21 Seniors Special mains \nStop at Flower Power Terrey Hills \nBring Photo ID to sign into the venue \n  \nTransport only: \n$25.00 CHSP Clients \n$35.00 All Other Clients \nMinimum numbers are required for all out of area trips. Destinations can be subject to change  or cancellation depending on weather or availability to stop at location etc. Only Thursday Social Outings  have a Volunteer on board to assist\, please note Volunteers and Drivers offer limited assistance. Other days are for Independent Travellers and we ask that you bring a mobile phone to ensure we don’t leave you behind on the return trip! If you would like a Carer to accompany you\, you must advise us at the time of booking. For Non-Account and Cash clients pre-payment is required for these bookings.
URL:https://communityconnect.org.au/event/terrey-hills-tavern-2/
ATTACH;FMTTYPE=image/jpeg:https://communityconnect.org.au/wp-content/uploads/2024/05/2022-01-17.jpg
END:VEVENT
END:VCALENDAR