BEGIN:VCALENDAR
VERSION:2.0
PRODID:-//Community Connect Transport - ECPv6.14.2//NONSGML v1.0//EN
CALSCALE:GREGORIAN
METHOD:PUBLISH
X-ORIGINAL-URL:https://communityconnect.org.au
X-WR-CALDESC:Events for Community Connect Transport
REFRESH-INTERVAL;VALUE=DURATION:PT1H
X-Robots-Tag:noindex
X-PUBLISHED-TTL:PT1H
BEGIN:VTIMEZONE
TZID:Australia/Sydney
BEGIN:STANDARD
TZOFFSETFROM:+1100
TZOFFSETTO:+1000
TZNAME:AEST
DTSTART:20240406T160000
END:STANDARD
BEGIN:DAYLIGHT
TZOFFSETFROM:+1000
TZOFFSETTO:+1100
TZNAME:AEDT
DTSTART:20241005T160000
END:DAYLIGHT
END:VTIMEZONE
BEGIN:VEVENT
DTSTART;TZID=Australia/Sydney:20241205T120000
DTEND;TZID=Australia/Sydney:20241205T140000
DTSTAMP:20260422T225616
CREATED:20241107T041525Z
LAST-MODIFIED:20241107T042529Z
UID:10000289-1733400000-1733407200@communityconnect.org.au
SUMMARY:BOBBIN INN CAFE
DESCRIPTION:BOBBIN INN CAFE – Ku-ring-gai National Park \nJoin us for lunch on Thursday December 5\,\n12-2pm\, on the shores of Akuna Bay in Ku-ring-gai National Park. \nTransport Cost: $30 CHSP Clients/$40 All other Clients \nLunch: $35 includes a choice of 4 Main meals\, Dessert of the day and Tea or Coffee.\nPre-order your Main meal choice when you book. \nMinimum numbers are required for all out of area trips. Destinations can be subject to change  or cancellation depending on weather or availability to stop at location etc. Only Thursday Social Outings  have a Volunteer on board to assist\, please note Volunteers and Drivers offer limited assistance. Other days are for Independent Travellers and we ask that you bring a mobile phone to ensure we don’t leave you behind on the return trip! If you would like a Carer to accompany you\, you must advise us at the time of booking. For Non-Account and Cash clients pre-payment is required for these bookings.
URL:https://communityconnect.org.au/event/bobbin-inn-cafe/
ATTACH;FMTTYPE=image/jpeg:https://communityconnect.org.au/wp-content/uploads/2024/11/Bobbin-In-Cafe-e1730952868338.jpg
END:VEVENT
BEGIN:VEVENT
DTSTART;TZID=Australia/Sydney:20241212T120000
DTEND;TZID=Australia/Sydney:20241212T140000
DTSTAMP:20260422T225616
CREATED:20241107T041828Z
LAST-MODIFIED:20241107T042448Z
UID:10000290-1734004800-1734012000@communityconnect.org.au
SUMMARY:THE RIVERBOAT POSTMAN CRUISE
DESCRIPTION:Come aboard The Riverboat Postman Cruise along the beautiful Hawkesbury River \nThursday December 12\n12-2pm \nTransport Cost: $30 CHSP Clients/ $40 All other Clients \nCost: $59 includes the cruise\, morning & afternoon tea and lunch. Pre-payment only due by 28th November\, no refunds for cancellations after this date. \nMinimum numbers are required for all out of area trips. Destinations can be subject to change  or cancellation depending on weather or availability to stop at location etc. Only Thursday Social Outings  have a Volunteer on board to assist\, please note Volunteers and Drivers offer limited assistance. Other days are for Independent Travellers and we ask that you bring a mobile phone to ensure we don’t leave you behind on the return trip! If you would like a Carer to accompany you\, you must advise us at the time of booking. For Non-Account and Cash clients pre-payment is required for these bookings.
URL:https://communityconnect.org.au/event/the-riverboat-postman-cruise/
ATTACH;FMTTYPE=image/jpeg:https://communityconnect.org.au/wp-content/uploads/2024/11/The-Riverboat-Postman.jpg
END:VEVENT
BEGIN:VEVENT
DTSTART;TZID=Australia/Sydney:20241219T120000
DTEND;TZID=Australia/Sydney:20241219T140000
DTSTAMP:20260422T225616
CREATED:20241107T042418Z
LAST-MODIFIED:20241107T042418Z
UID:10000291-1734609600-1734616800@communityconnect.org.au
SUMMARY:CHRISTMAS LUNCH - SYDNEY ROWERS CLUB ABBOTSFORD
DESCRIPTION:Join Us for Christmas Lunch!\nWhere: SYDNEY ROWERS CLUB ABBOTSFORD\nWhen: THURSDAY DECEMBER 19\nTime: 12 – 2.00PM  Lunch: $50 per person \nCome along dressed in a Christmas theme of red\, green\nor white for our last Social Outing in 2024 and\nenjoy everyone’s company! \nCHRISTMAS LUNCH MENU \n\nMain: Choice of confit lamb rump or barramundi \nDessert: Platter choice of lemon meringue tart\, raspberry white chocolate sponge and chocolate ganache \n\nTransport Cost: $25 CHSP Clients / $35 All other Clients\nMinimum numbers are required for all out of area trips. Destinations can be subject to change  or cancellation depending on weather or availability to stop at location etc. Only Thursday Social Outings  have a Volunteer on board to assist\, please note Volunteers and Drivers offer limited assistance. Other days are for Independent Travellers and we ask that you bring a mobile phone to ensure we don’t leave you behind on the return trip! If you would like a Carer to accompany you\, you must advise us at the time of booking. For Non-Account and Cash clients pre-payment is required for these bookings.
URL:https://communityconnect.org.au/event/christmas-lunch-sydney-rowers-club-abbotsford/
ATTACH;FMTTYPE=image/jpeg:https://communityconnect.org.au/wp-content/uploads/2024/11/Sydney-Rowers-Abbotsford.jpg
END:VEVENT
END:VCALENDAR