BEGIN:VCALENDAR
VERSION:2.0
PRODID:-//Community Connect Transport - ECPv6.14.2//NONSGML v1.0//EN
CALSCALE:GREGORIAN
METHOD:PUBLISH
X-WR-CALNAME:Community Connect Transport
X-ORIGINAL-URL:https://communityconnect.org.au
X-WR-CALDESC:Events for Community Connect Transport
REFRESH-INTERVAL;VALUE=DURATION:PT1H
X-Robots-Tag:noindex
X-PUBLISHED-TTL:PT1H
BEGIN:VTIMEZONE
TZID:Australia/Sydney
BEGIN:STANDARD
TZOFFSETFROM:+1100
TZOFFSETTO:+1000
TZNAME:AEST
DTSTART:20250405T160000
END:STANDARD
BEGIN:DAYLIGHT
TZOFFSETFROM:+1000
TZOFFSETTO:+1100
TZNAME:AEDT
DTSTART:20251004T160000
END:DAYLIGHT
END:VTIMEZONE
BEGIN:VEVENT
DTSTART;TZID=Australia/Sydney:20250114T120000
DTEND;TZID=Australia/Sydney:20250114T140000
DTSTAMP:20260422T211921
CREATED:20250109T042611Z
LAST-MODIFIED:20250109T042758Z
UID:10000292-1736856000-1736863200@communityconnect.org.au
SUMMARY:Woolwich Pier Hotel
DESCRIPTION:Savour modern and classic cuisine at this picturesque setting overlooking iconic views of Sydney Harbour. \n  \nTransport Only cost:  $20 CHSP Clients \n  \n$30 All other Clients \n  \nLunch 12-2pm \n  \nIndependent Travellers only \, mobile phone required. \n 
URL:https://communityconnect.org.au/event/woolwich-pier-hotel-3/
ATTACH;FMTTYPE=image/png:https://communityconnect.org.au/wp-content/uploads/2025/01/Woolwich-Pier-Hotel.png
END:VEVENT
BEGIN:VEVENT
DTSTART;TZID=Australia/Sydney:20250116T000000
DTEND;TZID=Australia/Sydney:20250116T140000
DTSTAMP:20260422T211921
CREATED:20250109T043912Z
LAST-MODIFIED:20250109T044218Z
UID:10000293-1736985600-1737036000@communityconnect.org.au
SUMMARY:Carnarvon Golf Club- Lidcombe
DESCRIPTION:Enjoy  international cuisine at NottingHill 65 Bistro. \nRelax overlooking the luscious green golf course . Bring photo ID to sign into the venue . \nTransport cost only : $25 CHSP clients \,  $35 all other clients. \n  \nLunch 12- 2pm
URL:https://communityconnect.org.au/event/carnarvon-golf-club-lidcombe/
ATTACH;FMTTYPE=image/png:https://communityconnect.org.au/wp-content/uploads/2025/01/Carnarvon-Golf-Club.png
END:VEVENT
BEGIN:VEVENT
DTSTART;TZID=Australia/Sydney:20250121T110000
DTEND;TZID=Australia/Sydney:20250121T140000
DTSTAMP:20260422T211921
CREATED:20250109T045341Z
LAST-MODIFIED:20250109T045435Z
UID:10000294-1737457200-1737468000@communityconnect.org.au
SUMMARY:Art Gallery of NSW
DESCRIPTION:Come and explore the Art Gallery and sit down to enjoy a meal at the cafe on site.          For Independent travellers only and must bring a mobile phone. \n  \nTransport cost only: $20 CHSP clients\,  $30 All other clients .
URL:https://communityconnect.org.au/event/art-gallery-of-nsw-9/
ATTACH;FMTTYPE=image/png:https://communityconnect.org.au/wp-content/uploads/2025/01/Art-Gallery-NSW.png
END:VEVENT
BEGIN:VEVENT
DTSTART;TZID=Australia/Sydney:20250122T110000
DTEND;TZID=Australia/Sydney:20250122T140000
DTSTAMP:20260422T211921
CREATED:20250115T223529Z
LAST-MODIFIED:20250115T223529Z
UID:10000295-1737543600-1737554400@communityconnect.org.au
SUMMARY:Birkenhead Point DFO
DESCRIPTION:Birkenhead Point DFO \nAll your favourite discount shopping outlets\, a choice of coffee shops and eateries available in the Centre – browse & shop at leisure \nIndependent Travellers only \nRequires mobile phone \nTransport only: \n$20.00 CHSP Clients \n$30.00 All Other Clients \n  \nMinimum numbers are required for all out of area trips. Destinations can be subject to change  or cancellation depending on weather or availability to stop at location etc. Only Thursday Social Outings  have a Volunteer on board to assist\, please note Volunteers and Drivers offer limited assistance. Other days are for Independent Travellers and we ask that you bring a mobile phone to ensure we don’t leave you behind on the return trip! If you would like a Carer to accompany you\, you must advise us at the time of booking. For Non-Account and Cash clients pre-payment is required for these bookings.
URL:https://communityconnect.org.au/event/birkenhead-point-dfo-4/
ATTACH;FMTTYPE=image/jpeg:https://communityconnect.org.au/wp-content/uploads/2023/02/2022-08-18.jpg
END:VEVENT
BEGIN:VEVENT
DTSTART;TZID=Australia/Sydney:20250123T120000
DTEND;TZID=Australia/Sydney:20250123T140000
DTSTAMP:20260422T211921
CREATED:20250115T223837Z
LAST-MODIFIED:20250115T223837Z
UID:10000296-1737633600-1737640800@communityconnect.org.au
SUMMARY:Royal Motor Yacht Club - Pittwater
DESCRIPTION:Royal Motor Yacht Club – Pittwater \nAfter a scenic drive around the Northern Beaches arrive at this magnificent venue situated on Pittwater. Lunch at your own cost\, indulge in Specials from $25. \nBring Photo ID to sign into the venue \n  \nTransport only: \n$25.00 CHSP Clients \n$35.00 All Other Clients \nMinimum numbers are required for all out of area trips. Destinations can be subject to change  or cancellation depending on weather or availability to stop at location etc. Only Thursday Social Outings  have a Volunteer on board to assist\, please note Volunteers and Drivers offer limited assistance.
URL:https://communityconnect.org.au/event/royal-motor-yacht-club-pittwater-2/
ATTACH;FMTTYPE=image/jpeg:https://communityconnect.org.au/wp-content/uploads/2024/08/Yacht-Club-Pittwater.jpg
END:VEVENT
BEGIN:VEVENT
DTSTART;TZID=Australia/Sydney:20250128T110000
DTEND;TZID=Australia/Sydney:20250128T140000
DTSTAMP:20260422T211921
CREATED:20250115T230733Z
LAST-MODIFIED:20250115T230733Z
UID:10000297-1738062000-1738072800@communityconnect.org.au
SUMMARY:Western Sydney Airport - FREE Tour of Experience Centre
DESCRIPTION:Embark on a journey of discovery at the Western Sydney  International (WSI)  Experience Centre .  A community engagement and education hub designed to showcase the exciting developments of the growing Western Sydney Airport.  The Tour is inside the unique shaped centre with a media area for the public to sit and watch an immersive and interactive display  with a clear view of  the stunning  developing airport site. \nTransport cost only : $25 CHSP clients \,  $35 all other clients.    PRE-BOOKINGS required as only 10 spots for the tour.  Please call our office on 9490 9500 \nLunch at a local cafe after the Tour.
URL:https://communityconnect.org.au/event/western-sydney-airport-free-tour-of-experience-centre/
ATTACH;FMTTYPE=image/jpeg:https://communityconnect.org.au/wp-content/uploads/2025/01/WSI-Airport-Experience.jpg
END:VEVENT
BEGIN:VEVENT
DTSTART;TZID=Australia/Sydney:20250129T120000
DTEND;TZID=Australia/Sydney:20250129T140000
DTSTAMP:20260422T211921
CREATED:20250115T231606Z
LAST-MODIFIED:20250115T231626Z
UID:10000298-1738152000-1738159200@communityconnect.org.au
SUMMARY:Chinese New Year - Cabravale Diggers Club
DESCRIPTION:Chinese New Year – Cabravale Diggers Club \nCelebrate the Year of the Snake – Lunch at your own cost: Tastes of Asia at Horizons or the Bistro Menu \nIndependent Travellers only \nRequires a mobile phone \nBring photo ID to sign into venue \nTransport only: \n$25.00 CHSP Clients \n$35.00 All Other Clients \nMinimum numbers are required for all out of area trips. Destinations can be subject to change  or cancellation depending on weather or availability to stop at location etc. Only Thursday Social Outings  have a Volunteer on board to assist\, please note Volunteers and Drivers offer limited assistance. Other days are for Independent Travellers and we ask that you bring a mobile phone to ensure we don’t leave you behind on the return trip! If you would like a Carer to accompany you\, you must advise us at the time of booking. For Non-Account and Cash clients pre-payment is required for these bookings.
URL:https://communityconnect.org.au/event/chinese-new-year-dee-why-rsl-2/
ATTACH;FMTTYPE=image/jpeg:https://communityconnect.org.au/wp-content/uploads/2025/01/Cabravale-Diggers-Club-e1736983111398.jpg
END:VEVENT
BEGIN:VEVENT
DTSTART;TZID=Australia/Sydney:20250130T120000
DTEND;TZID=Australia/Sydney:20250130T140000
DTSTAMP:20260422T211921
CREATED:20250115T233825Z
LAST-MODIFIED:20250115T233825Z
UID:10000299-1738238400-1738245600@communityconnect.org.au
SUMMARY:Epping Club
DESCRIPTION:Come along and enjoy a scenic drive through Hunters Hill and Gladesville as we head up to the Epping Club.  The Cafe All Day Menu has delicious meals and snacks \, breakfast flavours to gourmet sandwiches and everyone’s favourite toasties.  Make some new friends and enjoy good company and conversations. \nTransport Only:  $25 CHSP clients \, $35 all other clients \nBring your photo ID to sign in . \n  \n 
URL:https://communityconnect.org.au/event/epping-club/
ATTACH;FMTTYPE=image/jpeg:https://communityconnect.org.au/wp-content/uploads/2025/01/Epping-Club-Seniors-Tea.jpg
END:VEVENT
END:VCALENDAR