BEGIN:VCALENDAR
VERSION:2.0
PRODID:-//Community Connect Transport - ECPv6.14.2//NONSGML v1.0//EN
CALSCALE:GREGORIAN
METHOD:PUBLISH
X-ORIGINAL-URL:https://communityconnect.org.au
X-WR-CALDESC:Events for Community Connect Transport
REFRESH-INTERVAL;VALUE=DURATION:PT1H
X-Robots-Tag:noindex
X-PUBLISHED-TTL:PT1H
BEGIN:VTIMEZONE
TZID:Australia/Sydney
BEGIN:STANDARD
TZOFFSETFROM:+1100
TZOFFSETTO:+1000
TZNAME:AEST
DTSTART:20250405T160000
END:STANDARD
BEGIN:DAYLIGHT
TZOFFSETFROM:+1000
TZOFFSETTO:+1100
TZNAME:AEDT
DTSTART:20251004T160000
END:DAYLIGHT
END:VTIMEZONE
BEGIN:VEVENT
DTSTART;TZID=Australia/Sydney:20250303T100000
DTEND;TZID=Australia/Sydney:20250303T113000
DTSTAMP:20260422T181343
CREATED:20250225T015958Z
LAST-MODIFIED:20250225T015958Z
UID:10000312-1740996000-1741001400@communityconnect.org.au
SUMMARY:Bunnings Chatswood - Shopping
DESCRIPTION:Bunnings Chatswood \nBrowse and Shop at your leisure\, pick up new supplies \nCafe on Site \nIndependent Travellers only \nRequires mobile phone \nTransport only: \n$15.00 CHSP Clients \n$25.00 All Other Clients \n  \nMinimum numbers are required for all out of area trips. Destinations can be subject to change  or cancellation depending on weather or availability to stop at location etc. Only Thursday Social Outings  have a Volunteer on board to assist\, please note Volunteers and Drivers offer limited assistance. Other days are for Independent Travellers and we ask that you bring a mobile phone to ensure we don’t leave you behind on the return trip! If you would like a Carer to accompany you\, you must advise us at the time of booking. For Non-Account and Cash clients pre-payment is required for these bookings.
URL:https://communityconnect.org.au/event/bunnings-chatswood-shopping-6/
ATTACH;FMTTYPE=image/jpeg:https://communityconnect.org.au/wp-content/uploads/2023/02/2022-05-05.jpg
END:VEVENT
BEGIN:VEVENT
DTSTART;TZID=Australia/Sydney:20250305T110000
DTEND;TZID=Australia/Sydney:20250305T140000
DTSTAMP:20260422T181343
CREATED:20250225T020603Z
LAST-MODIFIED:20250225T020603Z
UID:10000313-1741172400-1741183200@communityconnect.org.au
SUMMARY:Coffee Chat Time - Oliver Brown\, Crows Nest
DESCRIPTION:Coffee Chat Time – Oliver Brown\, Crows Nest \nEnjoy the Belgian Chocolate Cafe indulgences and local nearby shopping \nCatch up with friends\, meet new ones \n  \nIndependent Travellers only \nRequires a mobile phone \nTransport only: \n$15.00 CHSP Clients \n$25.00 All Other Clients \nMinimum numbers are required for all out of area trips. Destinations can be subject to change  or cancellation depending on weather or availability to stop at location etc. Only Thursday Social Outings  have a Volunteer on board to assist\, please note Volunteers and Drivers offer limited assistance. Other days are for Independent Travellers and we ask that you bring a mobile phone to ensure we don’t leave you behind on the return trip! If you would like a Carer to accompany you\, you must advise us at the time of booking. For Non-Account and Cash clients pre-payment is required for these bookings.
URL:https://communityconnect.org.au/event/coffee-chat-time-oliver-brown-crows-nest-3/
ATTACH;FMTTYPE=image/jpeg:https://communityconnect.org.au/wp-content/uploads/2023/12/Coffee-Chat-Time.jpg
END:VEVENT
BEGIN:VEVENT
DTSTART;TZID=Australia/Sydney:20250306T110000
DTEND;TZID=Australia/Sydney:20250306T130000
DTSTAMP:20260422T181343
CREATED:20250225T021625Z
LAST-MODIFIED:20250225T021735Z
UID:10000314-1741258800-1741266000@communityconnect.org.au
SUMMARY:Towradgie Beach Hotel
DESCRIPTION:Towradgie Beach Hotel \nScenic drive to an iconic venue on the South Coast\, where you can breathe in the ocean air. \nLunch at your own cost in the Brasserie\, choice of pasta\,\, burgers\, stone-baked pizza or taco’s. \nBring Photo ID to sign into the venue \nTransport only: \n$35.00 CHSP Clients \n$45.00 All Other Clients \nMinimum numbers are required for all out of area trips. Destinations can be subject to change  or cancellation depending on weather or availability to stop at location etc. Only Thursday Social Outings  have a Volunteer on board to assist\, please note Volunteers and Drivers offer limited assistance. Other days are for Independent Travellers and we ask that you bring a mobile phone to ensure we don’t leave you behind on the return trip! If you would like a Carer to accompany you\, you must advise us at the time of booking. For Non-Account and Cash clients pre-payment is required for these bookings.
URL:https://communityconnect.org.au/event/towradgie-beach-hotel/
ATTACH;FMTTYPE=image/jpeg:https://communityconnect.org.au/wp-content/uploads/2025/02/Towradgie-Beach-Hotel.jpg
END:VEVENT
BEGIN:VEVENT
DTSTART;TZID=Australia/Sydney:20250307T100000
DTEND;TZID=Australia/Sydney:20250307T110000
DTSTAMP:20260422T181343
CREATED:20250225T022402Z
LAST-MODIFIED:20250225T022429Z
UID:10000315-1741341600-1741345200@communityconnect.org.au
SUMMARY:Chatswood Library
DESCRIPTION:Stanton Library  – FREE  SENIORS FESTIVAL EVENT \nBook your place in the workshop -Blackout Poetry   \nCall the office by 5th March to enjoy a morning of literary creativity \, transforming newspapers\, magazines into thought provoking poetry. \nIndependent Travellers only \nRequires mobile phone \nTransport only: \n$15.00 CHSP Clients \n$25.00 All Other Clients \n  \nMinimum numbers are required for all out of area trips. Destinations can be subject to change  or cancellation depending on weather or availability to stop at location etc. Only Thursday Social Outings  have a Volunteer on board to assist\, please note Volunteers and Drivers offer limited assistance. Other days are for Independent Travellers and we ask that you bring a mobile phone to ensure we don’t leave you behind on the return trip! If you would like a Carer to accompany you\, you must advise us at the time of booking. For Non-Account and Cash clients pre-payment is required for these bookings.
URL:https://communityconnect.org.au/event/chatswood-library/
ATTACH;FMTTYPE=image/jpeg:https://communityconnect.org.au/wp-content/uploads/2025/02/Chatswood-Library.jpg
END:VEVENT
BEGIN:VEVENT
DTSTART;TZID=Australia/Sydney:20250310T140000
DTEND;TZID=Australia/Sydney:20250310T153000
DTSTAMP:20260422T181343
CREATED:20250225T024532Z
LAST-MODIFIED:20250225T024532Z
UID:10000316-1741615200-1741620600@communityconnect.org.au
SUMMARY:African Drumming Workshop
DESCRIPTION:Lane Cove Hub  – FREE  SENIORS FESTIVAL EVENT \nBook your place in the workshop -African Drumming  \nCall the office by 7th March to experience and participate in an interactive session of music\, dancing and showcase of West African traditions. \nIndependent Travellers only \nRequires mobile phone \nTransport only: \n$20.00 CHSP Clients \n$30.00 All Other Clients \n  \nMinimum numbers are required for all out of area trips. Destinations can be subject to change  or cancellation depending on weather or availability to stop at location etc. Only Thursday Social Outings  have a Volunteer on board to assist\, please note Volunteers and Drivers offer limited assistance. Other days are for Independent Travellers and we ask that you bring a mobile phone to ensure we don’t leave you behind on the return trip! If you would like a Carer to accompany you\, you must advise us at the time of booking. For Non-Account and Cash clients pre-payment is required for these bookings.
URL:https://communityconnect.org.au/event/african-drumming-workshop/
ATTACH;FMTTYPE=image/png:https://communityconnect.org.au/wp-content/uploads/2025/02/African-Drumming.png
END:VEVENT
BEGIN:VEVENT
DTSTART;TZID=Australia/Sydney:20250312T110000
DTEND;TZID=Australia/Sydney:20250312T130000
DTSTAMP:20260422T181343
CREATED:20250225T030608Z
LAST-MODIFIED:20250225T030608Z
UID:10000317-1741777200-1741784400@communityconnect.org.au
SUMMARY:Garden Party - Blackman Park
DESCRIPTION:FREE SENIORS FESTIVAL EVENT – Blackman Park Lane Cove  \nBook your place as this will be popular ! \nEnjoy a delicious morning tea\, try activities such as tai chi and walking soccer combined with lots of entertainment . Don on your sun hat\, hop on the bus and join others at this community event in Lane Cove. \nIndependent Travellers only \nRequires mobile phone \nTransport only: \n$15.00 CHSP Clients \n$25.00 All Other Clients \n  \nMinimum numbers are required for all out of area trips. Destinations can be subject to change  or cancellation depending on weather or availability to stop at location etc. Only Thursday Social Outings  have a Volunteer on board to assist\, please note Volunteers and Drivers offer limited assistance. Other days are for Independent Travellers and we ask that you bring a mobile phone to ensure we don’t leave you behind on the return trip! If you would like a Carer to accompany you\, you must advise us at the time of booking. For Non-Account and Cash clients pre-payment is required for these bookings.
URL:https://communityconnect.org.au/event/garden-party-blackman-park/
ATTACH;FMTTYPE=image/jpeg:https://communityconnect.org.au/wp-content/uploads/2025/02/Seniors-Week-Garden-Party.jpg
END:VEVENT
BEGIN:VEVENT
DTSTART;TZID=Australia/Sydney:20250313T100000
DTEND;TZID=Australia/Sydney:20250313T140000
DTSTAMP:20260422T181343
CREATED:20250225T030756Z
LAST-MODIFIED:20250225T030756Z
UID:10000318-1741860000-1741874400@communityconnect.org.au
SUMMARY:Museum of Fire - Penrith
DESCRIPTION:Museum of Fire Penrith \n\n\n\nThe Museum of Fire invites you to step back in time and immerse yourself into the fascinating world of fire and firefighting. Home to Australia’s largest collection of Fire Brigade vehicles and a vast display of objects\, equipment\, memorabilia and educational displays\, a visit to the Museum is suitable for everyone\, young and old. \nThe museum’s collection is of national significance and celebrates the important and heroic history of firefighters and fire services across Australia. Many of the items in the museum’s extensive heritage collection are listed on the State Heritage Register. \nLunch will be at Penrith Panthers Leagues Club . \n\nTransport Only : $35 CHSP clients \, $45 all other clients \n  \n\n​
URL:https://communityconnect.org.au/event/museum-of-fire-penrith-2/
ATTACH;FMTTYPE=image/png:https://communityconnect.org.au/wp-content/uploads/2025/01/Museum-of-Fire-Penrith.png
END:VEVENT
BEGIN:VEVENT
DTSTART;TZID=Australia/Sydney:20250314T111500
DTEND;TZID=Australia/Sydney:20250314T133000
DTSTAMP:20260422T181343
CREATED:20250225T032630Z
LAST-MODIFIED:20250225T032630Z
UID:10000319-1741950900-1741959000@communityconnect.org.au
SUMMARY:Seniors Festival - Come -n -Try
DESCRIPTION:North Sydney Community Centre  – FREE  SENIORS FESTIVAL EVENT \nBook your place by 10th April ! \nChoose from either a Tai Chi taster class (11.30 am – 12.20 pm) OR a Fitness Taster class (12.30-1.20pm)or both .  Cost $6.61 per class \nIndependent Travellers only \nRequires mobile phone \nTransport only: \n$15.00 CHSP Clients \n$25.00 All Other Clients \n  \nMinimum numbers are required for all out of area trips. Destinations can be subject to change  or cancellation depending on weather or availability to stop at location etc. Only Thursday Social Outings  have a Volunteer on board to assist\, please note Volunteers and Drivers offer limited assistance. Other days are for Independent Travellers and we ask that you bring a mobile phone to ensure we don’t leave you behind on the return trip! If you would like a Carer to accompany you\, you must advise us at the time of booking. For Non-Account and Cash clients pre-payment is required for these bookings.
URL:https://communityconnect.org.au/event/seniors-festival-come-n-try/
ATTACH;FMTTYPE=image/png:https://communityconnect.org.au/wp-content/uploads/2025/02/Nth-Sydney-Community-Centre.png
END:VEVENT
BEGIN:VEVENT
DTSTART;TZID=Australia/Sydney:20250317T100000
DTEND;TZID=Australia/Sydney:20250317T113000
DTSTAMP:20260422T181343
CREATED:20250225T033229Z
LAST-MODIFIED:20250225T033229Z
UID:10000320-1742205600-1742211000@communityconnect.org.au
SUMMARY:Honeysuckle Garden -Mosman
DESCRIPTION:Honeysuckle Garden Mosman  \nExplore the Nursery and gift shop.  \nBring home some plants or seedlings. \nIndependent Travellers only \nRequires mobile phone \nTransport only: \n$15.00 CHSP Clients \n$25.00 All Other Clients \n  \nMinimum numbers are required for all out of area trips. Destinations can be subject to change  or cancellation depending on weather or availability to stop at location etc. Only Thursday Social Outings  have a Volunteer on board to assist\, please note Volunteers and Drivers offer limited assistance. Other days are for Independent Travellers and we ask that you bring a mobile phone to ensure we don’t leave you behind on the return trip! If you would like a Carer to accompany you\, you must advise us at the time of booking. For Non-Account and Cash clients pre-payment is required for these bookings.
URL:https://communityconnect.org.au/event/honeysuckle-garden-mosman/
ATTACH;FMTTYPE=image/jpeg:https://communityconnect.org.au/wp-content/uploads/2025/02/Honeysuckle-Garden-Mosman.jpg
END:VEVENT
BEGIN:VEVENT
DTSTART;TZID=Australia/Sydney:20250319T110000
DTEND;TZID=Australia/Sydney:20250319T130000
DTSTAMP:20260422T181343
CREATED:20250225T041211Z
LAST-MODIFIED:20250225T041427Z
UID:10000321-1742382000-1742389200@communityconnect.org.au
SUMMARY:Brew-n-Banter - Fink Cafe Lane Cove
DESCRIPTION:Coffee Chat Time – Fink Cafe \, Lane Cove \nCatch up with friends\, meet new ones. \n  \nIndependent Travellers only \nRequires a mobile phone \nTransport only: \n$15.00 CHSP Clients \n$25.00 All Other Clients \nMinimum numbers are required for all out of area trips. Destinations can be subject to change  or cancellation depending on weather or availability to stop at location etc. Only Thursday Social Outings  have a Volunteer on board to assist\, please note Volunteers and Drivers offer limited assistance. Other days are for Independent Travellers and we ask that you bring a mobile phone to ensure we don’t leave you behind on the return trip! If you would like a Carer to accompany you\, you must advise us at the time of booking. For Non-Account and Cash clients pre-payment is required for these bookings.
URL:https://communityconnect.org.au/event/brew-n-banter-fink-cafe-lane-cove/
ATTACH;FMTTYPE=image/jpeg:https://communityconnect.org.au/wp-content/uploads/2025/02/Fink-Cafe.jpeg
END:VEVENT
BEGIN:VEVENT
DTSTART;TZID=Australia/Sydney:20250320T100000
DTEND;TZID=Australia/Sydney:20250320T140000
DTSTAMP:20260422T181343
CREATED:20250225T042648Z
LAST-MODIFIED:20250225T042648Z
UID:10000322-1742464800-1742479200@communityconnect.org.au
SUMMARY:Mount Annan Botanical Gardens
DESCRIPTION:Mount Annan Botanical Gardens \nScenic Drive Along The Way\, enjoy the largest collection in Australia of over 4\,000 natives. Most areas are accessible for those with walkers. \nCafe on site . Lunch at your own cost \nTransport only: \n$35.00 CHSP Clients \n$45.00 All Other Clients \n  \nMinimum numbers are required for all out of area trips. Destinations can be subject to change  or cancellation depending on weather or availability to stop at location etc. Only Thursday Social Outings  have a Volunteer on board to assist\, please note Volunteers and Drivers offer limited assistance. Other days are for Independent Travellers and we ask that you bring a mobile phone to ensure we don’t leave you behind on the return trip! If you would like a Carer to accompany you\, you must advise us at the time of booking. For Non-Account and Cash clients pre-payment is required for these bookings.
URL:https://communityconnect.org.au/event/mount-annan-botanical-gardens/
ATTACH;FMTTYPE=image/jpeg:https://communityconnect.org.au/wp-content/uploads/2025/02/Mount-Annan.jpg
END:VEVENT
BEGIN:VEVENT
DTSTART;TZID=Australia/Sydney:20250321T100000
DTEND;TZID=Australia/Sydney:20250321T113000
DTSTAMP:20260422T181343
CREATED:20250225T043408Z
LAST-MODIFIED:20250225T043549Z
UID:10000323-1742551200-1742556600@communityconnect.org.au
SUMMARY:Chatswood Library - Classic Hits
DESCRIPTION:Chatswood Library – FREE SENIORS FESTIVAL EVENT \nBook your place to attend a show of timeless tunes presented by Willoughby Council  \nSing along to classic hits\, rock-n-roll\, soul \, jazz \, pop or request your favourite tune to be played. \nIndependent Travellers only \nRequires mobile phone \nTransport only: \n$15.00 CHSP Clients \n$25.00 All Other Clients \n  \nMinimum numbers are required for all out of area trips. Destinations can be subject to change  or cancellation depending on weather or availability to stop at location etc. Only Thursday Social Outings  have a Volunteer on board to assist\, please note Volunteers and Drivers offer limited assistance. Other days are for Independent Travellers and we ask that you bring a mobile phone to ensure we don’t leave you behind on the return trip! If you would like a Carer to accompany you\, you must advise us at the time of booking. For Non-Account and Cash clients pre-payment is required for these bookings.
URL:https://communityconnect.org.au/event/chatswood-library-classic-hits/
ATTACH;FMTTYPE=image/jpeg:https://communityconnect.org.au/wp-content/uploads/2025/02/Chatswood-library-classic-hits.jpg
END:VEVENT
BEGIN:VEVENT
DTSTART;TZID=Australia/Sydney:20250324T100000
DTEND;TZID=Australia/Sydney:20250324T120000
DTSTAMP:20260422T181343
CREATED:20250225T044707Z
LAST-MODIFIED:20250225T044707Z
UID:10000324-1742810400-1742817600@communityconnect.org.au
SUMMARY:Seniors Concert- Lane Cove Choristers
DESCRIPTION:Seniors Concert – Lane Cove Choristers  \nMorning tea @ 10 am followed by a sing -along to favourite tunes. \nPlease call the office to book ahead to secure your seat by Fri 14th March. \nIndependent Travellers only \nRequires mobile phone \nTransport only: \n$20.00 CHSP Clients \n$30.00 All Other Clients \n  \nMinimum numbers are required for all out of area trips. Destinations can be subject to change  or cancellation depending on weather or availability to stop at location etc. Only Thursday Social Outings  have a Volunteer on board to assist\, please note Volunteers and Drivers offer limited assistance. Other days are for Independent Travellers and we ask that you bring a mobile phone to ensure we don’t leave you behind on the return trip! If you would like a Carer to accompany you\, you must advise us at the time of booking. For Non-Account and Cash clients pre-payment is required for these bookings.
URL:https://communityconnect.org.au/event/seniors-concert-lane-cove-choristers/
ATTACH;FMTTYPE=image/png:https://communityconnect.org.au/wp-content/uploads/2025/02/Lane-Cove-Choristers.png
END:VEVENT
BEGIN:VEVENT
DTSTART;TZID=Australia/Sydney:20250326T100000
DTEND;TZID=Australia/Sydney:20250326T120000
DTSTAMP:20260422T181343
CREATED:20250225T045229Z
LAST-MODIFIED:20250225T045229Z
UID:10000325-1742983200-1742990400@communityconnect.org.au
SUMMARY:Lane Cove Library - Moments in Music :Mozart
DESCRIPTION:Lane Cove Library –  FREE event highlighting the great Mozart  \nLearn about his life\, compositions of opera\, symphonies and choral music from local musician Graham Ball. \nCall the office to book a place by Mon 17th March. \nIndependent Travellers only \nRequires mobile phone \nTransport only: \n$25.00 CHSP Clients \n$35.00 All Other Clients \n  \nMinimum numbers are required for all out of area trips. Destinations can be subject to change  or cancellation depending on weather or availability to stop at location etc. Only Thursday Social Outings  have a Volunteer on board to assist\, please note Volunteers and Drivers offer limited assistance. Other days are for Independent Travellers and we ask that you bring a mobile phone to ensure we don’t leave you behind on the return trip! If you would like a Carer to accompany you\, you must advise us at the time of booking. For Non-Account and Cash clients pre-payment is required for these bookings.
URL:https://communityconnect.org.au/event/lane-cove-library-moments-in-music-mozart/
ATTACH;FMTTYPE=image/avif:https://communityconnect.org.au/wp-content/uploads/2025/02/Mozart.avif
END:VEVENT
BEGIN:VEVENT
DTSTART;TZID=Australia/Sydney:20250327T090000
DTEND;TZID=Australia/Sydney:20250327T160000
DTSTAMP:20260422T181343
CREATED:20250225T045628Z
LAST-MODIFIED:20250225T045628Z
UID:10000326-1743066000-1743091200@communityconnect.org.au
SUMMARY:Terrigal Hotel
DESCRIPTION:Terrigal Hotel and Scenic Drive to Central Coast   – LONG DAY TRIP ! \nEnjoy the ocean views in the Lagoon Bistro .Lunch at your own cost . \nIndependent Travellers only \nMobile phone required \nTransport only: \n$35.00 CHSP Clients \n$45.00 All Other Clients \nMinimum numbers are required for all out of area trips. Destinations can be subject to change  or cancellation depending on weather or availability to stop at location etc. Only Thursday Social Outings  have a Volunteer on board to assist\, please note Volunteers and Drivers offer limited assistance. Other days are for Independent Travellers and we ask that you bring a mobile phone to ensure we don’t leave you behind on the return trip! If you would like a Carer to accompany you\, you must advise us at the time of booking. For Non-Account and Cash clients pre-payment is required for these bookings.
URL:https://communityconnect.org.au/event/terrigal-hotel/
ATTACH;FMTTYPE=image/jpeg:https://communityconnect.org.au/wp-content/uploads/2025/02/Terrigal-Hotel.jpg
END:VEVENT
BEGIN:VEVENT
DTSTART;TZID=Australia/Sydney:20250328T100000
DTEND;TZID=Australia/Sydney:20250328T113000
DTSTAMP:20260422T181343
CREATED:20250225T045912Z
LAST-MODIFIED:20250225T045912Z
UID:10000327-1743156000-1743161400@communityconnect.org.au
SUMMARY:Coffee Chat Time - The Flying Bear Kirribilli
DESCRIPTION:Coffee Chat Time – The Flying Bear \, Kirribilli \nCatch up with friends\, meet new ones and enjoy some cake and conversations. \n  \nIndependent Travellers only \nRequires a mobile phone \nTransport only: \n$15.00 CHSP Clients \n$25.00 All Other Clients \nMinimum numbers are required for all out of area trips. Destinations can be subject to change  or cancellation depending on weather or availability to stop at location etc. Only Thursday Social Outings  have a Volunteer on board to assist\, please note Volunteers and Drivers offer limited assistance. Other days are for Independent Travellers and we ask that you bring a mobile phone to ensure we don’t leave you behind on the return trip! If you would like a Carer to accompany you\, you must advise us at the time of booking. For Non-Account and Cash clients pre-payment is required for these bookings.
URL:https://communityconnect.org.au/event/coffee-chat-time-the-flying-bear-kirribilli-2/
ATTACH;FMTTYPE=image/jpeg:https://communityconnect.org.au/wp-content/uploads/2023/12/Coffee-Chat-Time.jpg
END:VEVENT
BEGIN:VEVENT
DTSTART;TZID=Australia/Sydney:20250331T103000
DTEND;TZID=Australia/Sydney:20250331T140000
DTSTAMP:20260422T181343
CREATED:20250225T051430Z
LAST-MODIFIED:20250225T051430Z
UID:10000328-1743417000-1743429600@communityconnect.org.au
SUMMARY:FREE Weaving Workshop  - Dougherty Centre
DESCRIPTION:FREE  Weaving workshop – part of Willoughby Seniors Festival  \nUsing yarn and wool create your own masterpiece with the help of an Art Therapist. \nCall the office to book a place by Mon 5th March. \nIndependent Travellers only \nRequires mobile phone \nTransport only: \n$20.00 CHSP Clients \n$30.00 All Other Clients \n  \nMinimum numbers are required for all out of area trips. Destinations can be subject to change  or cancellation depending on weather or availability to stop at location etc. Only Thursday Social Outings  have a Volunteer on board to assist\, please note Volunteers and Drivers offer limited assistance. Other days are for Independent Travellers and we ask that you bring a mobile phone to ensure we don’t leave you behind on the return trip! If you would like a Carer to accompany you\, you must advise us at the time of booking. For Non-Account and Cash clients pre-payment is required for these bookings.
URL:https://communityconnect.org.au/event/free-weaving-workshop-dougherty-centre/
ATTACH;FMTTYPE=image/png:https://communityconnect.org.au/wp-content/uploads/2025/02/weaving.png
END:VEVENT
END:VCALENDAR