BEGIN:VCALENDAR
VERSION:2.0
PRODID:-//Community Connect Transport - ECPv6.14.2//NONSGML v1.0//EN
CALSCALE:GREGORIAN
METHOD:PUBLISH
X-ORIGINAL-URL:https://communityconnect.org.au
X-WR-CALDESC:Events for Community Connect Transport
REFRESH-INTERVAL;VALUE=DURATION:PT1H
X-Robots-Tag:noindex
X-PUBLISHED-TTL:PT1H
BEGIN:VTIMEZONE
TZID:Australia/Sydney
BEGIN:STANDARD
TZOFFSETFROM:+1100
TZOFFSETTO:+1000
TZNAME:AEST
DTSTART:20250405T160000
END:STANDARD
BEGIN:DAYLIGHT
TZOFFSETFROM:+1000
TZOFFSETTO:+1100
TZNAME:AEDT
DTSTART:20251004T160000
END:DAYLIGHT
END:VTIMEZONE
BEGIN:VEVENT
DTSTART;TZID=Australia/Sydney:20250702T120000
DTEND;TZID=Australia/Sydney:20250702T140000
DTSTAMP:20260422T121446
CREATED:20250625T015551Z
LAST-MODIFIED:20250625T015551Z
UID:10000351-1751457600-1751464800@communityconnect.org.au
SUMMARY:Coffee Chat Time - Oliver Brown\, Crows Nest
DESCRIPTION:Coffee Chat Time – Oliver Brown\, Crows Nest \nEnjoy the Belgian Chocolate Cafe indulgences and local nearby shopping \nCatch up with friends\, meet new ones \n  \nIndependent Travellers only \nRequires a mobile phone \nTransport only: \n$15.00 CHSP Clients \n$25.00 All Other Clients \nMinimum numbers are required for all out of area trips. Destinations can be subject to change  or cancellation depending on weather or availability to stop at location etc. Only Thursday Social Outings  have a Volunteer on board to assist\, please note Volunteers and Drivers offer limited assistance. Other days are for Independent Travellers and we ask that you bring a mobile phone to ensure we don’t leave you behind on the return trip! If you would like a Carer to accompany you\, you must advise us at the time of booking. For Non-Account and Cash clients pre-payment is required for these bookings.
URL:https://communityconnect.org.au/event/coffee-chat-time-oliver-brown-crows-nest-4/
ATTACH;FMTTYPE=image/jpeg:https://communityconnect.org.au/wp-content/uploads/2023/12/Coffee-Chat-Time.jpg
END:VEVENT
BEGIN:VEVENT
DTSTART;TZID=Australia/Sydney:20250703T100000
DTEND;TZID=Australia/Sydney:20250703T140000
DTSTAMP:20260422T121446
CREATED:20250625T020708Z
LAST-MODIFIED:20250625T020708Z
UID:10000352-1751536800-1751551200@communityconnect.org.au
SUMMARY:St George Sailing Club
DESCRIPTION:St George Sailing Club\, Sans Souci  \nLunch at your own cost at the Bistro of one of the oldest sailing clubs in Australia.  Overlooking the sparkling waters on the north eastern side of the Captain Cook Bridge. \nTransport only: \n$35.00 CHSP Clients \n$45.00 All Other Clients \nMinimum numbers are required for all out of area trips. Destinations can be subject to change  or cancellation depending on weather or availability to stop at location etc. Only Thursday Social Outings  have a Volunteer on board to assist\, please note Volunteers and Drivers offer limited assistance. Other days are for Independent Travellers and we ask that you bring a mobile phone to ensure we don’t leave you behind on the return trip! If you would like a Carer to accompany you\, you must advise us at the time of booking. For Non-Account and Cash clients pre-payment is required for these bookings.
URL:https://communityconnect.org.au/event/st-george-sailing-club/
ATTACH;FMTTYPE=image/jpeg:https://communityconnect.org.au/wp-content/uploads/2025/06/St-George-Sailing-Club.jpg
END:VEVENT
BEGIN:VEVENT
DTSTART;TZID=Australia/Sydney:20250707T120000
DTEND;TZID=Australia/Sydney:20250707T140000
DTSTAMP:20260422T121446
CREATED:20250625T022458Z
LAST-MODIFIED:20250625T022458Z
UID:10000354-1751889600-1751896800@communityconnect.org.au
SUMMARY:Eden Gardens - Macquarie Park
DESCRIPTION:Eden Gardens – Macquarie Park \nAs the centre is only open a few days a month to the public now – take advantage of this trip . We will stop at McDonalds to grab a coffee to then drop off so you can purchase plants or seedlings at Eden Gardens ! \n  \nIndependent Travellers only \nRequires a mobile phone \n  \nTransport only: \n$20.00 CHSP Clients \n$30.00 All Other Clients \nMinimum numbers are required for all out of area trips. Destinations can be subject to change  or cancellation depending on weather or availability to stop at location etc. Only Thursday Social Outings  have a Volunteer on board to assist\, please note Volunteers and Drivers offer limited assistance. Other days are for Independent Travellers and we ask that you bring a mobile phone to ensure we don’t leave you behind on the return trip! If you would like a Carer to accompany you\, you must advise us at the time of booking. For Non-Account and Cash clients pre-payment is required for these bookings.
URL:https://communityconnect.org.au/event/eden-gardens-macquarie-park-5/
ATTACH;FMTTYPE=image/webp:https://communityconnect.org.au/wp-content/uploads/2024/05/The_Spring_720x.webp
END:VEVENT
BEGIN:VEVENT
DTSTART;TZID=Australia/Sydney:20250710T100000
DTEND;TZID=Australia/Sydney:20250710T140000
DTSTAMP:20260422T121446
CREATED:20250625T033328Z
LAST-MODIFIED:20250625T033357Z
UID:10000355-1752141600-1752156000@communityconnect.org.au
SUMMARY:Jade Teahouse at the Camellia Gardens
DESCRIPTION:Jade Teahouse at Camelia Gardens – Caringbah \nThe Teahouse is a wonderful secluded destination within the E.J Waterhouse Camellia Gardens \, where they specialise in High Tea and Devonshire Tea. \nThe gardens overlook the beautiful; Yowie Bay and has an extensive plant collection and resident birds. Also home to endangered species like the Powerful Owl and the Grey-headed Flying Fox\, as well as many native ducks that enjoy walking around. \nIndependent Travellers only \nRequires a mobile phone \n  \nTransport only: \n$35.00 CHSP Clients \n$45.00 All Other Clients \nMinimum numbers are required for all out of area trips. Destinations can be subject to change  or cancellation depending on weather or availability to stop at location etc. Only Thursday Social Outings  have a Volunteer on board to assist\, please note Volunteers and Drivers offer limited assistance. Other days are for Independent Travellers and we ask that you bring a mobile phone to ensure we don’t leave you behind on the return trip! If you would like a Carer to accompany you\, you must advise us at the time of booking. For Non-Account and Cash clients pre-payment is required for these bookings.
URL:https://communityconnect.org.au/event/camelia-gardens/
ATTACH;FMTTYPE=image/jpeg:https://communityconnect.org.au/wp-content/uploads/2025/06/Camellia-Gardens.jpg
END:VEVENT
BEGIN:VEVENT
DTSTART;TZID=Australia/Sydney:20250711T110000
DTEND;TZID=Australia/Sydney:20250711T130000
DTSTAMP:20260422T121446
CREATED:20250625T034238Z
LAST-MODIFIED:20250625T035023Z
UID:10000356-1752231600-1752238800@communityconnect.org.au
SUMMARY:Coffee Chat Time
DESCRIPTION:Incinerator Cafe – Willoughby \nHoused in a converted building -one of 12 designed by Walter Burley Griffin in 1930’s. This eclectic cafe has a large outdoor and indoor areas. \n  \nIndependent Travellers only \nRequires a mobile phone \n  \nTransport only: \n$20.00 CHSP Clients \n$30.00 All Other Clients \nMinimum numbers are required for all out of area trips. Destinations can be subject to change  or cancellation depending on weather or availability to stop at location etc. Only Thursday Social Outings  have a Volunteer on board to assist\, please note Volunteers and Drivers offer limited assistance. Other days are for Independent Travellers and we ask that you bring a mobile phone to ensure we don’t leave you behind on the return trip! If you would like a Carer to accompany you\, you must advise us at the time of booking. For Non-Account and Cash clients pre-payment is required for these bookings.
URL:https://communityconnect.org.au/event/coffee-chat-time-5/
ATTACH;FMTTYPE=image/jpeg:https://communityconnect.org.au/wp-content/uploads/2025/06/Incinerator-Cafe.jpg
END:VEVENT
BEGIN:VEVENT
DTSTART;TZID=Australia/Sydney:20250716T110000
DTEND;TZID=Australia/Sydney:20250716T130000
DTSTAMP:20260422T121446
CREATED:20250625T035540Z
LAST-MODIFIED:20250625T035612Z
UID:10000358-1752663600-1752670800@communityconnect.org.au
SUMMARY:Coffee Chat Time - Soul Plate Cafe
DESCRIPTION:Soul Plate Cafe – Willoughby \nOffers modern cuisine at moderate prices. Indoor and outdoor seating with vegan options too. \nBring a friend or make some new friends. \n  \nIndependent Travellers only \nRequires a mobile phone \n  \nTransport only: \n$15.00 CHSP Clients \n$25.00 All Other Clients \nMinimum numbers are required for all out of area trips. Destinations can be subject to change  or cancellation depending on weather or availability to stop at location etc. Only Thursday Social Outings  have a Volunteer on board to assist\, please note Volunteers and Drivers offer limited assistance. Other days are for Independent Travellers and we ask that you bring a mobile phone to ensure we don’t leave you behind on the return trip! If you would like a Carer to accompany you\, you must advise us at the time of booking. For Non-Account and Cash clients pre-payment is required for these bookings.
URL:https://communityconnect.org.au/event/coffee-chat-time-soul-plate-cafe/
ATTACH;FMTTYPE=image/jpeg:https://communityconnect.org.au/wp-content/uploads/2025/06/Soul-Plate-Cafe.jpg
END:VEVENT
BEGIN:VEVENT
DTSTART;TZID=Australia/Sydney:20250717T100000
DTEND;TZID=Australia/Sydney:20250717T140000
DTSTAMP:20260422T121446
CREATED:20250625T035922Z
LAST-MODIFIED:20250625T035922Z
UID:10000359-1752746400-1752760800@communityconnect.org.au
SUMMARY:Yarra Bay Sailing Club
DESCRIPTION:Yarra Bay Sailing Club- La perouse \nLunch at Csalt on The Beach Bistro at your own cost. Quick stop on the way home at a Nuts & Chocolate shop to satisfy those with a sweet tooth. \n  \nBring photo ID to sign into venue \nTransport only: \n$35.00 CHSP Clients \n$45.00 All Other Clients \nMinimum numbers are required for all out of area trips. Destinations can be subject to change  or cancellation depending on weather or availability to stop at location etc. Only Thursday Social Outings  have a Volunteer on board to assist\, please note Volunteers and Drivers offer limited assistance. Other days are for Independent Travellers and we ask that you bring a mobile phone to ensure we don’t leave you behind on the return trip! If you would like a Carer to accompany you\, you must advise us at the time of booking. For Non-Account and Cash clients pre-payment is required for these bookings.
URL:https://communityconnect.org.au/event/yarra-bay-sailing-club-3/
ATTACH;FMTTYPE=image/jpeg:https://communityconnect.org.au/wp-content/uploads/2023/04/Yarra-Bay-Sailing-Club.jpg
END:VEVENT
BEGIN:VEVENT
DTSTART;TZID=Australia/Sydney:20250718T110000
DTEND;TZID=Australia/Sydney:20250718T140000
DTSTAMP:20260422T121446
CREATED:20250625T040044Z
LAST-MODIFIED:20250625T041534Z
UID:10000360-1752836400-1752847200@communityconnect.org.au
SUMMARY:Woolwich Pier Hotel
DESCRIPTION:Savour modern and classic cuisine at this picturesque setting overlooking iconic views of Sydney Harbour. \n  \nTransport Only cost:  $20 CHSP Clients \n  \n$30 All other Clients \n  \nLunch 12-2pm \n  \nIndependent Travellers only \, mobile phone required.  Minimum 5 people required for the outing to proceed. \n 
URL:https://communityconnect.org.au/event/woolwich-pier-hotel-4/
ATTACH;FMTTYPE=image/png:https://communityconnect.org.au/wp-content/uploads/2025/01/Woolwich-Pier-Hotel.png
END:VEVENT
BEGIN:VEVENT
DTSTART;TZID=Australia/Sydney:20250722T103000
DTEND;TZID=Australia/Sydney:20250722T123000
DTSTAMP:20260422T121446
CREATED:20250509T055855Z
LAST-MODIFIED:20250626T002812Z
UID:10000347-1753180200-1753187400@communityconnect.org.au
SUMMARY:Sweets & Chocolate Warehouse-Castle Hill
DESCRIPTION:Sweets & Chocolate Warehouse – Castle Hill  \nCome and check out the massive range of confectionery. Australia’s #1 chocolate and lolly warehouse open to the public.  All your favourite big brands such as Cadbury\, Darrell Lea\, Lindt and Chocolatier and the finest European selections. The cooking chocolate range is extensive and includes Callebaut\, Van Houten\, Alpha\, Nestle\, Cadbury\, and Lindt. \nIndependent Travellers only \nRequires a mobile phone \n  \nTransport only: \n$25.00 CHSP Clients \n$35.00 All Other Clients \nMinimum numbers are required for all out of area trips. Destinations can be subject to change  or cancellation depending on weather or availability to stop at location etc. Only Thursday Social Outings  have a Volunteer on board to assist\, please note Volunteers and Drivers offer limited assistance. Other days are for Independent Travellers and we ask that you bring a mobile phone to ensure we don’t leave you behind on the return trip! If you would like a Carer to accompany you\, you must advise us at the time of booking. For Non-Account and Cash clients pre-payment is required for these bookings.
URL:https://communityconnect.org.au/event/chocolate_warehouse-castle-hill/
ATTACH;FMTTYPE=image/jpeg:https://communityconnect.org.au/wp-content/uploads/2025/05/Choc-Factory-Castle-Hill.jpg
END:VEVENT
BEGIN:VEVENT
DTSTART;TZID=Australia/Sydney:20250723T120000
DTEND;TZID=Australia/Sydney:20250723T140000
DTSTAMP:20260422T121446
CREATED:20250626T002945Z
LAST-MODIFIED:20250626T002945Z
UID:10000362-1753272000-1753279200@communityconnect.org.au
SUMMARY:North Ryde RSL
DESCRIPTION:North Ryde RSL – Riverviews Bar & Dining \nLunch at your own cost – daily Seniors Lunch Specials from $15 \nGift Shop on site open from midday  – incredible selection of designer brands\, gift wares\, candles\, jewellery\, toys & stationery \nBring Photo ID to sign into the venue \n  \nTransport only: \n$20.00 CHSP Clients \n$30.00 All Other Clients \nMinimum numbers are required for all out of area trips. Destinations can be subject to change  or cancellation depending on weather or availability to stop at location etc. Only Thursday Social Outings  have a Volunteer on board to assist\, please note Volunteers and Drivers offer limited assistance. Other days are for Independent Travellers and we ask that you bring a mobile phone to ensure we don’t leave you behind on the return trip! If you would like a Carer to accompany you\, you must advise us at the time of booking. For Non-Account and Cash clients pre-payment is required for these bookings.
URL:https://communityconnect.org.au/event/north-ryde-rsl/
ATTACH;FMTTYPE=image/jpeg:https://communityconnect.org.au/wp-content/uploads/2024/05/North-Ryde-RSL-The-Green-Bar-1-1.jpg
END:VEVENT
BEGIN:VEVENT
DTSTART;TZID=Australia/Sydney:20250724T103000
DTEND;TZID=Australia/Sydney:20250724T140000
DTSTAMP:20260422T121446
CREATED:20250626T003830Z
LAST-MODIFIED:20250626T003830Z
UID:10000363-1753353000-1753365600@communityconnect.org.au
SUMMARY:Christmas in July - The Fiddler\, Rouse Hill
DESCRIPTION:Christmas in July – The Fiddler\, Rouse Hill      \n2-Course Traditional Christmas lunch with tea/coffee  – $60 per person\, pre paid by July 1st  \n1 hr exciting entertainment and a themed dining room \nCancellations non-refundable 14 days prior to the event \nIndependent Travellers only – exclusive to Community Connect Transport Clients \nRequires Mobile Phone \nLong Day\, early pick-ups \nTransport only: \n$35.00 CHSP Clients \n$45.00 All Other Clients \nMinimum numbers are required for all out of area trips. Destinations can be subject to change  or cancellation depending on weather or availability to stop at location etc. Only Thursday Social Outings  have a Volunteer on board to assist\, please note Volunteers and Drivers offer limited assistance. Other days are for Independent Travellers and we ask that you bring a mobile phone to ensure we don’t leave you behind on the return trip! If you would like a Carer to accompany you\, you must advise us at the time of booking. For Non-Account and Cash clients pre-payment is required for these bookings.
URL:https://communityconnect.org.au/event/christmas-in-july-the-fiddler-rouse-hill/
ATTACH;FMTTYPE=image/jpeg:https://communityconnect.org.au/wp-content/uploads/2025/06/Xmas-in-July-25.jpg
END:VEVENT
BEGIN:VEVENT
DTSTART;TZID=Australia/Sydney:20250728T110000
DTEND;TZID=Australia/Sydney:20250728T140000
DTSTAMP:20260422T121446
CREATED:20250626T005402Z
LAST-MODIFIED:20250626T005402Z
UID:10000364-1753700400-1753711200@communityconnect.org.au
SUMMARY:Cumberland State Forest
DESCRIPTION:Cumberland State Forest  \nStop at the Visitors Centre \, or the nursery and grab some seedlings or walk a trail in the Cumberland State Forest \nLunch at your own cost- cafe on site \nIndependent travellers – requires good mobility if enjoying walking track. \nTransport only: \n$20.00 CHSP Clients \n$30.00 All Other Clients \nMinimum numbers are required for all out of area trips. Destinations can be subject to change  or cancellation depending on weather or availability to stop at location etc. Only Thursday Social Outings  have a Volunteer on board to assist\, please note Volunteers and Drivers offer limited assistance. Other days are for Independent Travellers and we ask that you bring a mobile phone to ensure we don’t leave you behind on the return trip! If you would like a Carer to accompany you\, you must advise us at the time of booking. For Non-Account and Cash clients pre-payment is required for these bookings.
URL:https://communityconnect.org.au/event/cumberland-state-forest/
ATTACH;FMTTYPE=image/jpeg:https://communityconnect.org.au/wp-content/uploads/2025/06/Cumberland-State-Forest.jpg
END:VEVENT
BEGIN:VEVENT
DTSTART;TZID=Australia/Sydney:20250731T100000
DTEND;TZID=Australia/Sydney:20250731T160000
DTSTAMP:20260422T121446
CREATED:20250724T010013Z
LAST-MODIFIED:20250724T010013Z
UID:10000378-1753956000-1753977600@communityconnect.org.au
SUMMARY:Mangrove Mountain Memorial Club
DESCRIPTION:Enjoy lunch in a picturesque rural setting not far from Sydney\, with some of the finest views overlooking the 9 hole golf course. \nLunch at your own cost \n( Minimum  6 people registered for this outing to proceed. ) \nTransport only: \n$35.00 CHSP Clients \n$45.00 All Other Clients \nDestinations are subject to change depending on weather or availability to stop at location etc. Please be advised that our Thursday Social Outings are a full day event and pick ups may begin from 8.00am. Our outings are designed for independent travellers and the drivers/volunteers offer limited assistance. If you require a Carer to come along an extra $10.00 charge is addition to the bus fare will apply.
URL:https://communityconnect.org.au/event/mangrove-mountain-memorial-club/
ATTACH;FMTTYPE=image/jpeg:https://communityconnect.org.au/wp-content/uploads/2025/07/Mangrove-Mountain-CC.jpg
END:VEVENT
END:VCALENDAR