BEGIN:VCALENDAR
VERSION:2.0
PRODID:-//Community Connect Transport - ECPv6.14.2//NONSGML v1.0//EN
CALSCALE:GREGORIAN
METHOD:PUBLISH
X-ORIGINAL-URL:https://communityconnect.org.au
X-WR-CALDESC:Events for Community Connect Transport
REFRESH-INTERVAL;VALUE=DURATION:PT1H
X-Robots-Tag:noindex
X-PUBLISHED-TTL:PT1H
BEGIN:VTIMEZONE
TZID:Australia/Sydney
BEGIN:STANDARD
TZOFFSETFROM:+1100
TZOFFSETTO:+1000
TZNAME:AEST
DTSTART:20260404T160000
END:STANDARD
BEGIN:DAYLIGHT
TZOFFSETFROM:+1000
TZOFFSETTO:+1100
TZNAME:AEDT
DTSTART:20261003T160000
END:DAYLIGHT
END:VTIMEZONE
BEGIN:VEVENT
DTSTART;TZID=Australia/Sydney:20260106T100000
DTEND;TZID=Australia/Sydney:20260106T140000
DTSTAMP:20260422T023104
CREATED:20251215T014304Z
LAST-MODIFIED:20251215T014304Z
UID:10000420-1767693600-1767708000@communityconnect.org.au
SUMMARY:Hornsby RSL Club
DESCRIPTION:Hornsby RSL Club \nLunch at your own cost in The Courtyard. \nThe Courtyard is the heart of Hornsby RSL Club and provides three distinctive dining offerings in one area. Enjoy quintessential modern Australian favourites including premium steaks\, gourmet burger and tasty pastas\, or indulge in a selection of authentic Asian cuisine including dumpling and noodle dishes available from the Noodle Bar. The delicious dessert bar has irresistible cakes\, eclairs and pastries. \nBring Photo ID to sign into the venue \, minimum 8 people required for outing to proceed.  \nTransport only: \n$35.00 CHSP Clients \n$50.00 All Other Clients
URL:https://communityconnect.org.au/event/hornsby-rsl-club-2/
ATTACH;FMTTYPE=image/jpeg:https://communityconnect.org.au/wp-content/uploads/2024/08/Hornsby-RSL.jpg
END:VEVENT
BEGIN:VEVENT
DTSTART;TZID=Australia/Sydney:20260107T110000
DTEND;TZID=Australia/Sydney:20260107T130000
DTSTAMP:20260422T023104
CREATED:20231216T215615Z
LAST-MODIFIED:20251215T015124Z
UID:10000098-1767783600-1767790800@communityconnect.org.au
SUMMARY:Art Gallery of NSW
DESCRIPTION:Art Gallery of NSW \nExplore the gallery and browse at leisure.  \nIf you wish to visit the exhibition- Dangerously Modern Australian Women Artists Europe 1890 -1940 \, tickets can be purchased on the day @$32 pp \nThe art and lives of 50 trailblazing women in the emergence of international modernism. \nIndependent Travellers only \nRequires mobile phone \nCafe on site \nTransport only: \n$25.00 CHSP Clients \n$35.00 All Other Clients
URL:https://communityconnect.org.au/event/art-gallery-of-nsw/
ATTACH;FMTTYPE=image/jpeg:https://communityconnect.org.au/wp-content/uploads/2025/12/Dangerously-Modern-Women-Artists.jpg
END:VEVENT
BEGIN:VEVENT
DTSTART;TZID=Australia/Sydney:20260108T100000
DTEND;TZID=Australia/Sydney:20260108T140000
DTSTAMP:20260422T023104
CREATED:20251215T015846Z
LAST-MODIFIED:20251215T015846Z
UID:10000421-1767866400-1767880800@communityconnect.org.au
SUMMARY:Drummoyne Sailing Club
DESCRIPTION:Drummoyne Sailing Club  \nLunch at your own cost in Sailors Grill overlooking the water. \nSeniors Special mains from $23 \nBring Photo ID to sign into the venue \n  \nTransport only: \n$25.00 CHSP Clients \n$40.00 All Other Clients
URL:https://communityconnect.org.au/event/drummoyne-sailing-club-4/
ATTACH;FMTTYPE=image/jpeg:https://communityconnect.org.au/wp-content/uploads/2023/06/Drummoyne-Sailing-Club2.jpg
END:VEVENT
BEGIN:VEVENT
DTSTART;TZID=Australia/Sydney:20260109T100000
DTEND;TZID=Australia/Sydney:20260109T113000
DTSTAMP:20260422T023104
CREATED:20230216T235147Z
LAST-MODIFIED:20251215T020233Z
UID:10000037-1767952800-1767958200@communityconnect.org.au
SUMMARY:Bunnings Chatswood
DESCRIPTION:For all those repairs and small fix-it projects in your home. Travel today and miss the crowds on a weekend. \nTransport Only: $20 CHSP Clients or $35 All other Clients \nRequires mobile phone \nFor Independent travellers only \n  \n 
URL:https://communityconnect.org.au/event/bunnings-chatswood/
ATTACH;FMTTYPE=image/jpeg:https://communityconnect.org.au/wp-content/uploads/2023/02/2022-05-05.jpg
END:VEVENT
BEGIN:VEVENT
DTSTART;TZID=Australia/Sydney:20260112T100000
DTEND;TZID=Australia/Sydney:20260112T113000
DTSTAMP:20260422T023104
CREATED:20251215T020404Z
LAST-MODIFIED:20251215T020404Z
UID:10000422-1768212000-1768217400@communityconnect.org.au
SUMMARY:Westfield Chatswood - Shopping
DESCRIPTION:Westfield Chatswood  \nShopping at your leisure – visit all your favourite speciality stores \nIndependent Travellers Only \nRequires a mobile phone \n  \nTransport only: \n$20.00 CHSP Clients \n$35.00 All Other Clients \n 
URL:https://communityconnect.org.au/event/westfield-chatswood-shopping-7/
ATTACH;FMTTYPE=image/jpeg:https://communityconnect.org.au/wp-content/uploads/2023/02/2020-06-08.jpg
END:VEVENT
BEGIN:VEVENT
DTSTART;TZID=Australia/Sydney:20260115T100000
DTEND;TZID=Australia/Sydney:20260115T140000
DTSTAMP:20260422T023104
CREATED:20251215T020550Z
LAST-MODIFIED:20251215T022331Z
UID:10000423-1768471200-1768485600@communityconnect.org.au
SUMMARY:Doyles on the Wharf - Watsons Bay
DESCRIPTION:Doyles On the Wharf \nScenic drive with a stop at the Barnaby Lighthouse on the peninsular for those who wish to stretch their legs for a short walk\, before heading for lunch of traditional fish-n-chips. \nLunch at your own cost. \nTransport only: \n$35.00 CHSP Clients \n$50.00 All Other Clients
URL:https://communityconnect.org.au/event/doyles-on-the-beach/
ATTACH;FMTTYPE=image/jpeg:https://communityconnect.org.au/wp-content/uploads/2025/12/Doyles-on-the-beach.jpg
END:VEVENT
BEGIN:VEVENT
DTSTART;TZID=Australia/Sydney:20260119T100000
DTEND;TZID=Australia/Sydney:20260119T113000
DTSTAMP:20260422T023104
CREATED:20251215T022714Z
LAST-MODIFIED:20251215T022736Z
UID:10000425-1768816800-1768822200@communityconnect.org.au
SUMMARY:Coffee Chat Time- Incinerator Cafe at Willoughby
DESCRIPTION:Incinerator Cafe – Willoughby \nHoused in a converted building -one of 12 designed by Walter Burley Griffin in 1930’s. This eclectic cafe has a large outdoor and indoor areas. \n  \nIndependent Travellers only \nRequires a mobile phone \n  \nTransport only: \n$20.00 CHSP Clients \n$35.00 All Other Clients
URL:https://communityconnect.org.au/event/coffee-chat-time-coal-loader-waverton/
ATTACH;FMTTYPE=image/jpeg:https://communityconnect.org.au/wp-content/uploads/2025/06/Incinerator-Cafe.jpg
END:VEVENT
BEGIN:VEVENT
DTSTART;TZID=Australia/Sydney:20260120T110000
DTEND;TZID=Australia/Sydney:20260120T140000
DTSTAMP:20260422T023104
CREATED:20251215T023621Z
LAST-MODIFIED:20251215T023742Z
UID:10000426-1768906800-1768917600@communityconnect.org.au
SUMMARY:Viking Sports Club - Dundas
DESCRIPTION:Viking Sports Club – Dundas \nPart of the Parramatta League Club stable. Drive through Parramatta Park on the way. \nThe Family Bistro offers $15 lunch specials – chicken souvlaki\, crumbed calamari\, portugese chicken sandwich and beef burgers. \nLunch at your own cost. \nTransport only: \n$30.00 CHSP Clients \n$45.00 All Other Clients
URL:https://communityconnect.org.au/event/viking-sports-club-dundas/
ATTACH;FMTTYPE=image/jpeg:https://communityconnect.org.au/wp-content/uploads/2025/12/Viking-Sports-Club.jpg
END:VEVENT
BEGIN:VEVENT
DTSTART;TZID=Australia/Sydney:20260121T110000
DTEND;TZID=Australia/Sydney:20260121T140000
DTSTAMP:20260422T023104
CREATED:20240228T000023Z
LAST-MODIFIED:20251215T023902Z
UID:10000171-1768993200-1769004000@communityconnect.org.au
SUMMARY:St Ives Shopping Centre
DESCRIPTION:St Ives Shopping Centre \nBrowse and Shop at your leisure \nIndependent Travellers only \nRequires mobile phone \nTransport only: \n$30.00 CHSP Clients \n$45.00 All Other Clients \n 
URL:https://communityconnect.org.au/event/st-ives-shopping-centre/
ATTACH;FMTTYPE=image/jpeg:https://communityconnect.org.au/wp-content/uploads/2024/02/11A2322.jpg
END:VEVENT
BEGIN:VEVENT
DTSTART;TZID=Australia/Sydney:20260122T100000
DTEND;TZID=Australia/Sydney:20260122T140000
DTSTAMP:20260422T023104
CREATED:20251215T024227Z
LAST-MODIFIED:20251215T024529Z
UID:10000427-1769076000-1769090400@communityconnect.org.au
SUMMARY:The Cove Dining - Abbotsford
DESCRIPTION:The Cove Dining – Abbotsford  \nThe pavilion building has an airy rustic-chic feel with spacious indoor and outdoor seating. \nLunch at your own cost. \nTransport only: \n$30.00 CHSP Clients \n$45.00 All Other Clients
URL:https://communityconnect.org.au/event/the-cove-dining-abbotsford/
ATTACH;FMTTYPE=image/jpeg:https://communityconnect.org.au/wp-content/uploads/2025/12/The-Cove-Dining.jpg
END:VEVENT
BEGIN:VEVENT
DTSTART;TZID=Australia/Sydney:20260129T100000
DTEND;TZID=Australia/Sydney:20260129T160000
DTSTAMP:20260422T023104
CREATED:20251215T042443Z
LAST-MODIFIED:20251215T042443Z
UID:10000428-1769680800-1769702400@communityconnect.org.au
SUMMARY:Dural Club
DESCRIPTION:Dural Club \nLunch at your own cost at the kitchen with contemporary style and comforting classics with bold new flavours. \nStop at Swane’s Nursery on the way for those who want to pick up some seedlings or plants. \n  \nTransport only: \n$40.00 CHSP Clients \n$55.00 All Other Clients
URL:https://communityconnect.org.au/event/dural-club/
ATTACH;FMTTYPE=image/jpeg:https://communityconnect.org.au/wp-content/uploads/2023/11/Dural-Country-Club.jpg
END:VEVENT
BEGIN:VEVENT
DTSTART;TZID=Australia/Sydney:20260130T100000
DTEND;TZID=Australia/Sydney:20260130T130000
DTSTAMP:20260422T023104
CREATED:20251215T042556Z
LAST-MODIFIED:20251215T042556Z
UID:10000429-1769767200-1769778000@communityconnect.org.au
SUMMARY:Coffee Chat Time - Thelma & Louise
DESCRIPTION:Coffee Chat Time – Thelma & Louise \, Neutral Bay  \nA community space to catch up with friends\, meet new ones and enjoy some cake and conversations. \n  \nIndependent Travellers only \nRequires a mobile phone \nTransport only: \n$15.00 CHSP Clients \n$30.00 All Other Clients
URL:https://communityconnect.org.au/event/coffee-chat-time-thelma-louise-4/
ATTACH;FMTTYPE=image/jpeg:https://communityconnect.org.au/wp-content/uploads/2023/12/Coffee-Chat-Time.jpg
END:VEVENT
END:VCALENDAR